BEGIN:VCALENDAR
VERSION:2.0
PRODID:-//Startup Agenda - ECPv6.15.18//NONSGML v1.0//EN
CALSCALE:GREGORIAN
METHOD:PUBLISH
X-ORIGINAL-URL:https://startupagenda.nl
X-WR-CALDESC:Events for Startup Agenda
REFRESH-INTERVAL;VALUE=DURATION:PT1H
X-Robots-Tag:noindex
X-PUBLISHED-TTL:PT1H
BEGIN:VTIMEZONE
TZID:Europe/Amsterdam
BEGIN:DAYLIGHT
TZOFFSETFROM:+0100
TZOFFSETTO:+0200
TZNAME:CEST
DTSTART:20220327T010000
END:DAYLIGHT
BEGIN:STANDARD
TZOFFSETFROM:+0200
TZOFFSETTO:+0100
TZNAME:CET
DTSTART:20221030T010000
END:STANDARD
BEGIN:DAYLIGHT
TZOFFSETFROM:+0100
TZOFFSETTO:+0200
TZNAME:CEST
DTSTART:20230326T010000
END:DAYLIGHT
BEGIN:STANDARD
TZOFFSETFROM:+0200
TZOFFSETTO:+0100
TZNAME:CET
DTSTART:20231029T010000
END:STANDARD
BEGIN:DAYLIGHT
TZOFFSETFROM:+0100
TZOFFSETTO:+0200
TZNAME:CEST
DTSTART:20240331T010000
END:DAYLIGHT
BEGIN:STANDARD
TZOFFSETFROM:+0200
TZOFFSETTO:+0100
TZNAME:CET
DTSTART:20241027T010000
END:STANDARD
END:VTIMEZONE
BEGIN:VEVENT
DTSTART;TZID=Europe/Amsterdam:20230220T110000
DTEND;TZID=Europe/Amsterdam:20230220T120000
DTSTAMP:20260422T042605
CREATED:20230220T141032Z
LAST-MODIFIED:20230309T151803Z
UID:8763-1676890800-1676894400@startupagenda.nl
SUMMARY:EIT Digital Strategic Venture Workshop - ONLINE -
DESCRIPTION:We warmly invite you to attend our Strategic Venture Workshop which takes place as a fast-paced online event for digital start-ups and scaleups on Friday\, 31 March from 10:00 to 11:15 BST / 11:00 to 12:15 CEST. \nThe event is aimed at founders raising Pre-Seed and Seed funding of up to €400\,000 for customer and revenue development during 2023; and at scale-ups raising between €3m and €20m of Late-Seed and Series-A+ funding for growth in 2023. \nPlease register to join us at the EIT Digital Strategic Venture Workshop for ideas\, information and opportunities to advance your venture decisively in 2023.\nAgenda \n11:00 Welcome & Introduction – Martin Beaton \n11:05 EIT Digital Overview – Morgan Gillis \n11:20 Innovation Factory – Martin Beaton \n11:40 EIT Digital Accelerator – Ben McClure James Bamford \n12:00 Q&A / Next Steps – Martin Beaton
URL:https://startupagenda.nl/event/eit-digital-strategic-venture-workshop-online/
LOCATION:Online
ATTACH;FMTTYPE=image/png:https://startupagenda.nl/wp-content/uploads/2023/02/Screenshot-2023-02-20-at-16.06.22.png
END:VEVENT
END:VCALENDAR