BEGIN:VCALENDAR
VERSION:2.0
PRODID:-//Startup Agenda - ECPv6.15.18//NONSGML v1.0//EN
CALSCALE:GREGORIAN
METHOD:PUBLISH
X-ORIGINAL-URL:https://startupagenda.nl
X-WR-CALDESC:Events for Startup Agenda
REFRESH-INTERVAL;VALUE=DURATION:PT1H
X-Robots-Tag:noindex
X-PUBLISHED-TTL:PT1H
BEGIN:VTIMEZONE
TZID:Europe/Amsterdam
BEGIN:DAYLIGHT
TZOFFSETFROM:+0100
TZOFFSETTO:+0200
TZNAME:CEST
DTSTART:20240331T010000
END:DAYLIGHT
BEGIN:STANDARD
TZOFFSETFROM:+0200
TZOFFSETTO:+0100
TZNAME:CET
DTSTART:20241027T010000
END:STANDARD
BEGIN:DAYLIGHT
TZOFFSETFROM:+0100
TZOFFSETTO:+0200
TZNAME:CEST
DTSTART:20250330T010000
END:DAYLIGHT
BEGIN:STANDARD
TZOFFSETFROM:+0200
TZOFFSETTO:+0100
TZNAME:CET
DTSTART:20251026T010000
END:STANDARD
BEGIN:DAYLIGHT
TZOFFSETFROM:+0100
TZOFFSETTO:+0200
TZNAME:CEST
DTSTART:20260329T010000
END:DAYLIGHT
BEGIN:STANDARD
TZOFFSETFROM:+0200
TZOFFSETTO:+0100
TZNAME:CET
DTSTART:20261025T010000
END:STANDARD
END:VTIMEZONE
BEGIN:VEVENT
DTSTART;TZID=Europe/Amsterdam:20250407T153000
DTEND;TZID=Europe/Amsterdam:20250407T170000
DTSTAMP:20260422T211035
CREATED:20250303T200111Z
LAST-MODIFIED:20250303T200111Z
UID:9867-1744039800-1744045200@startupagenda.nl
SUMMARY:Protecting your ideas – applying patents and other intellectual property rights
DESCRIPTION:By Twan Uijttewaal\, RVO\nTraining | Basic\nIf you’re part of a startup or SME aiming to maintain its competitive edge\, this training can help. Our goal is to increase your awareness of intellectual property (IP) rights and how they can benefit your business. During the workshop\, we’ll look at practical examples of IP in collaborations and ownership and discuss the concept of “freedom to operate.” We’ll also highlight the importance of technical details in patent publications. This training is provided by the Netherlands Patent Office\, part of the Netherlands Enterprise Agency (RVO). \nThe training is in English \nSign up
URL:https://startupagenda.nl/event/protecting-your-ideas-applying-patents-and-other-intellectual-property-rights/
LOCATION:The Gate\, Het Eeuwsel 57 (TU/e - Hub Alpha\, 2e verdieping)\, Eindhoven\, 5612 AS\, Netherlands
ATTACH;FMTTYPE=image/jpeg:https://startupagenda.nl/wp-content/uploads/2025/03/Screenshot-2025-03-03-at-21.49.58.jpg
END:VEVENT
END:VCALENDAR