BEGIN:VCALENDAR
VERSION:2.0
PRODID:-//Startup Agenda - ECPv6.15.18//NONSGML v1.0//EN
CALSCALE:GREGORIAN
METHOD:PUBLISH
X-ORIGINAL-URL:https://startupagenda.nl
X-WR-CALDESC:Events for Startup Agenda
REFRESH-INTERVAL;VALUE=DURATION:PT1H
X-Robots-Tag:noindex
X-PUBLISHED-TTL:PT1H
BEGIN:VTIMEZONE
TZID:Europe/Amsterdam
BEGIN:DAYLIGHT
TZOFFSETFROM:+0100
TZOFFSETTO:+0200
TZNAME:CEST
DTSTART:20220327T010000
END:DAYLIGHT
BEGIN:STANDARD
TZOFFSETFROM:+0200
TZOFFSETTO:+0100
TZNAME:CET
DTSTART:20221030T010000
END:STANDARD
BEGIN:DAYLIGHT
TZOFFSETFROM:+0100
TZOFFSETTO:+0200
TZNAME:CEST
DTSTART:20230326T010000
END:DAYLIGHT
BEGIN:STANDARD
TZOFFSETFROM:+0200
TZOFFSETTO:+0100
TZNAME:CET
DTSTART:20231029T010000
END:STANDARD
BEGIN:DAYLIGHT
TZOFFSETFROM:+0100
TZOFFSETTO:+0200
TZNAME:CEST
DTSTART:20240331T010000
END:DAYLIGHT
BEGIN:STANDARD
TZOFFSETFROM:+0200
TZOFFSETTO:+0100
TZNAME:CET
DTSTART:20241027T010000
END:STANDARD
END:VTIMEZONE
BEGIN:VEVENT
DTSTART;TZID=Europe/Amsterdam:20230124T140000
DTEND;TZID=Europe/Amsterdam:20230124T170000
DTSTAMP:20260421T222318
CREATED:20230118T083406Z
LAST-MODIFIED:20230118T083406Z
UID:8618-1674568800-1674579600@startupagenda.nl
SUMMARY:B’WISE Showcase Event
DESCRIPTION:B’WISE wil 2023 goed aftrappen en daarom bent u hierbij \nvan harte uitgenodigd voor het B’WISE Showcase Event op 24 januari 2023 van 14.00 tot 16.30 uur. \n  \nAdres: Claudius Prinsenlaan 12 in Breda\, 3e verdieping \n  \nOmdat wij ons dagelijks begeven in een wereld van ondernemers\, onderwijs en overheid\, begrijpen wij heel goed hoe druk men het heeft. \nIn welk speelveld dan ook. Ook is januari voor de meesten een extra drukke maand. Er wordt enorm veel georganiseerd. Het event waar wij \nu voor uitnodigen\, duurt dan ook slechts 2\,5 uur. Wij hopen daarmee te bereiken dat het past in uw agenda. \n  \nOp 1 februari 2023 is het precies een jaar geleden dat B’WISE haar deuren opende. Wij willen u op 24 januari 2023 graag laten zien waar \nB’WISE vandaan komt\, na een jaar staat en naartoe aan het werken is. Kortom\, de meerwaarde en het bestaansrecht. Iets wat uiteraard niet \nmogelijk zou zijn geweest zonder al onze partners. \n  \nMaar de middag draait niet alleen om de incubator voor West-Brabant. De middag draait ook om de startups die binnen B’WISE gehuisvest zijn \nen onze interne community vormen. Hen bieden wij graag de gelegenheid om zichzelf aan u te presenteren\, een podium te geven. Loop rond\, \nmaak kennis met de ondernemers en hun product of dienst\, en ervaar het sterke communitygevoel! \n  \nTijdens deze middag zijn wij aangewezen op de vierkante meters van de incubator. Dat wil zeggen dat er beperkte beschikbaarheid is. Enkel \nde eerste 75 aanmelders kunnen deze middag terecht. Helaas geldt het principe: vol = vol! \n  \nAanmelden doet u eenvoudig door een e-mail te sturen naar events@bwise.tech en is mogelijk tot 12 januari 2023! \nGelieve in de e-mail uw naam en telefoonnummer te vermelden. Moeten wij rekening houden met een bepaald dieet of een allergie\, laat het \nons dan alstublieft meteen in diezelfde e-mail weten. \n  \nMeldt u zich aan\, en bent u één van de 75 dan hoeft u er vervolgens enkel voor te zorgen dat u tussen 13.30 en 14.00 uur binnen bent\, wij \nverzorgen de rest! \n  \nLet wel: we beginnen stipt om 14:00 uur! \n  \nNamens team B’WISE: heel graag tot 24 januari en alvast een hele fijne jaarwisseling gewenst!
URL:https://startupagenda.nl/event/bwise-showcase-event/
LOCATION:B’wise\, Claudius Prinsenlaan 12\, Breda\, 4811 DJ\, Netherlands
CATEGORIES:Competitions,Network Event
ATTACH;FMTTYPE=image/png:https://startupagenda.nl/wp-content/uploads/2023/01/Screenshot-2023-01-18-at-10.28.57.png
END:VEVENT
END:VCALENDAR