BEGIN:VCALENDAR
VERSION:2.0
PRODID:-//Startup Agenda - ECPv6.15.18//NONSGML v1.0//EN
CALSCALE:GREGORIAN
METHOD:PUBLISH
X-WR-CALNAME:Startup Agenda
X-ORIGINAL-URL:https://startupagenda.nl
X-WR-CALDESC:Events for Startup Agenda
REFRESH-INTERVAL;VALUE=DURATION:PT1H
X-Robots-Tag:noindex
X-PUBLISHED-TTL:PT1H
BEGIN:VTIMEZONE
TZID:Europe/Brussels
BEGIN:DAYLIGHT
TZOFFSETFROM:+0100
TZOFFSETTO:+0200
TZNAME:CEST
DTSTART:20230326T010000
END:DAYLIGHT
BEGIN:STANDARD
TZOFFSETFROM:+0200
TZOFFSETTO:+0100
TZNAME:CET
DTSTART:20231029T010000
END:STANDARD
BEGIN:DAYLIGHT
TZOFFSETFROM:+0100
TZOFFSETTO:+0200
TZNAME:CEST
DTSTART:20240331T010000
END:DAYLIGHT
BEGIN:STANDARD
TZOFFSETFROM:+0200
TZOFFSETTO:+0100
TZNAME:CET
DTSTART:20241027T010000
END:STANDARD
BEGIN:DAYLIGHT
TZOFFSETFROM:+0100
TZOFFSETTO:+0200
TZNAME:CEST
DTSTART:20250330T010000
END:DAYLIGHT
BEGIN:STANDARD
TZOFFSETFROM:+0200
TZOFFSETTO:+0100
TZNAME:CET
DTSTART:20251026T010000
END:STANDARD
END:VTIMEZONE
BEGIN:VTIMEZONE
TZID:Europe/Amsterdam
BEGIN:DAYLIGHT
TZOFFSETFROM:+0100
TZOFFSETTO:+0200
TZNAME:CEST
DTSTART:20210328T010000
END:DAYLIGHT
BEGIN:STANDARD
TZOFFSETFROM:+0200
TZOFFSETTO:+0100
TZNAME:CET
DTSTART:20211031T010000
END:STANDARD
BEGIN:DAYLIGHT
TZOFFSETFROM:+0100
TZOFFSETTO:+0200
TZNAME:CEST
DTSTART:20220327T010000
END:DAYLIGHT
BEGIN:STANDARD
TZOFFSETFROM:+0200
TZOFFSETTO:+0100
TZNAME:CET
DTSTART:20221030T010000
END:STANDARD
BEGIN:DAYLIGHT
TZOFFSETFROM:+0100
TZOFFSETTO:+0200
TZNAME:CEST
DTSTART:20230326T010000
END:DAYLIGHT
BEGIN:STANDARD
TZOFFSETFROM:+0200
TZOFFSETTO:+0100
TZNAME:CET
DTSTART:20231029T010000
END:STANDARD
END:VTIMEZONE
BEGIN:VEVENT
DTSTART;TZID=Europe/Brussels:20240902T020000
DTEND;TZID=Europe/Brussels:20240902T020000
DTSTAMP:20260423T061707
CREATED:20240717T052511Z
LAST-MODIFIED:20240807T052426Z
UID:9558-1725242400-1725242400@startupagenda.nl
SUMMARY:Regionale voorlichtingsbijeenkomst OPZuid 2024
DESCRIPTION:
URL:https://startupagenda.nl/event/regionale-voorlichtingsbijeenkomst-opzuid-2024/
LOCATION:Provinciehuis Den Bosch
ATTACH;FMTTYPE=image/jpeg:https://startupagenda.nl/wp-content/uploads/2024/07/csm_OPZuid-2024_regionale-voorlichtingsbijeenkomst_10243f1426-YQRMjP.tmp_.jpg
END:VEVENT
BEGIN:VEVENT
DTSTART;TZID=Europe/Brussels:20240901T020000
DTEND;TZID=Europe/Brussels:20240907T020000
DTSTAMP:20260423T061707
CREATED:20240618T040910Z
LAST-MODIFIED:20240618T040910Z
UID:9416-1725156000-1725674400@startupagenda.nl
SUMMARY:Ondernemersreis Provincies Shandong en Jiangsu in China - Intensieve veehouderij en toeleveranciers
DESCRIPTION:Ondernemersreis Provincies Shandong en Jiangsu in China – Intensieve veehouderij en toeleveranciers
URL:https://startupagenda.nl/event/ondernemersreis-provincies-shandong-en-jiangsu-in-china-intensieve-veehouderij-en-toeleveranciers/
ATTACH;FMTTYPE=image/jpeg:https://startupagenda.nl/wp-content/uploads/2024/06/666c3f1b2aa7f-YieY20.tmp_.jpg
END:VEVENT
BEGIN:VEVENT
DTSTART;TZID=Europe/Brussels:20240901T020000
DTEND;TZID=Europe/Brussels:20240901T020000
DTSTAMP:20260423T061707
CREATED:20240703T051133Z
LAST-MODIFIED:20240807T052426Z
UID:9495-1725156000-1725156000@startupagenda.nl
SUMMARY:High Tech Triathlon
DESCRIPTION:Sunday 01 September 2024\n09:00\n– 16:00\nHigh Tech Campus\nHigh Tech Triathlon
URL:https://startupagenda.nl/event/high-tech-triathlon/
ATTACH;FMTTYPE=image/jpeg:https://startupagenda.nl/wp-content/uploads/2024/07/Ontwerp-zonder-titel-65-odUFbB.tmp_.jpg
END:VEVENT
BEGIN:VEVENT
DTSTART;TZID=Europe/Brussels:20240826T170000
DTEND;TZID=Europe/Brussels:20240826T180000
DTSTAMP:20260423T061707
CREATED:20240618T040910Z
LAST-MODIFIED:20240807T052426Z
UID:9415-1724691600-1724695200@startupagenda.nl
SUMMARY:Finance Academy (Online Workshop for Startup Founders)
DESCRIPTION:Startup finance 💸 for dummies! Join our Finance Academy\, rated 4\,7/5 ⭐
URL:https://startupagenda.nl/event/finance-academy-online-workshop-for-startup-founders-5/
ATTACH;FMTTYPE=image/jpeg:https://startupagenda.nl/wp-content/uploads/2024/06/frontpage_Finance-Academy-47800x400-IuW8sa.tmp_.jpg
END:VEVENT
BEGIN:VEVENT
DTSTART;TZID=Europe/Brussels:20240819T170000
DTEND;TZID=Europe/Brussels:20240819T180000
DTSTAMP:20260423T061707
CREATED:20240618T040909Z
LAST-MODIFIED:20240807T052425Z
UID:9414-1724086800-1724090400@startupagenda.nl
SUMMARY:Investor Readiness Session (Online Workshop for Startup Founders)
DESCRIPTION:Learn how not to talk to investors 💸! Join our Investor Readiness Session\, rated 4\,6/5 ⭐
URL:https://startupagenda.nl/event/investor-readiness-session-online-workshop-for-startup-founders-12/
ATTACH;FMTTYPE=image/jpeg:https://startupagenda.nl/wp-content/uploads/2024/06/frontpage_Investor-Readiness-Session-46_800x400-gR3Nsd.tmp_.jpg
END:VEVENT
BEGIN:VEVENT
DTSTART;TZID=Europe/Amsterdam:20221107T200000
DTEND;TZID=Europe/Amsterdam:20221107T233000
DTSTAMP:20260423T061707
CREATED:20220829T130924Z
LAST-MODIFIED:20230727T085830Z
UID:7673-1667851200-1667863800@startupagenda.nl
SUMMARY:Startup Drinks Brabant
DESCRIPTION:Join us for the Startup Drinks Brabant. \nWe meet up over a beer to meet new people\, meet new startups\, share experiences and have some fun. All in a very laid back and informal setting. \nWant to attend? Questions\, ideas\, complaints\, remarks\, suggestions\, jokes? info@roundone.ventures \n 
URL:https://startupagenda.nl/event/startup-drinks-brabant/
CATEGORIES:Funding,Network Event
ATTACH;FMTTYPE=image/png:https://startupagenda.nl/wp-content/uploads/2022/08/Screenshot-2022-08-29-at-17.06.43.png
ORGANIZER;CN="Round One":MAILTO:info@roundone.ventures
END:VEVENT
BEGIN:VEVENT
DTSTART;TZID=Europe/Brussels:20240812T170000
DTEND;TZID=Europe/Brussels:20240812T180000
DTSTAMP:20260423T061707
CREATED:20240618T040909Z
LAST-MODIFIED:20240807T052425Z
UID:9412-1723482000-1723485600@startupagenda.nl
SUMMARY:Pitch Deck Clinic (Online Workshop for Startup Founders)
DESCRIPTION:Learn how to build a pitch deck 💻 Join our Pitch Deck Clinic\, rated 4\,7/5 ⭐
URL:https://startupagenda.nl/event/pitch-deck-clinic-online-workshop-for-startup-founders-6/
ATTACH;FMTTYPE=image/jpeg:https://startupagenda.nl/wp-content/uploads/2024/06/frontpage_Pitch-Deck-Clinic800x400-BPDQZ3.tmp_.jpg
END:VEVENT
BEGIN:VEVENT
DTSTART;TZID=Europe/Brussels:20240805T170000
DTEND;TZID=Europe/Brussels:20240805T180000
DTSTAMP:20260423T061707
CREATED:20240618T040908Z
LAST-MODIFIED:20240731T052527Z
UID:9411-1722877200-1722880800@startupagenda.nl
SUMMARY:Investor Readiness Session (Online Workshop for Startup Founders)
DESCRIPTION:Learn how not to talk to investors 💸! Join our Investor Readiness Session\, rated 4\,6/5 ⭐
URL:https://startupagenda.nl/event/investor-readiness-session-online-workshop-for-startup-founders-11/
ATTACH;FMTTYPE=image/jpeg:https://startupagenda.nl/wp-content/uploads/2024/06/frontpage_Investor-Readiness-Session-46_800x400-gR3Nsd.tmp_.jpg
END:VEVENT
BEGIN:VEVENT
DTSTART;TZID=Europe/Brussels:20240729T020000
DTEND;TZID=Europe/Brussels:20240729T020000
DTSTAMP:20260423T061707
CREATED:20240618T040907Z
LAST-MODIFIED:20240724T052506Z
UID:9409-1722218400-1722218400@startupagenda.nl
SUMMARY:Training Dutch for Internationals
DESCRIPTION:Monday 29 July 2024\n18:00\n– 20:00\nHTC 85 – Vitality Hub\nLanguage Institute Regina Coeli
URL:https://startupagenda.nl/event/training-dutch-for-internationals/
ATTACH;FMTTYPE=image/jpeg:https://startupagenda.nl/wp-content/uploads/2024/06/HTCE_groep_2_klas-x4G0VE.tmp_.jpg
END:VEVENT
BEGIN:VEVENT
DTSTART;TZID=Europe/Brussels:20240725T020000
DTEND;TZID=Europe/Brussels:20240725T020000
DTSTAMP:20260423T061707
CREATED:20240717T052452Z
LAST-MODIFIED:20240724T052505Z
UID:9555-1721872800-1721872800@startupagenda.nl
SUMMARY:Sustainable Campus Walk
DESCRIPTION:Thursday 25 July 2024\n11:45\n– 13:00\nHigh Tech Campus Eindhoven\, Lokl\nEurest
URL:https://startupagenda.nl/event/sustainable-campus-walk/
ATTACH;FMTTYPE=image/jpeg:https://startupagenda.nl/wp-content/uploads/2024/07/SocialMedia-Community-Initaitives-oaDHvY.tmp_.jpg
END:VEVENT
BEGIN:VEVENT
DTSTART;TZID=Europe/Brussels:20240723T020000
DTEND;TZID=Europe/Brussels:20240723T020000
DTSTAMP:20260423T061707
CREATED:20240618T040904Z
LAST-MODIFIED:20240717T052452Z
UID:9407-1721700000-1721700000@startupagenda.nl
SUMMARY:Wild Break July 2024
DESCRIPTION:Tuesday 23 July 2024\n12:00\n– 13:00\nFood Lab (food trucks)\nHigh Tech Campus Eindhoven
URL:https://startupagenda.nl/event/wild-break-july-2024/
ATTACH;FMTTYPE=image/jpeg:https://startupagenda.nl/wp-content/uploads/2024/06/1648021502979-anB6In.tmp_.jpg
END:VEVENT
BEGIN:VEVENT
DTSTART;TZID=Europe/Brussels:20240718T180000
DTEND;TZID=Europe/Brussels:20240718T190000
DTSTAMP:20260423T061707
CREATED:20240618T040904Z
LAST-MODIFIED:20240717T052452Z
UID:9406-1721325600-1721329200@startupagenda.nl
SUMMARY:Foundations of Successful Angel Investing (Online Workshop for Rookie Angels)
DESCRIPTION:Startup investing 💸 step-by-step for rookie and potential angels. Join our Foundations of Successful Angel Investing\, rated 4\,6/5 ⭐
URL:https://startupagenda.nl/event/foundations-of-successful-angel-investing-online-workshop-for-rookie-angels-2/
ATTACH;FMTTYPE=image/jpeg:https://startupagenda.nl/wp-content/uploads/2024/06/frontpage_Foundations-of-Angel-Investing800x400-AZpKso.tmp_.jpg
END:VEVENT
BEGIN:VEVENT
DTSTART;TZID=Europe/Brussels:20240717T170000
DTEND;TZID=Europe/Brussels:20240717T180000
DTSTAMP:20260423T061707
CREATED:20240618T040903Z
LAST-MODIFIED:20240717T052452Z
UID:9405-1721235600-1721239200@startupagenda.nl
SUMMARY:Round Table Session - One Hour Version (Online Event for Investors and Startups)
DESCRIPTION:Meet investors & startups live 💬 For investors 💸: meet new startups and spot trends. For startups 🚀: test your story with real investors. It’s casual: everyone is contributing. Join the Round Table Session – One Hour Compact Version.
URL:https://startupagenda.nl/event/round-table-session-one-hour-version-online-event-for-investors-and-startups-6/
ATTACH;FMTTYPE=image/jpeg:https://startupagenda.nl/wp-content/uploads/2024/06/frontpage_New-Power-Hour800x400-OXywad.tmp_.jpg
END:VEVENT
BEGIN:VEVENT
DTSTART;TZID=Europe/Brussels:20240715T170000
DTEND;TZID=Europe/Brussels:20240715T180000
DTSTAMP:20260423T061707
CREATED:20240618T040902Z
LAST-MODIFIED:20240710T052423Z
UID:9404-1721062800-1721066400@startupagenda.nl
SUMMARY:Investor Readiness Session (Online Workshop for Startup Founders)
DESCRIPTION:Learn how not to talk to investors 💸! Join our Investor Readiness Session\, rated 4\,6/5 ⭐
URL:https://startupagenda.nl/event/investor-readiness-session-online-workshop-for-startup-founders-10/
ATTACH;FMTTYPE=image/jpeg:https://startupagenda.nl/wp-content/uploads/2024/06/frontpage_Investor-Readiness-Session-46_800x400-gR3Nsd.tmp_.jpg
END:VEVENT
BEGIN:VEVENT
DTSTART;TZID=Europe/Brussels:20240710T020000
DTEND;TZID=Europe/Brussels:20240710T020000
DTSTAMP:20260423T061707
CREATED:20240703T051114Z
LAST-MODIFIED:20240703T051114Z
UID:9484-1720576800-1720576800@startupagenda.nl
SUMMARY:AI MeetUp 2024
DESCRIPTION:
URL:https://startupagenda.nl/event/ai-meetup-2024/
LOCATION:AI Innovation Center (HTC5)\, High Tech Campus Eindhoven
ATTACH;FMTTYPE=image/jpeg:https://startupagenda.nl/wp-content/uploads/2024/07/csm_AI-MeetUp-beeldmerk_8dde8036b3-wldOcK.tmp_.jpg
END:VEVENT
BEGIN:VEVENT
DTSTART;TZID=Europe/Brussels:20240710T020000
DTEND;TZID=Europe/Brussels:20240710T020000
DTSTAMP:20260423T061707
CREATED:20240703T051110Z
LAST-MODIFIED:20240703T051110Z
UID:9481-1720576800-1720576800@startupagenda.nl
SUMMARY:AI Meet-Up: Summer Edition 2024
DESCRIPTION:Wednesday 10 July 2024\n15:30\n– 18:30\nAI Innovation Center\nAI Innovation Center
URL:https://startupagenda.nl/event/ai-meet-up-summer-edition-2024/
ATTACH;FMTTYPE=image/jpeg:https://startupagenda.nl/wp-content/uploads/2024/07/AI-Meetup-Summer-Edition-2024-bxLmax.tmp_.jpg
END:VEVENT
BEGIN:VEVENT
DTSTART;TZID=Europe/Brussels:20240710T020000
DTEND;TZID=Europe/Brussels:20240710T020000
DTSTAMP:20260423T061707
CREATED:20240703T051106Z
LAST-MODIFIED:20240703T051106Z
UID:9479-1720576800-1720576800@startupagenda.nl
SUMMARY:Open Office Day at the AI Innovation Center
DESCRIPTION:Wednesday 10 July 2024\n09:00\n– 17:00\nAI Innovation Center\nAI Innovation Center
URL:https://startupagenda.nl/event/open-office-day-at-the-ai-innovation-center/
ATTACH;FMTTYPE=image/jpeg:https://startupagenda.nl/wp-content/uploads/2024/07/Open-Office-Day-AI-Innovation-Center-Flyer-8TJgUK.tmp_.jpg
END:VEVENT
BEGIN:VEVENT
DTSTART;TZID=Europe/Brussels:20240709T020000
DTEND;TZID=Europe/Brussels:20240709T020000
DTSTAMP:20260423T061707
CREATED:20240703T051056Z
LAST-MODIFIED:20240703T051056Z
UID:9477-1720490400-1720490400@startupagenda.nl
SUMMARY:Finding a rental home and school in the Netherlands
DESCRIPTION:Tuesday 09 July 2024\n13:00\n– 14:00\nOnline Webinar\nExpat Housing Office
URL:https://startupagenda.nl/event/finding-a-rental-home-and-school-in-the-netherlands/
ATTACH;FMTTYPE=image/jpeg:https://startupagenda.nl/wp-content/uploads/2024/07/Screenshot-28-06-2024-at-10_09-o8fpJV.tmp_.jpg
END:VEVENT
BEGIN:VEVENT
DTSTART;TZID=Europe/Amsterdam:20221107T200000
DTEND;TZID=Europe/Amsterdam:20221107T233000
DTSTAMP:20260423T061707
CREATED:20220829T130924Z
LAST-MODIFIED:20230727T085830Z
UID:7673-1667851200-1667863800@startupagenda.nl
SUMMARY:Startup Drinks Brabant
DESCRIPTION:Join us for the Startup Drinks Brabant. \nWe meet up over a beer to meet new people\, meet new startups\, share experiences and have some fun. All in a very laid back and informal setting. \nWant to attend? Questions\, ideas\, complaints\, remarks\, suggestions\, jokes? info@roundone.ventures \n 
URL:https://startupagenda.nl/event/startup-drinks-brabant/
CATEGORIES:Funding,Network Event
ATTACH;FMTTYPE=image/png:https://startupagenda.nl/wp-content/uploads/2022/08/Screenshot-2022-08-29-at-17.06.43.png
ORGANIZER;CN="Round One":MAILTO:info@roundone.ventures
END:VEVENT
BEGIN:VEVENT
DTSTART;TZID=Europe/Brussels:20240708T170000
DTEND;TZID=Europe/Brussels:20240708T180000
DTSTAMP:20260423T061707
CREATED:20240618T040846Z
LAST-MODIFIED:20240703T051055Z
UID:9402-1720458000-1720461600@startupagenda.nl
SUMMARY:Pitch Deck Clinic (Online Workshop for Startup Founders)
DESCRIPTION:Learn how to build a pitch deck 💻 Join our Pitch Deck Clinic\, rated 4\,7/5 ⭐
URL:https://startupagenda.nl/event/pitch-deck-clinic-online-workshop-for-startup-founders/
ATTACH;FMTTYPE=image/jpeg:https://startupagenda.nl/wp-content/uploads/2024/06/frontpage_Pitch-Deck-Clinic800x400-rcw8TZ.tmp_.jpg
END:VEVENT
BEGIN:VEVENT
DTSTART;TZID=Europe/Brussels:20240705T170000
DTEND;TZID=Europe/Brussels:20240705T180000
DTSTAMP:20260423T061707
CREATED:20240618T040846Z
LAST-MODIFIED:20240703T051053Z
UID:9400-1720198800-1720202400@startupagenda.nl
SUMMARY:Round Table Session (Online Event for Investors & Startups)
DESCRIPTION:Meet investors & startups live 💬! For investors 💸: meet new startups and spot trends. For startups 🚀: test your story with real investors. It’s casual: everyone is contributing. Join the Round Table Session.
URL:https://startupagenda.nl/event/round-table-session-online-event-for-investors-startups-9/
ATTACH;FMTTYPE=image/jpeg:https://startupagenda.nl/wp-content/uploads/2024/06/frontpage_New-Round-Table-Session800x400-3SZeEg.tmp_.jpg
END:VEVENT
BEGIN:VEVENT
DTSTART;TZID=Europe/Brussels:20240704T020000
DTEND;TZID=Europe/Brussels:20240704T020000
DTSTAMP:20260423T061707
CREATED:20240618T040830Z
LAST-MODIFIED:20240703T051052Z
UID:9396-1720058400-1720058400@startupagenda.nl
SUMMARY:Elevating Commercial Excellence in Discrete Manufacturing
DESCRIPTION:Thursday 04 July 2024\n12:00\n– 15:30\nNextview Design Thinking Center – High Tech Campus 27\, Eindhoven\nNextview Design Thinking Center
URL:https://startupagenda.nl/event/elevating-commercial-excellence-in-discrete-manufacturing/
ATTACH;FMTTYPE=image/jpeg:https://startupagenda.nl/wp-content/uploads/2024/06/3904-1-bRvkCM.tmp_.jpg
END:VEVENT
BEGIN:VEVENT
DTSTART;TZID=Europe/Brussels:20240704T020000
DTEND;TZID=Europe/Brussels:20240704T020000
DTSTAMP:20260423T061707
CREATED:20240618T040830Z
LAST-MODIFIED:20240618T040830Z
UID:9398-1720058400-1720058400@startupagenda.nl
SUMMARY:Housing event Lunch&Learn HTC Summer Edition
DESCRIPTION:Thursday 04 July 2024\n12:00\n– 14:00\nThe Summer tent on the HTC Event square at the lake\nExpat Housing Office
URL:https://startupagenda.nl/event/housing-event-lunchlearn-htc-summer-edition/
ATTACH;FMTTYPE=image/jpeg:https://startupagenda.nl/wp-content/uploads/2024/06/LunchLearn-HTC-Summer-tent-event-wwJDWy.tmp_.jpg
END:VEVENT
BEGIN:VEVENT
DTSTART;TZID=Europe/Brussels:20240704T020000
DTEND;TZID=Europe/Brussels:20240704T020000
DTSTAMP:20260423T061707
CREATED:20240618T040827Z
LAST-MODIFIED:20240618T040827Z
UID:9394-1720058400-1720058400@startupagenda.nl
SUMMARY:Housing Event: lunch&learn - HTC tent edition
DESCRIPTION:Thursday 04 July 2024\n12:00\n– 14:00\nSummer Tent\, HTC Event Square\nExpat Housing Office
URL:https://startupagenda.nl/event/housing-event-lunchlearn-htc-tent-edition/
ATTACH;FMTTYPE=image/jpeg:https://startupagenda.nl/wp-content/uploads/2024/06/LinkedIn-visual-mJ6S0n.tmp_.jpg
END:VEVENT
BEGIN:VEVENT
DTSTART;TZID=Europe/Brussels:20240703T020000
DTEND;TZID=Europe/Brussels:20240703T020000
DTSTAMP:20260423T061707
CREATED:20240618T040826Z
LAST-MODIFIED:20240618T040826Z
UID:9392-1719972000-1719972000@startupagenda.nl
SUMMARY:Metalot @ Work
DESCRIPTION:
URL:https://startupagenda.nl/event/metalot-work/
LOCATION:Fieldlab of Metalot located in Budel\nRandweg-Zuid 34\, 6021 PT Budel
ATTACH;FMTTYPE=image/jpeg:https://startupagenda.nl/wp-content/uploads/2024/06/csm_Metalot40Work_236a45cc20-gEcJX1.tmp_.jpg
END:VEVENT
BEGIN:VEVENT
DTSTART;TZID=Europe/Brussels:20240703T020000
DTEND;TZID=Europe/Brussels:20240703T020000
DTSTAMP:20260423T061707
CREATED:20240618T040825Z
LAST-MODIFIED:20240618T040825Z
UID:9389-1719972000-1719972000@startupagenda.nl
SUMMARY:Gerard & Anton Awards 2024
DESCRIPTION:Wednesday 03 July 2024\n17:00\n– 20:00\nSummer Tent\, Event Square\, High Tech Campus Eindhoven\nHigh Tech Campus Eindhoven
URL:https://startupagenda.nl/event/gerard-anton-awards-2024/
ATTACH;FMTTYPE=image/jpeg:https://startupagenda.nl/wp-content/uploads/2024/06/Gerard-Anton-Awards-6bOpsp.tmp_.jpg
END:VEVENT
BEGIN:VEVENT
DTSTART;TZID=Europe/Brussels:20240702T020000
DTEND;TZID=Europe/Brussels:20240702T020000
DTSTAMP:20260423T061707
CREATED:20240618T040824Z
LAST-MODIFIED:20240618T040824Z
UID:9387-1719885600-1719885600@startupagenda.nl
SUMMARY:Brainport Meet-Up
DESCRIPTION:
URL:https://startupagenda.nl/event/brainport-meet-up/
ATTACH;FMTTYPE=image/jpeg:https://startupagenda.nl/wp-content/uploads/2024/06/csm_Brainport_meetup_2f54553f6e-1yBmdP.tmp_.jpg
END:VEVENT
BEGIN:VEVENT
DTSTART;TZID=Europe/Brussels:20240701T170000
DTEND;TZID=Europe/Brussels:20240701T180000
DTSTAMP:20260423T061707
CREATED:20240618T040823Z
LAST-MODIFIED:20240618T040823Z
UID:9385-1719853200-1719856800@startupagenda.nl
SUMMARY:Investor Readiness Session (Online Workshop for Startup Founders)
DESCRIPTION:Learn how not to talk to investors 💸! Join our Investor Readiness Session\, rated 4\,6/5 ⭐
URL:https://startupagenda.nl/event/investor-readiness-session-online-workshop-for-startup-founders-9/
ATTACH;FMTTYPE=image/jpeg:https://startupagenda.nl/wp-content/uploads/2024/06/frontpage_Investor-Readiness-Session-46_800x400-gR3Nsd.tmp_.jpg
END:VEVENT
BEGIN:VEVENT
DTSTART;TZID=Europe/Brussels:20240701T020000
DTEND;TZID=Europe/Brussels:20240701T020000
DTSTAMP:20260423T061707
CREATED:20240618T040821Z
LAST-MODIFIED:20240618T040821Z
UID:9383-1719799200-1719799200@startupagenda.nl
SUMMARY:Einstein Telescope for Business Event
DESCRIPTION:
URL:https://startupagenda.nl/event/einstein-telescope-for-business-event/
LOCATION:MECC Maastricht\n100 Forum 6229 GV Maastricht
ATTACH;FMTTYPE=image/jpeg:https://startupagenda.nl/wp-content/uploads/2024/06/csm_Anna_Gimbrere_0ad5ae3d33-zU46iC.tmp_.jpg
END:VEVENT
BEGIN:VEVENT
DTSTART;TZID=Europe/Brussels:20240701T020000
DTEND;TZID=Europe/Brussels:20240701T020000
DTSTAMP:20260423T061708
CREATED:20240618T040806Z
LAST-MODIFIED:20240618T040806Z
UID:9380-1719799200-1719799200@startupagenda.nl
SUMMARY:Fontys ICT Graduation Conference
DESCRIPTION:
URL:https://startupagenda.nl/event/fontys-ict-graduation-conference/
LOCATION:Fontys ICT\, Rachelsmolen 1\, Gebouw R10\, Eindhoven\nFontys ICT\, Stappegoor\, Gebouw P8\, Tilburg
ATTACH;FMTTYPE=image/jpeg:https://startupagenda.nl/wp-content/uploads/2024/06/csm_Foto_Graduation_Conference_ict_792d62408b-malaXZ.tmp_.jpg
END:VEVENT
END:VCALENDAR