BEGIN:VCALENDAR
VERSION:2.0
PRODID:-//Startup Agenda - ECPv6.15.20//NONSGML v1.0//EN
CALSCALE:GREGORIAN
METHOD:PUBLISH
X-ORIGINAL-URL:https://startupagenda.nl
X-WR-CALDESC:Events for Startup Agenda
REFRESH-INTERVAL;VALUE=DURATION:PT1H
X-Robots-Tag:noindex
X-PUBLISHED-TTL:PT1H
BEGIN:VTIMEZONE
TZID:Europe/Amsterdam
BEGIN:DAYLIGHT
TZOFFSETFROM:+0100
TZOFFSETTO:+0200
TZNAME:CEST
DTSTART:20210328T010000
END:DAYLIGHT
BEGIN:STANDARD
TZOFFSETFROM:+0200
TZOFFSETTO:+0100
TZNAME:CET
DTSTART:20211031T010000
END:STANDARD
BEGIN:DAYLIGHT
TZOFFSETFROM:+0100
TZOFFSETTO:+0200
TZNAME:CEST
DTSTART:20220327T010000
END:DAYLIGHT
BEGIN:STANDARD
TZOFFSETFROM:+0200
TZOFFSETTO:+0100
TZNAME:CET
DTSTART:20221030T010000
END:STANDARD
BEGIN:DAYLIGHT
TZOFFSETFROM:+0100
TZOFFSETTO:+0200
TZNAME:CEST
DTSTART:20230326T010000
END:DAYLIGHT
BEGIN:STANDARD
TZOFFSETFROM:+0200
TZOFFSETTO:+0100
TZNAME:CET
DTSTART:20231029T010000
END:STANDARD
END:VTIMEZONE
BEGIN:VEVENT
DTSTART;TZID=Europe/Amsterdam:20221216T140000
DTEND;TZID=Europe/Amsterdam:20221216T170000
DTSTAMP:20260424T071522
CREATED:20221130T144440Z
LAST-MODIFIED:20221130T144440Z
UID:8025-1671199200-1671210000@startupagenda.nl
SUMMARY:Startup Jobs at JOBFAIRXL
DESCRIPTION:Join us on December 16th for a unique opportunity to explore the startup world\, get to know more about HighTechXL\, expand your network and find a job or internship with an impact startup. \nDeep-tech ventures in our current cohort and alumni teams are recruiting talent of all kinds\, including team members\, interns\, mentors and advisors. If you would like to join a deep-tech venture and contribute your skills to solving grand societal challenges\, this event is for you! \nWe’ll have company pitches\, Q&A with female founders\, networking and drinks. \n📅 December 16th\n🕑 Job Fair 14:00-17:00; Drinks 17:00-18:00\n📍 HighTechXL\, HTC 27 \nCompanies joining JobFairXL\nSenergetics\nInner\nMikron.X\nAstrape\nVitalWear\nIncooling\nCarbyon\nDynaxion\nAvoxt\n\n\n\n\n\n\n\n\n\n\n\n\n\n\nREGISTER FOR JOBFAIRXL
URL:https://startupagenda.nl/event/startup-jobs-at-jobfairxl/
LOCATION:High Tech Campus Eindhoven\, High Tech Campus 1\, Eindhoven\, Netherlands
CATEGORIES:Conference,Network Event
ATTACH;FMTTYPE=image/png:https://startupagenda.nl/wp-content/uploads/2022/11/Screenshot-2022-11-30-at-16.43.43.png
ORGANIZER;CN="HighTechXL":MAILTO:5656 AE, Eindhoven more information info@hightechxl.com
END:VEVENT
END:VCALENDAR