BEGIN:VCALENDAR
VERSION:2.0
PRODID:-//Startup Agenda - ECPv6.15.20//NONSGML v1.0//EN
CALSCALE:GREGORIAN
METHOD:PUBLISH
X-ORIGINAL-URL:https://startupagenda.nl
X-WR-CALDESC:Events for Startup Agenda
REFRESH-INTERVAL;VALUE=DURATION:PT1H
X-Robots-Tag:noindex
X-PUBLISHED-TTL:PT1H
BEGIN:VTIMEZONE
TZID:Europe/Amsterdam
BEGIN:DAYLIGHT
TZOFFSETFROM:+0100
TZOFFSETTO:+0200
TZNAME:CEST
DTSTART:20210328T010000
END:DAYLIGHT
BEGIN:STANDARD
TZOFFSETFROM:+0200
TZOFFSETTO:+0100
TZNAME:CET
DTSTART:20211031T010000
END:STANDARD
BEGIN:DAYLIGHT
TZOFFSETFROM:+0100
TZOFFSETTO:+0200
TZNAME:CEST
DTSTART:20220327T010000
END:DAYLIGHT
BEGIN:STANDARD
TZOFFSETFROM:+0200
TZOFFSETTO:+0100
TZNAME:CET
DTSTART:20221030T010000
END:STANDARD
BEGIN:DAYLIGHT
TZOFFSETFROM:+0100
TZOFFSETTO:+0200
TZNAME:CEST
DTSTART:20230326T010000
END:DAYLIGHT
BEGIN:STANDARD
TZOFFSETFROM:+0200
TZOFFSETTO:+0100
TZNAME:CET
DTSTART:20231029T010000
END:STANDARD
END:VTIMEZONE
BEGIN:VEVENT
DTSTART;TZID=Europe/Amsterdam:20220927T160000
DTEND;TZID=Europe/Amsterdam:20220927T170000
DTSTAMP:20260424T021220
CREATED:20220608T064522Z
LAST-MODIFIED:20220920T063145Z
UID:7367-1664294400-1664298000@startupagenda.nl
SUMMARY:Venture Talks
DESCRIPTION:VENTURE TALKS #6\nFlitsbezorging en de 24-uurseconomie\nIs er nog toekomst voor fysieke winkels? Wat zijn de consequenties van de 24-uurseconomie? Hoe ziet de binnenstad er over een aantal jaar eruit? Deze vragen staan centraal tijdens de 6e editie van Venture Talks op 27 september bij Grasso in Den Bosch. Samen met onder andere Tom Pais van Gorillas\, de koploper in flitsbezorging\, gaan we met elkaar het gesprek aan. Doe jij mee? \nOnder leiding van presentator Rudy van Beurden delen ondernemers hun ervaringen. Je hoort niet alleen inspirerende praktijkverhalen van succesvolle bedrijven\, maar krijgt ook een indruk van de kansen en uitdagingen van de gemeente Den Bosch op het gebied van de 24-uurseconomie. \nVENTURE TALKS is er voor alle ondernemers en studenten in de regio en inwoners van Den Bosch met een interesse in ondernemerschap. \nRegistreren
URL:https://startupagenda.nl/event/venture-talks/
LOCATION:Grasso\, Parallelweg 27\, 's-Hertogenbosch\, Netherlands
CATEGORIES:Conference,Network Event
ATTACH;FMTTYPE=image/png:https://startupagenda.nl/wp-content/uploads/2022/06/Venture-Talks-header.png
END:VEVENT
END:VCALENDAR