BEGIN:VCALENDAR
VERSION:2.0
PRODID:-//Startup Agenda - ECPv6.15.18//NONSGML v1.0//EN
CALSCALE:GREGORIAN
METHOD:PUBLISH
X-WR-CALNAME:Startup Agenda
X-ORIGINAL-URL:https://startupagenda.nl
X-WR-CALDESC:Events for Startup Agenda
REFRESH-INTERVAL;VALUE=DURATION:PT1H
X-Robots-Tag:noindex
X-PUBLISHED-TTL:PT1H
BEGIN:VTIMEZONE
TZID:Europe/Amsterdam
BEGIN:DAYLIGHT
TZOFFSETFROM:+0100
TZOFFSETTO:+0200
TZNAME:CEST
DTSTART:20210328T010000
END:DAYLIGHT
BEGIN:STANDARD
TZOFFSETFROM:+0200
TZOFFSETTO:+0100
TZNAME:CET
DTSTART:20211031T010000
END:STANDARD
BEGIN:DAYLIGHT
TZOFFSETFROM:+0100
TZOFFSETTO:+0200
TZNAME:CEST
DTSTART:20220327T010000
END:DAYLIGHT
BEGIN:STANDARD
TZOFFSETFROM:+0200
TZOFFSETTO:+0100
TZNAME:CET
DTSTART:20221030T010000
END:STANDARD
BEGIN:DAYLIGHT
TZOFFSETFROM:+0100
TZOFFSETTO:+0200
TZNAME:CEST
DTSTART:20230326T010000
END:DAYLIGHT
BEGIN:STANDARD
TZOFFSETFROM:+0200
TZOFFSETTO:+0100
TZNAME:CET
DTSTART:20231029T010000
END:STANDARD
END:VTIMEZONE
BEGIN:VEVENT
DTSTART;TZID=Europe/Amsterdam:20220502T150000
DTEND;TZID=Europe/Amsterdam:20220502T170000
DTSTAMP:20260422T214136
CREATED:20220422T115315Z
LAST-MODIFIED:20220422T115316Z
UID:7235-1651503600-1651510800@startupagenda.nl
SUMMARY:Entrepreneurship\, Data & Logistics kick-off Event
DESCRIPTION:JADS and DPD NL are happy to invite you to their Entrepreneurship\, Data & Logistics kick-off! \nDuring this event\, we will take you through some exciting opportunities for you as a student\, entrepreneur or incubator/accelerator to get your business ideas off the ground and get support from DPD and JADS. We aim to make a contribution to operational\, social and global challenges in the following topics: \n– Gadgets & Sensors\n– Green Logistics\n– Robotics \nYou will also learn about the new DPD Corporate Venturing initiatives and how they work together with startups. \nLocation: JADS\, Mariënburg Campus\, Sint Janssingel 92\, ‘s-Hertogenbosch \nProgram:\n15.00-15.15 Walk-in\n15.15-15.50 JADS & DPD NL introduction\n15.50-16.00 Student & Start-up challenges\n16.00-16.15 Partnership kick-off\n16.15-17.00 Open bar in the JADS Atrium
URL:https://startupagenda.nl/event/entrepreneurship-data-logistics-kick-off-event/
LOCATION:JADS\, Sint Janssingel 92\, Den Bosch\, Netherlands
CATEGORIES:Competitions,Conference,Network Event
ATTACH;FMTTYPE=image/png:https://startupagenda.nl/wp-content/uploads/2022/04/DPD-2560px-DPD_logo_2015.svg_.png
ORGANIZER;CN="JADS Playground":MAILTO:playground@jads.nl
END:VEVENT
END:VCALENDAR