BEGIN:VCALENDAR
VERSION:2.0
PRODID:-//Startup Agenda - ECPv6.15.20//NONSGML v1.0//EN
CALSCALE:GREGORIAN
METHOD:PUBLISH
X-WR-CALNAME:Startup Agenda
X-ORIGINAL-URL:https://startupagenda.nl
X-WR-CALDESC:Events for Startup Agenda
REFRESH-INTERVAL;VALUE=DURATION:PT1H
X-Robots-Tag:noindex
X-PUBLISHED-TTL:PT1H
BEGIN:VTIMEZONE
TZID:Europe/Amsterdam
BEGIN:DAYLIGHT
TZOFFSETFROM:+0100
TZOFFSETTO:+0200
TZNAME:CEST
DTSTART:20210328T010000
END:DAYLIGHT
BEGIN:STANDARD
TZOFFSETFROM:+0200
TZOFFSETTO:+0100
TZNAME:CET
DTSTART:20211031T010000
END:STANDARD
BEGIN:DAYLIGHT
TZOFFSETFROM:+0100
TZOFFSETTO:+0200
TZNAME:CEST
DTSTART:20220327T010000
END:DAYLIGHT
BEGIN:STANDARD
TZOFFSETFROM:+0200
TZOFFSETTO:+0100
TZNAME:CET
DTSTART:20221030T010000
END:STANDARD
BEGIN:DAYLIGHT
TZOFFSETFROM:+0100
TZOFFSETTO:+0200
TZNAME:CEST
DTSTART:20230326T010000
END:DAYLIGHT
BEGIN:STANDARD
TZOFFSETFROM:+0200
TZOFFSETTO:+0100
TZNAME:CET
DTSTART:20231029T010000
END:STANDARD
END:VTIMEZONE
BEGIN:VEVENT
DTSTART;TZID=Europe/Amsterdam:20220420T163000
DTEND;TZID=Europe/Amsterdam:20220420T180000
DTSTAMP:20260423T074442
CREATED:20220404T111251Z
LAST-MODIFIED:20220404T111325Z
UID:7180-1650472200-1650477600@startupagenda.nl
SUMMARY:Workshop Business Consultancy by SAP
DESCRIPTION:Learn the basics of agile project management and business consultancy\, presented by Maarten Maassen\, Agile Coach\, SAP Signavio – Black Belt and ex-Principal Business Transformation Consultant. \nJoin this hands-on and interactive workshop. \nRegister here. Only 40 seats available.
URL:https://startupagenda.nl/event/workshop-business-consultancy-by-sap/
LOCATION:JADS\, Sint Janssingel 92\, Den Bosch\, Netherlands
CATEGORIES:Event with Tickets,Live Events,Network Event,Workshops
ATTACH;FMTTYPE=image/png:https://startupagenda.nl/wp-content/uploads/2022/04/Screenshot-2022-04-04-at-14.53.31.png
ORGANIZER;CN="JADS Playground":MAILTO:playground@jads.nl
END:VEVENT
END:VCALENDAR