BEGIN:VCALENDAR
VERSION:2.0
PRODID:-//Startup Agenda - ECPv6.15.20//NONSGML v1.0//EN
CALSCALE:GREGORIAN
METHOD:PUBLISH
X-WR-CALNAME:Startup Agenda
X-ORIGINAL-URL:https://startupagenda.nl
X-WR-CALDESC:Events for Startup Agenda
REFRESH-INTERVAL;VALUE=DURATION:PT1H
X-Robots-Tag:noindex
X-PUBLISHED-TTL:PT1H
BEGIN:VTIMEZONE
TZID:Europe/Amsterdam
BEGIN:DAYLIGHT
TZOFFSETFROM:+0100
TZOFFSETTO:+0200
TZNAME:CEST
DTSTART:20210328T010000
END:DAYLIGHT
BEGIN:STANDARD
TZOFFSETFROM:+0200
TZOFFSETTO:+0100
TZNAME:CET
DTSTART:20211031T010000
END:STANDARD
BEGIN:DAYLIGHT
TZOFFSETFROM:+0100
TZOFFSETTO:+0200
TZNAME:CEST
DTSTART:20220327T010000
END:DAYLIGHT
BEGIN:STANDARD
TZOFFSETFROM:+0200
TZOFFSETTO:+0100
TZNAME:CET
DTSTART:20221030T010000
END:STANDARD
BEGIN:DAYLIGHT
TZOFFSETFROM:+0100
TZOFFSETTO:+0200
TZNAME:CEST
DTSTART:20230326T010000
END:DAYLIGHT
BEGIN:STANDARD
TZOFFSETFROM:+0200
TZOFFSETTO:+0100
TZNAME:CET
DTSTART:20231029T010000
END:STANDARD
END:VTIMEZONE
BEGIN:VTIMEZONE
TZID:Europe/Paris
BEGIN:DAYLIGHT
TZOFFSETFROM:+0100
TZOFFSETTO:+0200
TZNAME:CEST
DTSTART:20210328T010000
END:DAYLIGHT
BEGIN:STANDARD
TZOFFSETFROM:+0200
TZOFFSETTO:+0100
TZNAME:CET
DTSTART:20211031T010000
END:STANDARD
BEGIN:DAYLIGHT
TZOFFSETFROM:+0100
TZOFFSETTO:+0200
TZNAME:CEST
DTSTART:20220327T010000
END:DAYLIGHT
BEGIN:STANDARD
TZOFFSETFROM:+0200
TZOFFSETTO:+0100
TZNAME:CET
DTSTART:20221030T010000
END:STANDARD
BEGIN:DAYLIGHT
TZOFFSETFROM:+0100
TZOFFSETTO:+0200
TZNAME:CEST
DTSTART:20230326T010000
END:DAYLIGHT
BEGIN:STANDARD
TZOFFSETFROM:+0200
TZOFFSETTO:+0100
TZNAME:CET
DTSTART:20231029T010000
END:STANDARD
END:VTIMEZONE
BEGIN:VEVENT
DTSTART;TZID=Europe/Amsterdam:20220406T170000
DTEND;TZID=Europe/Amsterdam:20220406T190000
DTSTAMP:20260424T003514
CREATED:20220321T112111Z
LAST-MODIFIED:20220329T050245Z
UID:7041-1649264400-1649271600@startupagenda.nl
SUMMARY:Drinks\, Pitches & Demo's
DESCRIPTION:NOTE: This is a live event and it will not be livestreamed. \nDrinks\, Pitches & Demos is the monthly startup community event linking innovation expertise\, resources and networks across innovation hotspots in Brainport Eindhoven. Pitch your story and own the podium. Join the fun! \nIt is the perfect knowledge-sharing platform to advertise your new project\, to stay informed on breakthrough technologies\, ask for help if you’re stuck on a problem and to meet people in our innovation ecosystem! It’s also great event if you’re new to Eindhoven and would like to make connections. \nCompanies or people working in the technology field will have the chance to pitch their company\, project\, ask for help or simply share some their successes. The audience can pose questions at the end of the pitch to make it even more interactive! Towards the end\, we hold a “open mic” session\, so anybody can jump in and share a quick message with the crowd. \nWould you like to pitch or get more info? Email us at info@hightechxl-plaza.com.
URL:https://startupagenda.nl/event/drinks-pitches-demos-2/
CATEGORIES:Live Events,Network Event
ATTACH;FMTTYPE=image/jpeg:https://startupagenda.nl/wp-content/uploads/2022/03/763-176_Drinks-Pitches-Demos_Algemene-banner_1014x686px.jpg
END:VEVENT
BEGIN:VEVENT
DTSTART;VALUE=DATE:20221008
DTEND;VALUE=DATE:20221009
DTSTAMP:20260424T003514
CREATED:20220927T080157Z
LAST-MODIFIED:20220927T080157Z
UID:7735-1665187200-1665273599@startupagenda.nl
SUMMARY:Find the perfect co-Founder
DESCRIPTION:About this event\n\n\n\n\nFull day session\, incl. lunch & dinner.  \n  \nThis session is for you if you want to spend a day working with a group of like-minded people to see if there is a co-founder match and learn what to look for and consider when forming a partnership. \n  \nWe’ll help you solve the following problems: \n– I can’t find a co-founder \n– I don’t know what I need in a co-founder \n– I can’t seem to convince people to join my founding team \n– I don’t know how to properly evaluate a co-founder candidate \n– I’m not sure a VC will fund this founding team \n– I don’t know what to put on paper before we start our partnership \n  \nYou will walk away with the following tools:  \n– A list of potential co-founders \n– Founder DNA profile \n– Why work with me pitch \n– Compatibility check \n– Founder prenup \n– How to work with me \n  \nWho for? \nThis training is for you in any of these scenarios: \n– You are looking for a co-founder for a new venture \n– You are searching a co-founder to join your existing venture \n– You have potential co-founder and you want to make sure you are a good fit \n  \nFinding the right co-founder is hard! \nAnd if you’ve been looking for a co-founder\, you’ve probably realized that it’s more difficult than you initially thought. \nIf you’re looking for a co-founder\, you’ve probably found it harder than you expected. \nThere’s no one place to find good co-founders\, so we’re hosting a full-day event for motivated future founders to work and learn together. \nYou’ll work with a group of potential co-founders under Norbert and Iselde’s guidance. \nWe’ll also help you define what you want from a partner in a few years. How do you gauge a 5- or 10-year commitment? Long-term compatibility is important. You may know what skills you want\, but what about values\, stress tolerance\, and productivity? \nAsking the right questions is difficult\, especially in the right way. Starting a business without assessing compatibility is risky. \n  \nIncrease the potential of your startup \nWith the right partner\, you reduce startup risk. Multiple-founder startups raise 30% more money and grow 3x faster. \n65% of startup failures are due to co-founder conflict\, so choose wisely. Any seasoned investor has had a co-founder situation blow up in their portfolio\, so they always evaluate compatibility. \nFinding the right partner is key to success. It’ll boost your startup’s value and make the journey more enjoyable. \n  \nWhy haven’t you found a co-founder yet? \nSo far\, this has probably been organic. You’ve asked around\, posted on LinkedIn\, and searched forums. \nLack of structure and process. You didn’t evaluate yourself and your partnership needs first\, and you’re looking for skills in the other person. This approach is ineffective\, as you’ve seen. \nChange is needed! \n  \nThe secret to finding the perfect co-founder \nFinding your professional soulmate requires a roadmap. For the first time\, there is a dedicated framework to help you find the perfect co-founder AND a full-day event to put those learnings into action in a large group of potential co-founders. \n  \nDuring a full day networking & training\, you will: \n– A chance to meet your co-founder; \n– Get a better understanding of your own founder DNA; \n– Create a clear profile\, describing exactly what you’re looking for in a partner; \n– Discover the best way to create a pipeline of potential candidates; \n– Go through a step-by-step playbook to figure out who is your best match; \n– Lay the groundwork for a great partnership with a startup prenup. \n  \nHosted by experts \nIselde van Beurden – Founder Recruitment Expert \nIselde has recruited over 40 founders and co-founders. Iselde will help you learn how to ask questions\, and how to discover your co-founders true intentions. \nNorbert Kleijn – Team Dynamics Expert \nWith Norbert’s help\, you will be able to define exactly who you are as a founder and what you are looking for in a partner. You will also learn how to thoroughly evaluate a potential co-founder and avoid common pitfalls of startup partnerships. Norbert is a Team Dynamics Expert with 15+ years of global experience in tech and startups. He has bootstrapped multiple companies\, worked with the world’s top VC’s and spent 5 years at Google where he managed teams across the globe. \nREGISTER
URL:https://startupagenda.nl/event/find-the-perfect-co-founder/
CATEGORIES:Network Event,Workshops
ATTACH;FMTTYPE=image/png:https://startupagenda.nl/wp-content/uploads/2022/09/Screenshot-2022-09-27-115636.png
END:VEVENT
BEGIN:VEVENT
DTSTART;TZID=Europe/Amsterdam:20221010T130000
DTEND;TZID=Europe/Amsterdam:20221010T170000
DTSTAMP:20260424T003514
CREATED:20220928T053933Z
LAST-MODIFIED:20220928T053933Z
UID:7739-1665406800-1665421200@startupagenda.nl
SUMMARY:Digital Food Symposium
DESCRIPTION:Data technology in the world of Food\nAs part of the Dutch Food Week\, on 10 October we will bring together the top talents in the worlds of food and data. Data becomes valuable the moment it finds a meaningful (economic and/or social) application. Also in the world of food\, data plays an increasingly important role. New ideas emerge at the moment you understand what the ‘other’ world can mean for your world. That starts with understanding (knowledge transfer) and talking to each other (meeting). That is what JADS and AgriFood Capital are aiming for with this event. \nREGISTER \n\n\n\n\n\nProgram\n13.00 Opening by host prof. dr. Emile Aarts\n\n13.05 Introduction speech by Elies Lemkes-Straver (Gedeputeerde Landbouw\,Voedsel en Natuur Provincie Noord-Brabant (Provincial Executive for Agriculture\, Food and Nature)) \n13:15 Key note speakers:\nCarlo van de Weijer – CEO Eindhoven AI Systems Institute\nEelco Ockers – CEO Plantlab \n14:15 The crucial role of data for food innovation – Rogier Brussee \n14:30 Short tea break \n14:45 JADS MKB Datalab – How to make your food business data driven \n15:15 Pitches of data consultancy start-ups tackling the most common challenges in the food sector \n16:15 Closing words \n16:30 Networking drinks
URL:https://startupagenda.nl/event/digital-food-symposium/
LOCATION:Grasso\, Parallelweg 27\, 's-Hertogenbosch\, Netherlands
CATEGORIES:AgriFood,Competitions,Conference,Network Event,Sustainability
ATTACH;FMTTYPE=image/png:https://startupagenda.nl/wp-content/uploads/2022/09/Screenshot-2022-09-28-093620.png
END:VEVENT
BEGIN:VEVENT
DTSTART;VALUE=DATE:20221011
DTEND;VALUE=DATE:20221013
DTSTAMP:20260424T003514
CREATED:20220830T132618Z
LAST-MODIFIED:20220830T133012Z
UID:7686-1665446400-1665619199@startupagenda.nl
SUMMARY:EUROPE’S LEADING ANGEL INVESTING EVENT
DESCRIPTION:The European Angel Investment Summit 2022\, taking place in Brussels on 11-12 October\, is the annual conference where early stage investors\, entrepreneurs and change-makers get together to fuel Europe’s growth.\n\n\n\n\n\n\nThe EAIS will allow participants a glimpse into the future\, a chance to influence the course of tomorrow and a unique opportunity to connect meaningfully with other international colleagues that enable innovations to come to life. During this 2022 edition of the Summit\, we will be discussing topics that go from how startups and investors can leverage science to build global companies\, to what angel investors can do to foster more interconnected and inclusive innovation communities.\nThis event is a must-attend for business angels\, but also for any other early stage investment actor\, supporter of entrepreneurship or innovation at large.\nOur audience is typically made up by 50% business angels\, 20% VCs\, CVCs and PEs; 10% startup entrepreneurs; 10% policy makers; 10% other startup ecosystem stakeholders.\n\n\n\n\n\n\n\nEBAN is partnering with the InvestEU Portal\, the European Commission DG GROW and DG ECFIN\, and the Enterprise Europe Network for the event. We hope to see you there!
URL:https://startupagenda.nl/event/europes-leading-angel-investing-event/
CATEGORIES:Competitions,Conference,Network Event
ATTACH;FMTTYPE=image/png:https://startupagenda.nl/wp-content/uploads/2022/08/Screenshot-2022-08-30-at-17.22.43.png
END:VEVENT
BEGIN:VEVENT
DTSTART;TZID=Europe/Amsterdam:20221012T133000
DTEND;TZID=Europe/Amsterdam:20221012T180000
DTSTAMP:20260424T003514
CREATED:20220829T132518Z
LAST-MODIFIED:20220829T133034Z
UID:7678-1665581400-1665597600@startupagenda.nl
SUMMARY:CEO meets Startup
DESCRIPTION:Op 12 oktober 2022 zal Ondernemerslift+ alweer de negende editie van ‘CEO meets Startup’ organiseren. Het doel is om (Brabant breed) startups te connecteren met ervaren ondernemers om zo van hen te leren en mogelijk van hun netwerk gebruik te maken. \nAls innovatieve startup maak je alles voor het eerst mee: nieuw in de markt\, nieuwe klanten aantrekken\, eerste medewerkers aannemen\, managen van plotseling snelle groei\, de eerste stappen over de grens. CEO’s van grote bedrijven hebben deze processen meermaals doorlopen en hebben daarmee een schat aan kennis en ervaring waarvan startups kunnen leren. \nAls CEO heb je alles al meegemaakt en heb je behoefte aan innovatie\, frisse ideeën en een andere kijk op de business. Startups brengen dingen mee waar CEO’s van kunnen leren. \nDaarom organiseert OndernemersLift+ in oktober 2022 alweer de negende editie van ‘CEO meets Startup’. Een bijeenkomst om van elkaar te leren\, te inspireren\, te verbinden of misschien nog wel meer. \nMaximaal 8 startups en 8 CEO’s uit de sectoren food en agri nemen deel aan dit besloten evenement. Jij als startup krijgt de kans om jouw onderneming te presenteren en aan de CEO’s één of twee van jouw uitdagingen voor te leggen.\nDe CEO’s maar ook senior-managers en Senior techneuten van Groot bedrijven en systeembedrijven geven jou advies en kunnen jou mogelijk verder helpen\, ook na de bijeenkomst. \nNaar aanleiding van de vraagstukken die jij en de overige deelnemende startups hebben\, zullen er CEO’s van clusterbedrijven en grootbedrijven worden gezocht die jullie verder kunnen helpen in jullie ontwikkeling. \nTerugkoppeling uit eerdere edities leert dat de CEO’s inspiratie opdoen door de pitches en de discussies met de startups. Jij vertrekt met nieuwe inzichten\, nieuwe connecties en soms ook met een nieuwe klant\, mentor of investeerder. De CEO’s zijn vaak intrinsiek gemotiveerd om jou verder te helpen met hun kennis en kunde. Graag willen zij jouw ontwikkeling kunnen blijven volgen. \nMiddagindeling 12-10-2022 – Locatie: Dome-X\, Ruimte: “Creëren”\, Kanaalstraat 12b te Oss \n\n\n\n\n13.30 – 14.00 Inloop: met mogelijkheid voor de CEO’s en startups om elkaar te leren kennen\n14.00 – 14.15 Welkom en korte introductie door Huub Dormans\, directeur OndernemersLift+ \n14.15 – 15.35 1e ronde pitches startups \n15.35 – 16.00 Pauze (gelegenheid tot verdiepend contact met de CEO’s) \n16.00 – 17.00 2e ronde\, idem \n17.00 – 17.15 Evaluatie en vervolgacties \n17.00 – 18.00 Afsluitend drankje & match making! \n\n\n\n\nWe willen dit succesvolle evenement niet alleen inzetten voor Noordoost Brabant maar voor alle Agro-Food startups in Brabant. We gaan jou vooraf aan het event ook helpen met jouw pitch en het formuleren van jouw vraagstelling zodat jij goed beslagen ten ijs komt.
URL:https://startupagenda.nl/event/ceo-meets-startup/
LOCATION:DomeX\, Oss
CATEGORIES:Competitions,Network Event,Workshops
ATTACH;FMTTYPE=image/png:https://startupagenda.nl/wp-content/uploads/2022/08/Screenshot-2022-08-16-at-15.14.19.png
ORGANIZER;CN="OndernemersLift+":MAILTO:info@ondernemersliftplus.nl
END:VEVENT
BEGIN:VEVENT
DTSTART;TZID=Europe/Paris:20221018T193000
DTEND;TZID=Europe/Paris:20221018T230000
DTSTAMP:20260424T003514
CREATED:20220224T101928Z
LAST-MODIFIED:20220326T102724Z
UID:6799-1666121400-1666134000@startupagenda.nl
SUMMARY:Finale Startup & Talent Awards 2022
DESCRIPTION:Finale event en prijsuitreiking Startup Award en Talent Award 2022 – live pitches\, netwerken & beursvloer. *live pitches *expo *netwerk\n\n\n\n\n\nOver dit evenement\n\n\nOp dit finale event wordt de winnaar van de De Startup Award gekozen ! De top 5 finalisten pitcht live on stage hun ambitie en groeipotentieel van hun bedrijf. \nWe zijn te gast in het theater van Podium Bloos in een industriële setting en ambiance. \nDe opzet van de avond ziet er als volgt uit: \n19:30 Aanvang met netwerkgelegenheid op de startup expo van de ‘Most Promising startup’ ondernemingen van 2022 \n20:30 Live pitches Startups – de 5 finalisten op het grootse podium \n21:30 Uitreiking Talent Award 2022 voor jong ondernemerstalent \n21:40 Uitslag en bekendmaking winnaar De Start Up Award 2022 \n21: 45 Netwerkborrel en bezoek aan de startup expo \nDe Award en alle side events gedurende het jaar worden georganiseerd door een sterk verbonden community van ondernemende mensen. \nOp de netwerkborrel praten we door tot 23u\, waarbij een hapje en drankjes allemaal inclusief in de ticket zijn. Daarna kan je extra bestellingen zelf en PIN only aan de bar doen.
URL:https://startupagenda.nl/event/finale-startup-talent-awards-2022/
CATEGORIES:Competitions,Live Events,Network Event
ATTACH;FMTTYPE=image/png:https://startupagenda.nl/wp-content/uploads/2022/02/Screenshot-2022-02-24-at-12.18.49.png
END:VEVENT
BEGIN:VEVENT
DTSTART;TZID=Europe/Amsterdam:20221025T153000
DTEND;TZID=Europe/Amsterdam:20221025T170000
DTSTAMP:20260424T003514
CREATED:20220920T052918Z
LAST-MODIFIED:20220922T043548Z
UID:7724-1666711800-1666717200@startupagenda.nl
SUMMARY:Workshop: Git your shit together! (Github)
DESCRIPTION:Are you drowning in Jupyter Notebooks? Is your Google Drive overflowing with code? Quantile is here to help! We will show you how to professionally work together on the same code base. \nIn a practical session of 60-90 mins we will cover the following: \n\nWhat is Git and why should you use it?\nHow to use Git and best practices.\nSetting up your own repository.\n\nThis workshop is given by Jules Huisman and Bernard Wezeman\, Data Scientist at Quantile. Quantile is a young and innovative Data Science AI consultancy startup who help SME making sense of their data. \nREGISTER
URL:https://startupagenda.nl/event/workshop-git-your-shit-together/
LOCATION:JADS\, Sint Janssingel 92\, Den Bosch\, Netherlands
CATEGORIES:Data Science & AI,Network Event,Workshops
ATTACH;FMTTYPE=image/jpeg:https://startupagenda.nl/wp-content/uploads/2022/09/Play-ground-template3-High-Quality-3.jpg
ORGANIZER;CN="JADS Playground":MAILTO:playground@jads.nl
END:VEVENT
END:VCALENDAR