BEGIN:VCALENDAR
VERSION:2.0
PRODID:-//Startup Agenda - ECPv6.15.20//NONSGML v1.0//EN
CALSCALE:GREGORIAN
METHOD:PUBLISH
X-ORIGINAL-URL:https://startupagenda.nl
X-WR-CALDESC:Events for Startup Agenda
REFRESH-INTERVAL;VALUE=DURATION:PT1H
X-Robots-Tag:noindex
X-PUBLISHED-TTL:PT1H
BEGIN:VTIMEZONE
TZID:Europe/Amsterdam
BEGIN:DAYLIGHT
TZOFFSETFROM:+0100
TZOFFSETTO:+0200
TZNAME:CEST
DTSTART:20210328T010000
END:DAYLIGHT
BEGIN:STANDARD
TZOFFSETFROM:+0200
TZOFFSETTO:+0100
TZNAME:CET
DTSTART:20211031T010000
END:STANDARD
BEGIN:DAYLIGHT
TZOFFSETFROM:+0100
TZOFFSETTO:+0200
TZNAME:CEST
DTSTART:20220327T010000
END:DAYLIGHT
BEGIN:STANDARD
TZOFFSETFROM:+0200
TZOFFSETTO:+0100
TZNAME:CET
DTSTART:20221030T010000
END:STANDARD
BEGIN:DAYLIGHT
TZOFFSETFROM:+0100
TZOFFSETTO:+0200
TZNAME:CEST
DTSTART:20230326T010000
END:DAYLIGHT
BEGIN:STANDARD
TZOFFSETFROM:+0200
TZOFFSETTO:+0100
TZNAME:CET
DTSTART:20231029T010000
END:STANDARD
END:VTIMEZONE
BEGIN:VEVENT
DTSTART;TZID=Europe/Amsterdam:20221107T200000
DTEND;TZID=Europe/Amsterdam:20221107T233000
DTSTAMP:20260426T045142
CREATED:20220829T130924Z
LAST-MODIFIED:20230727T085830Z
UID:7673-1667851200-1667863800@startupagenda.nl
SUMMARY:Startup Drinks Brabant
DESCRIPTION:Join us for the Startup Drinks Brabant. \nWe meet up over a beer to meet new people\, meet new startups\, share experiences and have some fun. All in a very laid back and informal setting. \nWant to attend? Questions\, ideas\, complaints\, remarks\, suggestions\, jokes? info@roundone.ventures \n 
URL:https://startupagenda.nl/event/startup-drinks-brabant/
CATEGORIES:Funding,Network Event
ATTACH;FMTTYPE=image/png:https://startupagenda.nl/wp-content/uploads/2022/08/Screenshot-2022-08-29-at-17.06.43.png
ORGANIZER;CN="Round One":MAILTO:info@roundone.ventures
END:VEVENT
BEGIN:VEVENT
DTSTART;TZID=Europe/Amsterdam:20221110T160000
DTEND;TZID=Europe/Amsterdam:20221110T183000
DTSTAMP:20260426T045142
CREATED:20221011T080837Z
LAST-MODIFIED:20221024T093304Z
UID:7779-1668096000-1668105000@startupagenda.nl
SUMMARY:Launch Event: Startup Readiness Program /Data-AI
DESCRIPTION:Join us for the launch party of the new startup program: Startup Readiness Program (SRP) Data-AI \nThe Startup Readiness Program – DATA-AI Launch event is especially for DATA-AI startups who are interested in boosting their startup with a suitable program\, investment\, support of business developers from the Brabant Startup Ecosystem\, mentors\, experts and networking with likemined entrepreneurs (with a good drink\, of course).  \nProgram: \n4.00 pm: Doors open \n4.30 pm: Opening speech – Martijn van Gruijthuijsen \n5.00 pm: Explanation SRP – DATA AI & Ecosystem Braventure – Job Nijs \n5.15 pm: Inspirational speaker DATA/AI sector \n5.45 pm: Information about the SRP DATA/ AI program by Jonie Oostveen \n6.00 p.m.: Networking drinks in the garden \n8.00 pm: End \nREGISTER FOR EVENT \nAre you an early stage startup with a repeatable and scalable startup (idea) and a substantial Data Science and AI element? Do you want to validate whether your problem\, really is a customer problem. And discover who your customer is? Then this ‘GAME’ module of the Startup Readiness Program – Data/AI is right for you! \nREGISTER FOR THE COURSE ‘GAME’ \n 
URL:https://startupagenda.nl/event/launch-event-startup-readiness-program-data-ai/
LOCATION:JADS\, Sint Janssingel 92\, Den Bosch\, Netherlands
CATEGORIES:Competitions,Data Science & AI,Funding,Network Event,Workshops
ATTACH;FMTTYPE=image/png:https://startupagenda.nl/wp-content/uploads/2022/10/SRP-Data-Socialmedia.png
END:VEVENT
BEGIN:VEVENT
DTSTART;TZID=Europe/Amsterdam:20221107T200000
DTEND;TZID=Europe/Amsterdam:20221107T233000
DTSTAMP:20260426T045142
CREATED:20220829T130924Z
LAST-MODIFIED:20230727T085830Z
UID:7673-1667851200-1667863800@startupagenda.nl
SUMMARY:Startup Drinks Brabant
DESCRIPTION:Join us for the Startup Drinks Brabant. \nWe meet up over a beer to meet new people\, meet new startups\, share experiences and have some fun. All in a very laid back and informal setting. \nWant to attend? Questions\, ideas\, complaints\, remarks\, suggestions\, jokes? info@roundone.ventures \n 
URL:https://startupagenda.nl/event/startup-drinks-brabant/
CATEGORIES:Funding,Network Event
ATTACH;FMTTYPE=image/png:https://startupagenda.nl/wp-content/uploads/2022/08/Screenshot-2022-08-29-at-17.06.43.png
ORGANIZER;CN="Round One":MAILTO:info@roundone.ventures
END:VEVENT
BEGIN:VEVENT
DTSTART;TZID=Europe/Amsterdam:20221118T140000
DTEND;TZID=Europe/Amsterdam:20221118T180000
DTSTAMP:20260426T045142
CREATED:20221020T055735Z
LAST-MODIFIED:20221024T093539Z
UID:7810-1668780000-1668794400@startupagenda.nl
SUMMARY:Pitch Event Dragons' Chapel
DESCRIPTION:Come and see 7 startups\, 1 from each University in Brabant\, pitch their proposition to the investors: RoundOne\, Lumo Labs\, De InvesteerdersClub\, Starterslift and Curiosity VC. The participating startups stand a chance to get EUR 5000 voucher provided by RoundOne (the student VC) and a EUR 2500 voucher provided by Starterslift. \nREGISTER HERE \nAs this pitch event is the final event of the Global Entrepreneurship Week (www.gew-brabant.nl/) we close this event with a fun network drink. Register now\, limited seats available. \nProgram \n14.00 – 14.30 uur: Walk-in\n14.30 – 14.45 uur: Welcome to Dragons’ Chapel en introductions to the 5 Dragons\n14.45 – 15.00 uur: Startup 1\n15.00 – 15.15 uur: Startup 2\n15.15 – 15.30 uur: Startup 3\n15.30 – 15.45 uur: Startup 4\n15.45 – 16.00 uur: Startup 5\n16.00 – 16.15 uur: Startup 6\n16.15 – 16.30 uur: Startup 7\n16.30 – 16.35 uur: Announcement of the EUR 5000 voucher\n16.35 – 18.00 uur: Network drink!
URL:https://startupagenda.nl/event/pitch-event-dragons-chapel/
LOCATION:JADS\, Sint Janssingel 92\, Den Bosch\, Netherlands
CATEGORIES:Competitions,Funding,Network Event
ATTACH;FMTTYPE=image/png:https://startupagenda.nl/wp-content/uploads/2022/10/2.png
ORGANIZER;CN="JADS Playground":MAILTO:playground@jads.nl
END:VEVENT
END:VCALENDAR