BEGIN:VCALENDAR
VERSION:2.0
PRODID:-//Startup Agenda - ECPv6.15.20//NONSGML v1.0//EN
CALSCALE:GREGORIAN
METHOD:PUBLISH
X-WR-CALNAME:Startup Agenda
X-ORIGINAL-URL:https://startupagenda.nl
X-WR-CALDESC:Events for Startup Agenda
REFRESH-INTERVAL;VALUE=DURATION:PT1H
X-Robots-Tag:noindex
X-PUBLISHED-TTL:PT1H
BEGIN:VTIMEZONE
TZID:UTC
BEGIN:STANDARD
TZOFFSETFROM:+0000
TZOFFSETTO:+0000
TZNAME:UTC
DTSTART:20210101T000000
END:STANDARD
END:VTIMEZONE
BEGIN:VTIMEZONE
TZID:Europe/Amsterdam
BEGIN:DAYLIGHT
TZOFFSETFROM:+0100
TZOFFSETTO:+0200
TZNAME:CEST
DTSTART:20210328T010000
END:DAYLIGHT
BEGIN:STANDARD
TZOFFSETFROM:+0200
TZOFFSETTO:+0100
TZNAME:CET
DTSTART:20211031T010000
END:STANDARD
BEGIN:DAYLIGHT
TZOFFSETFROM:+0100
TZOFFSETTO:+0200
TZNAME:CEST
DTSTART:20220327T010000
END:DAYLIGHT
BEGIN:STANDARD
TZOFFSETFROM:+0200
TZOFFSETTO:+0100
TZNAME:CET
DTSTART:20221030T010000
END:STANDARD
BEGIN:DAYLIGHT
TZOFFSETFROM:+0100
TZOFFSETTO:+0200
TZNAME:CEST
DTSTART:20230326T010000
END:DAYLIGHT
BEGIN:STANDARD
TZOFFSETFROM:+0200
TZOFFSETTO:+0100
TZNAME:CET
DTSTART:20231029T010000
END:STANDARD
BEGIN:DAYLIGHT
TZOFFSETFROM:+0100
TZOFFSETTO:+0200
TZNAME:CEST
DTSTART:20240331T010000
END:DAYLIGHT
BEGIN:STANDARD
TZOFFSETFROM:+0200
TZOFFSETTO:+0100
TZNAME:CET
DTSTART:20241027T010000
END:STANDARD
END:VTIMEZONE
BEGIN:VEVENT
DTSTART;TZID=UTC:20250204T100000
DTEND;TZID=UTC:20250204T180000
DTSTAMP:20260423T192936
CREATED:20250124T074645Z
LAST-MODIFIED:20250124T074645Z
UID:9824-1738663200-1738692000@startupagenda.nl
SUMMARY:HAS Food Experience 2025
DESCRIPTION:Op 4 februari 2025 is het weer zover: de HAS Food Experience! Kom inspiratie opdoen en maak kennis met veelbelovende jonge talenten die (bijna) klaar zijn om de arbeidsmarkt te betreden. Het thema van dit jaar: Next food waves! \n\nKom naar hét impactvolle en inspirerende food event met vernieuwde oplossingen voor uitdagingen van vandaag én morgen. Bedacht en ontwikkeld door HAS studenten. \nWat mag je verwachten? Likeur gemaakt van verspild brood en fruit\, voeding die de kwaliteit van je huid verbetert\, bier speciaal voor vrouwen\, producten gemaakt van bananenschillen\, droge worst die je zelf thuis kan nadrogen en nog veel meer innovatieve concepten!
URL:https://startupagenda.nl/event/has-food-experience-2025/
CATEGORIES:AgriFood
ATTACH;FMTTYPE=image/jpeg:https://startupagenda.nl/wp-content/uploads/2025/01/has-food-experience-2025.jpg
END:VEVENT
BEGIN:VEVENT
DTSTART;TZID=Europe/Amsterdam:20230126T140000
DTEND;TZID=Europe/Amsterdam:20230126T170000
DTSTAMP:20260423T192936
CREATED:20230116T072116Z
LAST-MODIFIED:20230116T072116Z
UID:8581-1674741600-1674752400@startupagenda.nl
SUMMARY:HAS Green Academy Presents: SMART sensordata infrastructuur
DESCRIPTION:Op donderdagmiddag 26 januari 2023 presenteert HAS green academy de resultaten van project SMART sensordata infrastructuur. \n\n\n\n\nDit project is uitgevoerd door onderzoekers van de opleiding Applied Geo-Information Science en financieel en inhoudelijk ondersteund door SURF. \n\n\n\nDatum26-01-2023\nLocatieDen Bosch\nTijd13:30 – 17:00\n\n\n\n\n\n\n\n\nHet aantal onderzoeksgebieden waarin sensoren worden ingezet neemt nog steeds toe. Om de drempel tot het gebruik van sensoren in onderzoek en onderwijs te verlagen\, is er een sensordata infrastructuur ontwikkeld. \nTijdens deze middag leer je uit welke componenten de opgestelde sensordata infrastructuur opgebouwd is én hoe je deze zelf kunt inrichten! Ook geven we een live-demo van de sensoren die het groene dak op het HAS-gebouw monitoren. Daarnaast presenteren we praktijkvoorbeelden van fieldlabs met sensoren. \n\n\n\n\n\n\n\nProgramma\n\n\n\n\n13:30                 Inloop\n14:00                 Welkom door Maurits Dorlandt (HAS green academy)\n14:15                 Context schets door Sophie de Koning (SURF)\n14:30                 Sensordata infrastructuur door Mark Terlien (HAS green academy)\n15:00                 Pauze\n15:15                 Proof-of-concept met live demo door studenten (HAS green academy)\n15:45                 Cloud as a playground for experimentation with IoT door David Salek (SURF)\n16:15                 Afsluiting\n16:30                 Borrel\n\nREGISTER
URL:https://startupagenda.nl/event/has-green-academy-presents-smart-sensordata-infrastructuur/
LOCATION:HAS\, Onderwijsboulevard 221\, 's Hertogenbosch\, Noord-Brabant\, 5223 DE
CATEGORIES:AgriFood,Data Science & AI,Network Event,Sustainability
ATTACH;FMTTYPE=image/png:https://startupagenda.nl/wp-content/uploads/2023/01/Screenshot-2023-01-16-at-09.14.57.png
END:VEVENT
BEGIN:VEVENT
DTSTART;VALUE=DATE:20220912
DTEND;VALUE=DATE:20220913
DTSTAMP:20260423T192936
CREATED:20220314T085324Z
LAST-MODIFIED:20220321T095142Z
UID:6967-1662940800-1663027199@startupagenda.nl
SUMMARY:Dutch Food Week 8-15 oktober 2022
DESCRIPTION:Dutch Food Week\, een initiatief van de Topsector Agri&Food\, vindt dit jaar plaats van 8 tot en met 15 oktober. Het bruist dan in Nederland van allerlei evenementen rondom ons voedsel en wij vertellen dan het verhaal van grond tot mond. Voor de achtste keer vindt Dutch Food Week (#DFW2022) plaats.
URL:https://startupagenda.nl/event/dutch-food-week-8-15-oktober-2022/
CATEGORIES:AgriFood
ATTACH;FMTTYPE=image/png:https://startupagenda.nl/wp-content/uploads/2022/03/Screenshot-2022-03-14-at-10.50.25.png
END:VEVENT
BEGIN:VEVENT
DTSTART;VALUE=DATE:20220912
DTEND;VALUE=DATE:20220913
DTSTAMP:20260423T192936
CREATED:20220314T085324Z
LAST-MODIFIED:20220321T095142Z
UID:6967-1662940800-1663027199@startupagenda.nl
SUMMARY:Dutch Food Week 8-15 oktober 2022
DESCRIPTION:Dutch Food Week\, een initiatief van de Topsector Agri&Food\, vindt dit jaar plaats van 8 tot en met 15 oktober. Het bruist dan in Nederland van allerlei evenementen rondom ons voedsel en wij vertellen dan het verhaal van grond tot mond. Voor de achtste keer vindt Dutch Food Week (#DFW2022) plaats.
URL:https://startupagenda.nl/event/dutch-food-week-8-15-oktober-2022/
CATEGORIES:AgriFood
ATTACH;FMTTYPE=image/png:https://startupagenda.nl/wp-content/uploads/2022/03/Screenshot-2022-03-14-at-10.50.25.png
END:VEVENT
BEGIN:VEVENT
DTSTART;TZID=Europe/Amsterdam:20221010T130000
DTEND;TZID=Europe/Amsterdam:20221010T170000
DTSTAMP:20260423T192936
CREATED:20220928T053933Z
LAST-MODIFIED:20220928T053933Z
UID:7739-1665406800-1665421200@startupagenda.nl
SUMMARY:Digital Food Symposium
DESCRIPTION:Data technology in the world of Food\nAs part of the Dutch Food Week\, on 10 October we will bring together the top talents in the worlds of food and data. Data becomes valuable the moment it finds a meaningful (economic and/or social) application. Also in the world of food\, data plays an increasingly important role. New ideas emerge at the moment you understand what the ‘other’ world can mean for your world. That starts with understanding (knowledge transfer) and talking to each other (meeting). That is what JADS and AgriFood Capital are aiming for with this event. \nREGISTER \n\n\n\n\n\nProgram\n13.00 Opening by host prof. dr. Emile Aarts\n\n13.05 Introduction speech by Elies Lemkes-Straver (Gedeputeerde Landbouw\,Voedsel en Natuur Provincie Noord-Brabant (Provincial Executive for Agriculture\, Food and Nature)) \n13:15 Key note speakers:\nCarlo van de Weijer – CEO Eindhoven AI Systems Institute\nEelco Ockers – CEO Plantlab \n14:15 The crucial role of data for food innovation – Rogier Brussee \n14:30 Short tea break \n14:45 JADS MKB Datalab – How to make your food business data driven \n15:15 Pitches of data consultancy start-ups tackling the most common challenges in the food sector \n16:15 Closing words \n16:30 Networking drinks
URL:https://startupagenda.nl/event/digital-food-symposium/
LOCATION:Grasso\, Parallelweg 27\, 's-Hertogenbosch\, Netherlands
CATEGORIES:AgriFood,Competitions,Conference,Network Event,Sustainability
ATTACH;FMTTYPE=image/png:https://startupagenda.nl/wp-content/uploads/2022/09/Screenshot-2022-09-28-093620.png
END:VEVENT
BEGIN:VEVENT
DTSTART;VALUE=DATE:20220912
DTEND;VALUE=DATE:20220913
DTSTAMP:20260423T192936
CREATED:20220314T085324Z
LAST-MODIFIED:20220321T095142Z
UID:6967-1662940800-1663027199@startupagenda.nl
SUMMARY:Dutch Food Week 8-15 oktober 2022
DESCRIPTION:Dutch Food Week\, een initiatief van de Topsector Agri&Food\, vindt dit jaar plaats van 8 tot en met 15 oktober. Het bruist dan in Nederland van allerlei evenementen rondom ons voedsel en wij vertellen dan het verhaal van grond tot mond. Voor de achtste keer vindt Dutch Food Week (#DFW2022) plaats.
URL:https://startupagenda.nl/event/dutch-food-week-8-15-oktober-2022/
CATEGORIES:AgriFood
ATTACH;FMTTYPE=image/png:https://startupagenda.nl/wp-content/uploads/2022/03/Screenshot-2022-03-14-at-10.50.25.png
END:VEVENT
BEGIN:VEVENT
DTSTART;VALUE=DATE:20220912
DTEND;VALUE=DATE:20220913
DTSTAMP:20260423T192936
CREATED:20220314T085324Z
LAST-MODIFIED:20220321T095142Z
UID:6967-1662940800-1663027199@startupagenda.nl
SUMMARY:Dutch Food Week 8-15 oktober 2022
DESCRIPTION:Dutch Food Week\, een initiatief van de Topsector Agri&Food\, vindt dit jaar plaats van 8 tot en met 15 oktober. Het bruist dan in Nederland van allerlei evenementen rondom ons voedsel en wij vertellen dan het verhaal van grond tot mond. Voor de achtste keer vindt Dutch Food Week (#DFW2022) plaats.
URL:https://startupagenda.nl/event/dutch-food-week-8-15-oktober-2022/
CATEGORIES:AgriFood
ATTACH;FMTTYPE=image/png:https://startupagenda.nl/wp-content/uploads/2022/03/Screenshot-2022-03-14-at-10.50.25.png
END:VEVENT
BEGIN:VEVENT
DTSTART;VALUE=DATE:20220912
DTEND;VALUE=DATE:20220913
DTSTAMP:20260423T192936
CREATED:20220314T085324Z
LAST-MODIFIED:20220321T095142Z
UID:6967-1662940800-1663027199@startupagenda.nl
SUMMARY:Dutch Food Week 8-15 oktober 2022
DESCRIPTION:Dutch Food Week\, een initiatief van de Topsector Agri&Food\, vindt dit jaar plaats van 8 tot en met 15 oktober. Het bruist dan in Nederland van allerlei evenementen rondom ons voedsel en wij vertellen dan het verhaal van grond tot mond. Voor de achtste keer vindt Dutch Food Week (#DFW2022) plaats.
URL:https://startupagenda.nl/event/dutch-food-week-8-15-oktober-2022/
CATEGORIES:AgriFood
ATTACH;FMTTYPE=image/png:https://startupagenda.nl/wp-content/uploads/2022/03/Screenshot-2022-03-14-at-10.50.25.png
END:VEVENT
BEGIN:VEVENT
DTSTART;VALUE=DATE:20220912
DTEND;VALUE=DATE:20220913
DTSTAMP:20260423T192936
CREATED:20220314T085324Z
LAST-MODIFIED:20220321T095142Z
UID:6967-1662940800-1663027199@startupagenda.nl
SUMMARY:Dutch Food Week 8-15 oktober 2022
DESCRIPTION:Dutch Food Week\, een initiatief van de Topsector Agri&Food\, vindt dit jaar plaats van 8 tot en met 15 oktober. Het bruist dan in Nederland van allerlei evenementen rondom ons voedsel en wij vertellen dan het verhaal van grond tot mond. Voor de achtste keer vindt Dutch Food Week (#DFW2022) plaats.
URL:https://startupagenda.nl/event/dutch-food-week-8-15-oktober-2022/
CATEGORIES:AgriFood
ATTACH;FMTTYPE=image/png:https://startupagenda.nl/wp-content/uploads/2022/03/Screenshot-2022-03-14-at-10.50.25.png
END:VEVENT
BEGIN:VEVENT
DTSTART;VALUE=DATE:20220912
DTEND;VALUE=DATE:20220913
DTSTAMP:20260423T192936
CREATED:20220314T085324Z
LAST-MODIFIED:20220321T095142Z
UID:6967-1662940800-1663027199@startupagenda.nl
SUMMARY:Dutch Food Week 8-15 oktober 2022
DESCRIPTION:Dutch Food Week\, een initiatief van de Topsector Agri&Food\, vindt dit jaar plaats van 8 tot en met 15 oktober. Het bruist dan in Nederland van allerlei evenementen rondom ons voedsel en wij vertellen dan het verhaal van grond tot mond. Voor de achtste keer vindt Dutch Food Week (#DFW2022) plaats.
URL:https://startupagenda.nl/event/dutch-food-week-8-15-oktober-2022/
CATEGORIES:AgriFood
ATTACH;FMTTYPE=image/png:https://startupagenda.nl/wp-content/uploads/2022/03/Screenshot-2022-03-14-at-10.50.25.png
END:VEVENT
BEGIN:VEVENT
DTSTART;TZID=Europe/Amsterdam:20220921T133000
DTEND;TZID=Europe/Amsterdam:20220921T180000
DTSTAMP:20260423T192936
CREATED:20220816T110724Z
LAST-MODIFIED:20220816T110724Z
UID:7620-1663767000-1663783200@startupagenda.nl
SUMMARY:Meet-up AgriFood Innovation
DESCRIPTION:Het thema ‘Smart Farming Plantaardig’ staat centraal tijdens de Meet-up van AgriFoodInnovation op 21 september in Breda. \nKeynote spreker Harrie Schonewille\, Managing Director – VDL ETG Projects BV presenteert zijn visie op Smart Farming Plantaardig\, het ecosysteem in Brabant en de rol van VDL en hoe deze past in het ecosysteem. We gaan in op de vraag wat versnelling in de weg staat en hoe we in Brabant die blokkades kunnen wegnemen. \nEr is volop ruimte voor interactie\, vragen en discussie tijdens de gesprekstafels met ondernemers. Aan de bestuurlijke tafel bespreken Elies Lemkes-Straver (gedeputeerde voor Landbouw\, Voedsel\, Bodem en Brede welvaart provincie Noord-Brabant)\, Stephanie ter Borg (directeur REWIN West-Brabant)\, Judith Donkers (directeur Curio) en Chantal Dietvorst (Team Manager Ecosysteemontwikkeling Brabantse Ontwikkelings Maatschappij (BOM) het belang en de noodzaak van onderwijsontwikkeling binnen de sector. \nHet maatschappelijk perspectief van Smart Farming wordt in een gezamenlijk gesprek door Arend Koekkoek (directeur Pixel Farming Robotics)\, Jacob van den Borne (directeur Van den Borne Aardappelen) en Thijs Dorssers (Manager Holland Robotics) besproken met speciale aandacht voor de AFI projecten Autonome Akker\, Slimmer Telen en AgroBOTS. \nWe sluiten de dag af met een rondleiding over het terrein van Curio waar we zien en horen hoe de projecten Robotboerderij\, Proefveld en Farmbots bijdragen aan de toekomst van de agrifoodsector in Nederland.
URL:https://startupagenda.nl/event/meet-up-agrifood-innovation/
LOCATION:Curio\, Breda\, Netherlands
CATEGORIES:AgriFood,Conference,Network Event
ATTACH;FMTTYPE=image/png:https://startupagenda.nl/wp-content/uploads/2022/08/Screenshot-2022-08-16-at-15.02.00.png
END:VEVENT
BEGIN:VEVENT
DTSTART;VALUE=DATE:20220912
DTEND;VALUE=DATE:20220913
DTSTAMP:20260423T192936
CREATED:20220314T085324Z
LAST-MODIFIED:20220321T095142Z
UID:6967-1662940800-1663027199@startupagenda.nl
SUMMARY:Dutch Food Week 8-15 oktober 2022
DESCRIPTION:Dutch Food Week\, een initiatief van de Topsector Agri&Food\, vindt dit jaar plaats van 8 tot en met 15 oktober. Het bruist dan in Nederland van allerlei evenementen rondom ons voedsel en wij vertellen dan het verhaal van grond tot mond. Voor de achtste keer vindt Dutch Food Week (#DFW2022) plaats.
URL:https://startupagenda.nl/event/dutch-food-week-8-15-oktober-2022/
CATEGORIES:AgriFood
ATTACH;FMTTYPE=image/png:https://startupagenda.nl/wp-content/uploads/2022/03/Screenshot-2022-03-14-at-10.50.25.png
END:VEVENT
BEGIN:VEVENT
DTSTART;VALUE=DATE:20220912
DTEND;VALUE=DATE:20220913
DTSTAMP:20260423T192936
CREATED:20220314T085324Z
LAST-MODIFIED:20220321T095142Z
UID:6967-1662940800-1663027199@startupagenda.nl
SUMMARY:Dutch Food Week 8-15 oktober 2022
DESCRIPTION:Dutch Food Week\, een initiatief van de Topsector Agri&Food\, vindt dit jaar plaats van 8 tot en met 15 oktober. Het bruist dan in Nederland van allerlei evenementen rondom ons voedsel en wij vertellen dan het verhaal van grond tot mond. Voor de achtste keer vindt Dutch Food Week (#DFW2022) plaats.
URL:https://startupagenda.nl/event/dutch-food-week-8-15-oktober-2022/
CATEGORIES:AgriFood
ATTACH;FMTTYPE=image/png:https://startupagenda.nl/wp-content/uploads/2022/03/Screenshot-2022-03-14-at-10.50.25.png
END:VEVENT
BEGIN:VEVENT
DTSTART;VALUE=DATE:20220912
DTEND;VALUE=DATE:20220913
DTSTAMP:20260423T192936
CREATED:20220314T085324Z
LAST-MODIFIED:20220321T095142Z
UID:6967-1662940800-1663027199@startupagenda.nl
SUMMARY:Dutch Food Week 8-15 oktober 2022
DESCRIPTION:Dutch Food Week\, een initiatief van de Topsector Agri&Food\, vindt dit jaar plaats van 8 tot en met 15 oktober. Het bruist dan in Nederland van allerlei evenementen rondom ons voedsel en wij vertellen dan het verhaal van grond tot mond. Voor de achtste keer vindt Dutch Food Week (#DFW2022) plaats.
URL:https://startupagenda.nl/event/dutch-food-week-8-15-oktober-2022/
CATEGORIES:AgriFood
ATTACH;FMTTYPE=image/png:https://startupagenda.nl/wp-content/uploads/2022/03/Screenshot-2022-03-14-at-10.50.25.png
END:VEVENT
BEGIN:VEVENT
DTSTART;VALUE=DATE:20220912
DTEND;VALUE=DATE:20220919
DTSTAMP:20260423T192936
CREATED:20220620T074801Z
LAST-MODIFIED:20220719T125854Z
UID:7403-1662940800-1663545599@startupagenda.nl
SUMMARY:Samen Tegen Voedselverspilling
DESCRIPTION:Maak klimaatimpact en doe ook mee met de Verspillingsvrije Week\nEen kwart van ons eten in Nederland wordt verspild. Al dat eten wordt verbouwd\, verwerkt\, vervoerd\, gekoeld en warm gemaakt. We stoppen er veel energie in. Energie die de aarde opwarmt. Des te belangrijker dat we zo min mogelijk eten verspillen. Bijvoorbeeld door je restjes niet te vergeten en ze op te eten. Een simpele daad voor een beter klimaat. Die boodschap zullen we tijdens de Verspillingsvrije Week met heel Nederland delen. Van 12 t/m 18 september zullen we samen met meer dan 100 partners Nederlanders motiveren om verspillingsvrij te kopen\, koken en bewaren.\n\n \nHeb je je nog niet aangemeld als partner? Doe dat dan hier. Meedoen is gratis. \n\nThema restjes\nWe weten dat bijna niemand voedsel wil verspillen. Toch houdt de één soms een paar boterhammen over en de ander ontdekt het restje pasta in de koelkast net te laat. Door creatief om te gaan met restjes\, voorkom je als consument al een hoop verspilling. Daarom geven we tijdens de Verspillingsvrije Week tips & tricks voor restjes\, bijvoorbeeld waar je ze het best kunt bewaren\, hoe je ze omtovert tot een nieuwe maaltijd en hoe je ze voorkomt. Als iedereen z’n kleine bijdrage levert\, dan komen we samen tot een groots resultaat voor ons klimaat.
URL:https://startupagenda.nl/event/samen-tegen-voedselverspilling/
CATEGORIES:AgriFood
ATTACH;FMTTYPE=image/png:https://startupagenda.nl/wp-content/uploads/2022/06/VVW_LOGO_RGB_1.png
END:VEVENT
BEGIN:VEVENT
DTSTART;VALUE=DATE:20220912
DTEND;VALUE=DATE:20220913
DTSTAMP:20260423T192936
CREATED:20220314T085324Z
LAST-MODIFIED:20220321T095142Z
UID:6967-1662940800-1663027199@startupagenda.nl
SUMMARY:Dutch Food Week 8-15 oktober 2022
DESCRIPTION:Dutch Food Week\, een initiatief van de Topsector Agri&Food\, vindt dit jaar plaats van 8 tot en met 15 oktober. Het bruist dan in Nederland van allerlei evenementen rondom ons voedsel en wij vertellen dan het verhaal van grond tot mond. Voor de achtste keer vindt Dutch Food Week (#DFW2022) plaats.
URL:https://startupagenda.nl/event/dutch-food-week-8-15-oktober-2022/
CATEGORIES:AgriFood
ATTACH;FMTTYPE=image/png:https://startupagenda.nl/wp-content/uploads/2022/03/Screenshot-2022-03-14-at-10.50.25.png
END:VEVENT
BEGIN:VEVENT
DTSTART;TZID=Europe/Amsterdam:20220630T133000
DTEND;TZID=Europe/Amsterdam:20220630T173000
DTSTAMP:20260423T192936
CREATED:20220620T075423Z
LAST-MODIFIED:20220620T075423Z
UID:7409-1656595800-1656610200@startupagenda.nl
SUMMARY:Programma Meet-Up AFI bekend
DESCRIPTION:Ons programma voor 30 juni is rond en maken wij hierbij graag bekend. Naast kennis delen\, ervaringen uitwisselen\, nieuwe contacten leggen en businesskansen verkennen\, duiken we samen in de thematiek ‘Reststroomverwaarding en het tegengaan van voedselverspilling’. \n13.30 u:       Ontvangst en registratie | koffie\, thee en lekkers \n14.00 u:       Welkom en opening door gespreksleider Elske Verbraak \n\nReststroomverwaarding en tegengaan van voedselverspilling\n\nKansen voor verwaarding van groene grondstoffen tot hoogwaardige voedingsproducten (Toine Hultermans\, ToonDevelopment)\nDe route naar het voorkomen van 1 miljoen ton aan verspilling\n(Toine Timmermans\, Stichting Samen tegen Voedselverspilling)\n\n\nOndernemers aan het woord\nInteractief gesprek over het verzilveren van kansen\, het aanpakken van uitdagingen en het creëren van oplossingsrichtingen op het gebied van reststroomverwaarding en voedselverspilling\, maar ook over beschikbare regelingen en ondersteuningsmaatregelen.\n\nTafelgasten \n\nDiverse ondernemers\nJonica de Bruijn\, REWIN\nLinda van Mierlo\, BOM\nToine Hultermans\, ToonDevelopment\nToine Timmermans\, Samen tegen voedselverspilling\n\n15.10 u:      Pauze\, hapje en drankje \n15.30 u:      De samenhang der dingen: AgriFood Innovation\, Innovatieagenda Landbouw en Voedsel provincie Noord-Brabant en Regiodeal Noordoost-Brabant. \nTafelgasten \n\nElies Lemkes-Straver\, gedeputeerde voor Landbouw\, Voedsel\, Bodem en Brede welvaart\nRoel Schutten\, directeur AgriFood Capital BV\nKees van Rooij\, burgemeester Meierijstad\n\n16.00 u:      Harrij Schmeitz\, directeur Stichting Fruit Tech Campus\nIs de digitale supply chain ook effectief? \nDoor velen wordt data delen in de keten nog gezien als een bedreiging. Maar is dat ook zo? Of is delen niet alleen efficiënt maar ook effectief als het gaat om duurzaamheid & foodwaste? Data & Transparantie als kans? \n16.35 u:     Conclusies en afsluiting\nElske Verbraak (gespreksleider) en Ton Hagelstein\, programmamanager AgriFoodInnovation \n\nWat kan men de komende tijd van AFI\, en het driverteam reststroomverwaarding verwachten?\nWanneer zijn de volgende AFI meet-ups?\n\n16.45 u      Borrel\, hapjes en drankjes \nVoor de geïnteresseerden: Een korte tour langs The Chocolate Factory: Ontwikkel je eigen chocoladereep\, helemaal verspillingsvrij\, en ontdek de wereld van techniek. Leerlingen gaan hier straks mee aan de slag in The Chocolate Factory\, een leer-werk ‘experience’ op de Noordkade in de gemeente Meierijstad. Het talent van jongeren benutten\, food-bedrijven en onderwijs samenbrengen en innoveren voor meer circulaire voedselketens: het komt samen rondom de levensechte chocoladeproductielijn. \n17.30 u      Einde. \nNog niet geregistreerd? Klik dan hier.\n \nVoor de tour langs de Chocolate Factory geldt: vol=vol.\nGraag tot 30 juni! \n 
URL:https://startupagenda.nl/event/programma-meet-up-afi-bekend/
LOCATION:CHV Noordkade – Veghel
CATEGORIES:AgriFood,Conference,Network Event,Workshops
ATTACH;FMTTYPE=image/png:https://startupagenda.nl/wp-content/uploads/2022/06/Screenshot-2022-06-20-at-11.51.45.png
END:VEVENT
BEGIN:VEVENT
DTSTART;TZID=Europe/Amsterdam:20220630T133000
DTEND;TZID=Europe/Amsterdam:20220630T173000
DTSTAMP:20260423T192936
CREATED:20220620T073743Z
LAST-MODIFIED:20220620T073743Z
UID:7399-1656595800-1656610200@startupagenda.nl
SUMMARY:Meet-up AgriFoodInnovation
DESCRIPTION:Op 30 juni staat ‘Reststroomverwaarding’ centraal tijdens de eerste Meet-up van AgriFoodInnovation van dit jaar. Daar nodigen we jou en al onze netwerkpartners uit Brabant en daarbuiten heel graag voor uit!\nNaast kennis delen\, ervaringen uitwisselen\, nieuwe contacten leggen en businesskansen verkennen\, duiken we samen in de thematiek ‘Reststroomverwaarding en het tegengaan van voedselverspilling. Brabant als proeftuin voor de cross-over tussen hightech\, agrifood en data.’ We ontmoeten je graag bij CHV Noordkade in Veghel. Jij komt toch ook?
URL:https://startupagenda.nl/event/meet-up-agrifoodinnovation/
LOCATION:CHV Noordkade – Veghel
CATEGORIES:AgriFood,Network Event
ATTACH;FMTTYPE=image/png:https://startupagenda.nl/wp-content/uploads/2022/06/Screenshot-2022-06-20-at-11.35.34.png
END:VEVENT
BEGIN:VEVENT
DTSTART;TZID=Europe/Amsterdam:20220622T160000
DTEND;TZID=Europe/Amsterdam:20220622T180000
DTSTAMP:20260423T192936
CREATED:20220620T075021Z
LAST-MODIFIED:20220620T075021Z
UID:7406-1655913600-1655920800@startupagenda.nl
SUMMARY:Insiders session Pixelfarming Robotics
DESCRIPTION:Pixelfarming Robotics neemt je op 22 juni 2022 graag (online) mee naar de gloednieuwe kas: het Experience Center in Almkerk voor een exclusief kijkje achter de schermen. Over Smart Biology\, praktijkvoorbeelden en de fleet Robot Ones! De ervaringen met de Robot One worden gedeeld en je hoort alles over nieuwe projecten\, evenementen en andere ontwikkelingen zoals Smart Biology.  \nMeer informatie en aanmelden via deze link. \nPixelfarming Robotics is één van de businesscases binnen AgriFoodInnovation\, waarmee Brabant werk maakt van de verbinding tussen agrifood en high tech. Dit op initiatief van HAS Hogeschool\, ZLTO en de universiteiten van Wageningen en Eindhoven en met AgriFood Capital als programmamanager. Het doel is om grensverleggende innovaties in de agrifood te versnellen in de transitie naar een duurzaam voedselsysteem. \n\n\n\n\n\n\n\n\n\n\n\n\n\n\n\nSchrijf u nu in!\nPixelfarming Robotics neemt je op 22 juni 2022 graag (online) mee naar de gloednieuwe kas: het Experience Center in Almkerk voor een exclusief kijkje achter de schermen. Over Smart Biology\, praktijkvoorbeelden en de fleet Robot Ones! De ervaringen met de Robot One worden gedeeld en je hoort alles over nieuwe projecten\, evenementen en andere ontwikkelingen zoals Smart Biology.
URL:https://startupagenda.nl/event/insiders-session-pixelfarming-robotics/
LOCATION:Online
CATEGORIES:AgriFood,Data Science & AI,Online Events
ATTACH;FMTTYPE=image/png:https://startupagenda.nl/wp-content/uploads/2022/06/Screenshot-2022-06-20-at-11.47.48.png
END:VEVENT
BEGIN:VEVENT
DTSTART;VALUE=DATE:20220323
DTEND;VALUE=DATE:20220324
DTSTAMP:20260423T192936
CREATED:20220323T133842Z
LAST-MODIFIED:20220323T133842Z
UID:7065-1647993600-1648079999@startupagenda.nl
SUMMARY:Agri&Food Startup Programme: Pole Position - APPLICATION OPEN UNTIL 8 April
DESCRIPTION:🤝 Join Pole Position! A joint initiative of a group of Incubators United and @techleapnl for ambitious deeptech entrepreneurs that want to grow bigger and make real impact \nCompanies in the programme will receive help to grow and gain access to national and international connections\, peer-to-peer learning\, and get the chance to connect to the key experts. \nFor batch #2 we are looking for 10 deep tech startups in the Agri & Food industry 🌱 🍔 \nPole Position adds the most value to companies with a technological proof of concept; a thorough market validation; and are ready to speed up towards a series A investment. \nDo you want to apply or know anyone who could benefit? ➡  https://www.techleap.nl/what-we-do/pole-position-initiative/ \n#PolePosition #DeepTech #Startups
URL:https://startupagenda.nl/event/agrifood-startup-programme-pole-position-application-open-until-8-april/
CATEGORIES:AgriFood
ATTACH;FMTTYPE=image/png:https://startupagenda.nl/wp-content/uploads/2022/03/PolePosition3.png
END:VEVENT
BEGIN:VEVENT
DTSTART;VALUE=DATE:20220323
DTEND;VALUE=DATE:20220324
DTSTAMP:20260423T192936
CREATED:20220323T133842Z
LAST-MODIFIED:20220323T133842Z
UID:7065-1647993600-1648079999@startupagenda.nl
SUMMARY:Agri&Food Startup Programme: Pole Position - APPLICATION OPEN UNTIL 8 April
DESCRIPTION:🤝 Join Pole Position! A joint initiative of a group of Incubators United and @techleapnl for ambitious deeptech entrepreneurs that want to grow bigger and make real impact \nCompanies in the programme will receive help to grow and gain access to national and international connections\, peer-to-peer learning\, and get the chance to connect to the key experts. \nFor batch #2 we are looking for 10 deep tech startups in the Agri & Food industry 🌱 🍔 \nPole Position adds the most value to companies with a technological proof of concept; a thorough market validation; and are ready to speed up towards a series A investment. \nDo you want to apply or know anyone who could benefit? ➡  https://www.techleap.nl/what-we-do/pole-position-initiative/ \n#PolePosition #DeepTech #Startups
URL:https://startupagenda.nl/event/agrifood-startup-programme-pole-position-application-open-until-8-april/
CATEGORIES:AgriFood
ATTACH;FMTTYPE=image/png:https://startupagenda.nl/wp-content/uploads/2022/03/PolePosition3.png
END:VEVENT
BEGIN:VEVENT
DTSTART;VALUE=DATE:20220323
DTEND;VALUE=DATE:20220324
DTSTAMP:20260423T192936
CREATED:20220323T133842Z
LAST-MODIFIED:20220323T133842Z
UID:7065-1647993600-1648079999@startupagenda.nl
SUMMARY:Agri&Food Startup Programme: Pole Position - APPLICATION OPEN UNTIL 8 April
DESCRIPTION:🤝 Join Pole Position! A joint initiative of a group of Incubators United and @techleapnl for ambitious deeptech entrepreneurs that want to grow bigger and make real impact \nCompanies in the programme will receive help to grow and gain access to national and international connections\, peer-to-peer learning\, and get the chance to connect to the key experts. \nFor batch #2 we are looking for 10 deep tech startups in the Agri & Food industry 🌱 🍔 \nPole Position adds the most value to companies with a technological proof of concept; a thorough market validation; and are ready to speed up towards a series A investment. \nDo you want to apply or know anyone who could benefit? ➡  https://www.techleap.nl/what-we-do/pole-position-initiative/ \n#PolePosition #DeepTech #Startups
URL:https://startupagenda.nl/event/agrifood-startup-programme-pole-position-application-open-until-8-april/
CATEGORIES:AgriFood
ATTACH;FMTTYPE=image/png:https://startupagenda.nl/wp-content/uploads/2022/03/PolePosition3.png
END:VEVENT
END:VCALENDAR