BEGIN:VCALENDAR
VERSION:2.0
PRODID:-//Startup Agenda - ECPv6.15.18//NONSGML v1.0//EN
CALSCALE:GREGORIAN
METHOD:PUBLISH
X-WR-CALNAME:Startup Agenda
X-ORIGINAL-URL:https://startupagenda.nl
X-WR-CALDESC:Events for Startup Agenda
REFRESH-INTERVAL;VALUE=DURATION:PT1H
X-Robots-Tag:noindex
X-PUBLISHED-TTL:PT1H
BEGIN:VTIMEZONE
TZID:Europe/Brussels
BEGIN:DAYLIGHT
TZOFFSETFROM:+0100
TZOFFSETTO:+0200
TZNAME:CEST
DTSTART:20240331T010000
END:DAYLIGHT
BEGIN:STANDARD
TZOFFSETFROM:+0200
TZOFFSETTO:+0100
TZNAME:CET
DTSTART:20241027T010000
END:STANDARD
BEGIN:DAYLIGHT
TZOFFSETFROM:+0100
TZOFFSETTO:+0200
TZNAME:CEST
DTSTART:20250330T010000
END:DAYLIGHT
BEGIN:STANDARD
TZOFFSETFROM:+0200
TZOFFSETTO:+0100
TZNAME:CET
DTSTART:20251026T010000
END:STANDARD
BEGIN:DAYLIGHT
TZOFFSETFROM:+0100
TZOFFSETTO:+0200
TZNAME:CEST
DTSTART:20260329T010000
END:DAYLIGHT
BEGIN:STANDARD
TZOFFSETFROM:+0200
TZOFFSETTO:+0100
TZNAME:CET
DTSTART:20261025T010000
END:STANDARD
END:VTIMEZONE
BEGIN:VEVENT
DTSTART;TZID=Europe/Brussels:20250526T020000
DTEND;TZID=Europe/Brussels:20250526T020000
DTSTAMP:20260421T194845
CREATED:20250304T131925Z
LAST-MODIFIED:20250315T155215Z
UID:9990-1748224800-1748224800@startupagenda.nl
SUMMARY:Brainport voor elkaar diner
DESCRIPTION:
URL:https://startupagenda.nl/event/brainport-voor-elkaar-diner/
LOCATION:Nog niet bekend
END:VEVENT
BEGIN:VEVENT
DTSTART;TZID=Europe/Brussels:20250526T020000
DTEND;TZID=Europe/Brussels:20250526T020000
DTSTAMP:20260421T194845
CREATED:20250304T131925Z
LAST-MODIFIED:20250315T155215Z
UID:9991-1748224800-1748224800@startupagenda.nl
SUMMARY:Financiële opzet en beheer voor niet-financiële oprichters
DESCRIPTION:
URL:https://startupagenda.nl/event/financiele-opzet-en-beheer-voor-niet-financiele-oprichters-2/
LOCATION:Alpha Building\, room 2.12
END:VEVENT
BEGIN:VEVENT
DTSTART;TZID=Europe/Brussels:20250526T170000
DTEND;TZID=Europe/Brussels:20250526T180000
DTSTAMP:20260421T194845
CREATED:20250304T131925Z
LAST-MODIFIED:20250315T155216Z
UID:9992-1748278800-1748282400@startupagenda.nl
SUMMARY:Finance Academy (Online Workshop for Startup Founders)
DESCRIPTION:Startup finance 💸 for dummies! Join our Finance Academy\, rated 4\,7/5 ⭐
URL:https://startupagenda.nl/event/finance-academy-online-workshop-for-startup-founders-11/
END:VEVENT
END:VCALENDAR