BEGIN:VCALENDAR
VERSION:2.0
PRODID:-//Startup Agenda - ECPv6.15.18//NONSGML v1.0//EN
CALSCALE:GREGORIAN
METHOD:PUBLISH
X-ORIGINAL-URL:https://startupagenda.nl
X-WR-CALDESC:Events for Startup Agenda
REFRESH-INTERVAL;VALUE=DURATION:PT1H
X-Robots-Tag:noindex
X-PUBLISHED-TTL:PT1H
BEGIN:VTIMEZONE
TZID:Europe/Brussels
BEGIN:DAYLIGHT
TZOFFSETFROM:+0100
TZOFFSETTO:+0200
TZNAME:CEST
DTSTART:20230326T010000
END:DAYLIGHT
BEGIN:STANDARD
TZOFFSETFROM:+0200
TZOFFSETTO:+0100
TZNAME:CET
DTSTART:20231029T010000
END:STANDARD
BEGIN:DAYLIGHT
TZOFFSETFROM:+0100
TZOFFSETTO:+0200
TZNAME:CEST
DTSTART:20240331T010000
END:DAYLIGHT
BEGIN:STANDARD
TZOFFSETFROM:+0200
TZOFFSETTO:+0100
TZNAME:CET
DTSTART:20241027T010000
END:STANDARD
BEGIN:DAYLIGHT
TZOFFSETFROM:+0100
TZOFFSETTO:+0200
TZNAME:CEST
DTSTART:20250330T010000
END:DAYLIGHT
BEGIN:STANDARD
TZOFFSETFROM:+0200
TZOFFSETTO:+0100
TZNAME:CET
DTSTART:20251026T010000
END:STANDARD
END:VTIMEZONE
BEGIN:VEVENT
DTSTART;TZID=Europe/Brussels:20241120T010000
DTEND;TZID=Europe/Brussels:20241120T010000
DTSTAMP:20260419T102811
CREATED:20240618T041016Z
LAST-MODIFIED:20240924T114129Z
UID:9467-1732064400-1732064400@startupagenda.nl
SUMMARY:Congres Grenzeloos Goed Onderwijs
DESCRIPTION:
URL:https://startupagenda.nl/event/congres-grenzeloos-goed-onderwijs/
LOCATION:N.n.b.
ATTACH;FMTTYPE=image/jpeg:https://startupagenda.nl/wp-content/uploads/2024/06/csm_Grenzeloos_Goed_Onderwijs_69f6055a29-aNDF4t.tmp_.jpg
END:VEVENT
BEGIN:VEVENT
DTSTART;TZID=Europe/Brussels:20241120T010000
DTEND;TZID=Europe/Brussels:20241120T010000
DTSTAMP:20260419T102811
CREATED:20240807T052621Z
LAST-MODIFIED:20240924T114129Z
UID:9615-1732064400-1732064400@startupagenda.nl
SUMMARY:iKnow-dag 2024
DESCRIPTION:Wednesday 20 November 2024\n10:00\n– 16:00\nHTC – Conference center\nPNA Group
URL:https://startupagenda.nl/event/iknow-dag-2024/
ATTACH;FMTTYPE=image/jpeg:https://startupagenda.nl/wp-content/uploads/2024/08/final-jli3vM.tmp_.jpg
END:VEVENT
BEGIN:VEVENT
DTSTART;TZID=Europe/Brussels:20241120T010000
DTEND;TZID=Europe/Brussels:20241120T010000
DTSTAMP:20260419T102811
CREATED:20240917T114011Z
LAST-MODIFIED:20240924T114129Z
UID:9742-1732064400-1732064400@startupagenda.nl
SUMMARY:SPECIAL: Hoe je MedTech start-up boosten?
DESCRIPTION:
URL:https://startupagenda.nl/event/special-hoe-je-medtech-start-up-boosten/
LOCATION:Alpha Building\, room 2.12
ATTACH;FMTTYPE=image/jpeg:https://startupagenda.nl/wp-content/uploads/2024/09/csm_Nathalie_en_Robert__06aed2d032-67FUt6.tmp_.jpg
END:VEVENT
END:VCALENDAR