BEGIN:VCALENDAR
VERSION:2.0
PRODID:-//Startup Agenda - ECPv6.15.18//NONSGML v1.0//EN
CALSCALE:GREGORIAN
METHOD:PUBLISH
X-WR-CALNAME:Startup Agenda
X-ORIGINAL-URL:https://startupagenda.nl
X-WR-CALDESC:Events for Startup Agenda
REFRESH-INTERVAL;VALUE=DURATION:PT1H
X-Robots-Tag:noindex
X-PUBLISHED-TTL:PT1H
BEGIN:VTIMEZONE
TZID:Europe/Brussels
BEGIN:DAYLIGHT
TZOFFSETFROM:+0100
TZOFFSETTO:+0200
TZNAME:CEST
DTSTART:20230326T010000
END:DAYLIGHT
BEGIN:STANDARD
TZOFFSETFROM:+0200
TZOFFSETTO:+0100
TZNAME:CET
DTSTART:20231029T010000
END:STANDARD
BEGIN:DAYLIGHT
TZOFFSETFROM:+0100
TZOFFSETTO:+0200
TZNAME:CEST
DTSTART:20240331T010000
END:DAYLIGHT
BEGIN:STANDARD
TZOFFSETFROM:+0200
TZOFFSETTO:+0100
TZNAME:CET
DTSTART:20241027T010000
END:STANDARD
BEGIN:DAYLIGHT
TZOFFSETFROM:+0100
TZOFFSETTO:+0200
TZNAME:CEST
DTSTART:20250330T010000
END:DAYLIGHT
BEGIN:STANDARD
TZOFFSETFROM:+0200
TZOFFSETTO:+0100
TZNAME:CET
DTSTART:20251026T010000
END:STANDARD
END:VTIMEZONE
BEGIN:VEVENT
DTSTART;TZID=Europe/Brussels:20241030T010000
DTEND;TZID=Europe/Brussels:20241030T010000
DTSTAMP:20260422T123224
CREATED:20240917T113931Z
LAST-MODIFIED:20240924T114044Z
UID:9716-1730250000-1730250000@startupagenda.nl
SUMMARY:Meten met Resultaat
DESCRIPTION:
URL:https://startupagenda.nl/event/meten-met-resultaat/
LOCATION:Mikrocentrum
ATTACH;FMTTYPE=image/jpeg:https://startupagenda.nl/wp-content/uploads/2024/09/csm_Mikrocentrum_1e87b31fb6-kab4Wr.tmp_.jpg
END:VEVENT
BEGIN:VEVENT
DTSTART;TZID=Europe/Brussels:20241030T010000
DTEND;TZID=Europe/Brussels:20241030T010000
DTSTAMP:20260422T123224
CREATED:20240917T113932Z
LAST-MODIFIED:20240924T114044Z
UID:9718-1730250000-1730250000@startupagenda.nl
SUMMARY:Productontwikkeling: wat heb je nodig voor een succesvol product
DESCRIPTION:
URL:https://startupagenda.nl/event/productontwikkeling-wat-heb-je-nodig-voor-een-succesvol-product/
LOCATION:Alpha Building\, room 2.12
ATTACH;FMTTYPE=image/jpeg:https://startupagenda.nl/wp-content/uploads/2024/09/csm_NEWtemplatewebsite15361280_20_d67f92684e-Nlidc3.tmp_.jpg
END:VEVENT
END:VCALENDAR