BEGIN:VCALENDAR
VERSION:2.0
PRODID:-//Startup Agenda - ECPv6.15.18//NONSGML v1.0//EN
CALSCALE:GREGORIAN
METHOD:PUBLISH
X-ORIGINAL-URL:https://startupagenda.nl
X-WR-CALDESC:Events for Startup Agenda
REFRESH-INTERVAL;VALUE=DURATION:PT1H
X-Robots-Tag:noindex
X-PUBLISHED-TTL:PT1H
BEGIN:VTIMEZONE
TZID:Europe/Amsterdam
BEGIN:DAYLIGHT
TZOFFSETFROM:+0100
TZOFFSETTO:+0200
TZNAME:CEST
DTSTART:20210328T010000
END:DAYLIGHT
BEGIN:STANDARD
TZOFFSETFROM:+0200
TZOFFSETTO:+0100
TZNAME:CET
DTSTART:20211031T010000
END:STANDARD
BEGIN:DAYLIGHT
TZOFFSETFROM:+0100
TZOFFSETTO:+0200
TZNAME:CEST
DTSTART:20220327T010000
END:DAYLIGHT
BEGIN:STANDARD
TZOFFSETFROM:+0200
TZOFFSETTO:+0100
TZNAME:CET
DTSTART:20221030T010000
END:STANDARD
BEGIN:DAYLIGHT
TZOFFSETFROM:+0100
TZOFFSETTO:+0200
TZNAME:CEST
DTSTART:20230326T010000
END:DAYLIGHT
BEGIN:STANDARD
TZOFFSETFROM:+0200
TZOFFSETTO:+0100
TZNAME:CET
DTSTART:20231029T010000
END:STANDARD
END:VTIMEZONE
BEGIN:VTIMEZONE
TZID:Europe/Brussels
BEGIN:DAYLIGHT
TZOFFSETFROM:+0100
TZOFFSETTO:+0200
TZNAME:CEST
DTSTART:20210328T010000
END:DAYLIGHT
BEGIN:STANDARD
TZOFFSETFROM:+0200
TZOFFSETTO:+0100
TZNAME:CET
DTSTART:20211031T010000
END:STANDARD
BEGIN:DAYLIGHT
TZOFFSETFROM:+0100
TZOFFSETTO:+0200
TZNAME:CEST
DTSTART:20220327T010000
END:DAYLIGHT
BEGIN:STANDARD
TZOFFSETFROM:+0200
TZOFFSETTO:+0100
TZNAME:CET
DTSTART:20221030T010000
END:STANDARD
BEGIN:DAYLIGHT
TZOFFSETFROM:+0100
TZOFFSETTO:+0200
TZNAME:CEST
DTSTART:20230326T010000
END:DAYLIGHT
BEGIN:STANDARD
TZOFFSETFROM:+0200
TZOFFSETTO:+0100
TZNAME:CET
DTSTART:20231029T010000
END:STANDARD
END:VTIMEZONE
BEGIN:VEVENT
DTSTART;TZID=Europe/Amsterdam:20220819T180000
DTEND;TZID=Europe/Amsterdam:20220927T210000
DTSTAMP:20260420T103341
CREATED:20220804T103650Z
LAST-MODIFIED:20220823T110718Z
UID:7505-1660932000-1664312400@startupagenda.nl
SUMMARY:Startup Course: Set - VALIDATE YOUR SOLUTION
DESCRIPTION:SET – VALIDATE YOUR SOLUTION\nPART OF THE STARTUP READINESS PROGRAM \nDid you find the first customer segment that is experiencing the same problem? Would you like to discover whether your solution is the best solution to their problem? Then this ‘SET’ module of the Startup Readiness Program is right for you! \n\n\n\n\n  \nABOUT THE PROGRAM \nDuring 5 sessions spread over 10 weeks\, you will learn to validate your solution with your earlyvangelist. The program is a fast-paced mix of theory\, practical assignments and individual coaching. The program is provided by experts in the Brabant startup ecosystem. \n\n\n\n\n  \nWHAT’S IN IT FOR ME? \n\nYou are going to find and demonstrate the problem/solution fit. Continuous validation is central to this;\nAccess to a vast startup ecosystem and a network of like-minded entrepreneurs;\nFree program valued at €7.500.\n\n\n\n  \nWHAT DO WE EXPECT FROM YOU? \n• Your startup meets the selection criteria\, which contains that you already found a first customer segment that is experiencing the same problem; \n• Presence and commitment throughout the program; \n• Active contribution during the sessions. \n\n\n\n\n  \nTHE PROGRAM \n\nTUESDAY\, SEPTEMBER 27 | 6 PM – 9 PM\n\nPROBLEM VALIDATION \nYou get to work with the earlyvangelist\, how did you validate the problem? What is your evidence base? \n\n\n\n\n\nTUESDAY\, OCTOBER 11 | 6 PM – 9 PM\n\nSOLUTION \nWhat is your solution and what are the assumptions? You will learn how to demonstrate your value to the earlyvangelist. \n\n\n\n\n\nTUESDAY\, OCTOBER 25 | 6 PM – 9 PM\n\nCUSTOMER INTERVIEWS \nHow to conduct a good interview\, what questions to ask and how to analyse the outcome. \n\n\n\n\n\nTUESDAY\, NOVEMBER 15 | 6 PM – 9 PM\n\nPROBLEM/SOLUTION FIT \nWhat does a problem/solution fit look like and what does it mean for your startup? You will learn when you have reached your problem/solution fit. \n\n\n\n\n\nTUESDAY\, NOVEMBER 29 | 6 PM – 9 PM\n\nROADMAP \nHow do you avoid premature growth? You will work with a 100-day plan and the resources required for this.
URL:https://startupagenda.nl/event/startup-course-validate-your-solution/
LOCATION:TU/e\, Building Alpha\, Het Eeuwsel 57\, Eindhoven\, 5612 AS\, Netherlands
CATEGORIES:Workshops
ATTACH;FMTTYPE=image/png:https://startupagenda.nl/wp-content/uploads/2022/08/Screenshot-2022-08-04-at-14.11.24.png
END:VEVENT
BEGIN:VEVENT
DTSTART;TZID=Europe/Amsterdam:20220819T180000
DTEND;TZID=Europe/Amsterdam:20220927T210000
DTSTAMP:20260420T103341
CREATED:20220804T103650Z
LAST-MODIFIED:20220823T110718Z
UID:7505-1660932000-1664312400@startupagenda.nl
SUMMARY:Startup Course: Set - VALIDATE YOUR SOLUTION
DESCRIPTION:SET – VALIDATE YOUR SOLUTION\nPART OF THE STARTUP READINESS PROGRAM \nDid you find the first customer segment that is experiencing the same problem? Would you like to discover whether your solution is the best solution to their problem? Then this ‘SET’ module of the Startup Readiness Program is right for you! \n\n\n\n\n  \nABOUT THE PROGRAM \nDuring 5 sessions spread over 10 weeks\, you will learn to validate your solution with your earlyvangelist. The program is a fast-paced mix of theory\, practical assignments and individual coaching. The program is provided by experts in the Brabant startup ecosystem. \n\n\n\n\n  \nWHAT’S IN IT FOR ME? \n\nYou are going to find and demonstrate the problem/solution fit. Continuous validation is central to this;\nAccess to a vast startup ecosystem and a network of like-minded entrepreneurs;\nFree program valued at €7.500.\n\n\n\n  \nWHAT DO WE EXPECT FROM YOU? \n• Your startup meets the selection criteria\, which contains that you already found a first customer segment that is experiencing the same problem; \n• Presence and commitment throughout the program; \n• Active contribution during the sessions. \n\n\n\n\n  \nTHE PROGRAM \n\nTUESDAY\, SEPTEMBER 27 | 6 PM – 9 PM\n\nPROBLEM VALIDATION \nYou get to work with the earlyvangelist\, how did you validate the problem? What is your evidence base? \n\n\n\n\n\nTUESDAY\, OCTOBER 11 | 6 PM – 9 PM\n\nSOLUTION \nWhat is your solution and what are the assumptions? You will learn how to demonstrate your value to the earlyvangelist. \n\n\n\n\n\nTUESDAY\, OCTOBER 25 | 6 PM – 9 PM\n\nCUSTOMER INTERVIEWS \nHow to conduct a good interview\, what questions to ask and how to analyse the outcome. \n\n\n\n\n\nTUESDAY\, NOVEMBER 15 | 6 PM – 9 PM\n\nPROBLEM/SOLUTION FIT \nWhat does a problem/solution fit look like and what does it mean for your startup? You will learn when you have reached your problem/solution fit. \n\n\n\n\n\nTUESDAY\, NOVEMBER 29 | 6 PM – 9 PM\n\nROADMAP \nHow do you avoid premature growth? You will work with a 100-day plan and the resources required for this.
URL:https://startupagenda.nl/event/startup-course-validate-your-solution/
LOCATION:TU/e\, Building Alpha\, Het Eeuwsel 57\, Eindhoven\, 5612 AS\, Netherlands
CATEGORIES:Workshops
ATTACH;FMTTYPE=image/png:https://startupagenda.nl/wp-content/uploads/2022/08/Screenshot-2022-08-04-at-14.11.24.png
END:VEVENT
BEGIN:VEVENT
DTSTART;TZID=Europe/Amsterdam:20220822T080000
DTEND;TZID=Europe/Amsterdam:20220826T170000
DTSTAMP:20260420T103341
CREATED:20220802T105339Z
LAST-MODIFIED:20220802T105339Z
UID:7479-1661155200-1661533200@startupagenda.nl
SUMMARY:CO-FOUND A DEEP-TECH VENTURE THIS FALL
DESCRIPTION:We’re preparing for the start of the next cohort of our deep-tech venture building program in October\, and we’re searching now for co-founders (CEOs\, CTOs and CBOs) to join teams. \nWe give co-founders a unique opportunity to build startups from the ground up\, starting with advanced technologies from world-renowned institutions and tech companies. \nWe already have three technologies up for grabs\, plus we are searching for collaborators for our first open challenge on energy storage. We are continually scouting and assessing new technologies and will update the co-founder landing page as we bring them online. \nWhat’s in it for co-founders?  \n\nThe co-founder team starts with 70% of the shares. (If the technology is very mature due to investments by the tech institute\, this could be less.)\nPre-seed investment if the startup passes the first phase successfully\nProven nine-month program\nWhen the time is right\, we support you in deal-making and investor connections.\n\nImportant dates \n\nInterview week after summer holidays: August 22nd\nFasTrackathon: October 12th\nProgram Start: October 31st\n\nRead more about the HighTechXL program\, the technologies and how to become a co-founder of a deep-tech venture. You can start by filling out the entrepreneur questionnaire\, and our team will be in touch at the end of August after the summer holidays.
URL:https://startupagenda.nl/event/co-found-a-deep-tech-venture-this-fall/
LOCATION:High Tech Campus Eindhoven\, High Tech Campus 1\, Eindhoven\, Netherlands
ATTACH;FMTTYPE=image/png:https://startupagenda.nl/wp-content/uploads/2022/08/Screenshot-2022-08-02-at-14.50.46.png
ORGANIZER;CN="HighTechXL":MAILTO:5656 AE, Eindhoven more information info@hightechxl.com
END:VEVENT
BEGIN:VEVENT
DTSTART;TZID=Europe/Brussels:20221208T010000
DTEND;TZID=Europe/Brussels:20221208T010000
DTSTAMP:20260420T103341
CREATED:20221201T204509Z
LAST-MODIFIED:20221207T212209Z
UID:8237-1670461200-1670461200@startupagenda.nl
SUMMARY:Energy Investor Day
DESCRIPTION:Energy Investor Day
URL:https://startupagenda.nl/event/energy-investor-day/
ATTACH;FMTTYPE=image/jpeg:https://startupagenda.nl/wp-content/uploads/2022/12/635fad035a351-4NbJUU.tmp_.jpg
END:VEVENT
BEGIN:VEVENT
DTSTART;TZID=Europe/Brussels:20221208T010000
DTEND;TZID=Europe/Brussels:20221208T010000
DTSTAMP:20260420T103341
CREATED:20221201T204509Z
LAST-MODIFIED:20221207T212208Z
UID:8238-1670461200-1670461200@startupagenda.nl
SUMMARY:Pipple Tech Talk “Proactive algorithm monitoring & detecting new opportunities”
DESCRIPTION:
URL:https://startupagenda.nl/event/pipple-tech-talk-proactive-algorithm-monitoring-detecting-new-opportunities/
LOCATION:Gashouder 36B\, 5613 CR Eindhoven
ATTACH;FMTTYPE=image/jpeg:https://startupagenda.nl/wp-content/uploads/2022/12/csm_Techtalk_Pipple_351aa3fab7-AdVp58.tmp_.jpg
END:VEVENT
BEGIN:VEVENT
DTSTART;TZID=Europe/Brussels:20221208T010000
DTEND;TZID=Europe/Brussels:20221208T010000
DTSTAMP:20260420T103341
CREATED:20221201T204509Z
LAST-MODIFIED:20221207T212208Z
UID:8240-1670461200-1670461200@startupagenda.nl
SUMMARY:Techcafé | Additive Manufacturing
DESCRIPTION:
URL:https://startupagenda.nl/event/techcafe-additive-manufacturing/
LOCATION:Mikrocentrum in Veldhoven
ATTACH;FMTTYPE=image/jpeg:https://startupagenda.nl/wp-content/uploads/2022/12/csm_Techcafe_Mikrocentrum_7_juli_2022_1_542287e08f-JyDw9a.tmp_.jpg
END:VEVENT
BEGIN:VEVENT
DTSTART;TZID=Europe/Brussels:20221208T010000
DTEND;TZID=Europe/Brussels:20221208T010000
DTSTAMP:20260420T103341
CREATED:20221201T204510Z
LAST-MODIFIED:20221207T212209Z
UID:8242-1670461200-1670461200@startupagenda.nl
SUMMARY:AgroBOTS Business Masterclasses
DESCRIPTION:AgroBOTS Business Masterclasses
URL:https://startupagenda.nl/event/agrobots-business-masterclasses/
ATTACH;FMTTYPE=image/jpeg:https://startupagenda.nl/wp-content/uploads/2022/12/6373717d1c05f-rWFt5c.tmp_.jpg
END:VEVENT
BEGIN:VEVENT
DTSTART;TZID=Europe/Brussels:20221208T010000
DTEND;TZID=Europe/Brussels:20221208T010000
DTSTAMP:20260420T103341
CREATED:20221201T204510Z
LAST-MODIFIED:20221207T212209Z
UID:8243-1670461200-1670461200@startupagenda.nl
SUMMARY:High Tech Next 2022: "We are innovators"
DESCRIPTION:Thursday 08 December 2022\n13:00\n– 19:00\nConference Center\, High Tech Campus Eindhoven\nHigh Tech Campus Eindhoven
URL:https://startupagenda.nl/event/high-tech-next-2022-we-are-innovators-2/
ATTACH;FMTTYPE=image/jpeg:https://startupagenda.nl/wp-content/uploads/2022/12/HTN_R18_1920x1080_Leeg-0mGFBT.tmp_.jpg
END:VEVENT
BEGIN:VEVENT
DTSTART;TZID=Europe/Amsterdam:20221208T100000
DTEND;TZID=Europe/Amsterdam:20221208T160000
DTSTAMP:20260420T103341
CREATED:20221130T145000Z
LAST-MODIFIED:20221130T145000Z
UID:8028-1670493600-1670515200@startupagenda.nl
SUMMARY:HIGH TECH NEXT SET FOR DECEMBER 8TH
DESCRIPTION:Get ready for High Tech Next 2022: “We are Innovators\,” the High Tech Campus Eindhoven event of the year! \nDuring High Tech Next\, more than 20 high tech companies will display their latest innovations on Healthcare\, Mobility\, Sustainability\, Photonics and Emerging Digital Technology.\nThere will be a variety of keynote speakers\, a panel and – most importantly – networking opportunities.\nWhile High Tech Next is sold out\, the good news is you can now register to receive the recording of the plenary program after the event. \nRegister here
URL:https://startupagenda.nl/event/high-tech-next-set-for-december-8th/
LOCATION:High Tech Campus Eindhoven\, High Tech Campus 1\, Eindhoven\, Netherlands
CATEGORIES:Conference,Network Event
ATTACH;FMTTYPE=image/png:https://startupagenda.nl/wp-content/uploads/2022/11/Screenshot-2022-11-30-at-16.46.03.png
END:VEVENT
BEGIN:VEVENT
DTSTART;TZID=Europe/Amsterdam:20221208T130000
DTEND;TZID=Europe/Amsterdam:20221208T183000
DTSTAMP:20260420T103341
CREATED:20221115T074511Z
LAST-MODIFIED:20221115T074511Z
UID:7831-1670504400-1670524200@startupagenda.nl
SUMMARY:High Tech Next 2022: "We are innovators"
DESCRIPTION:High Tech Next is set for Thursday\, December 8th at the Conference Center at High Tech Campus Eindhoven. \nThursday 8 December\n13.00 – 18.30\nConference Center\, High Tech Campus Eindhoven \nAt High Tech Next in November 2019\, we presented our plan to become a leading tech hub by 2030\, a hub with the same global prominence as San Francisco\, Boston and Berlin. \nThree years later\, we’re accelerating toward that goal. We’re innovators\, and we’re always thinking about what’s next. So\, what’s next? Our biggest tech event of the year. \nDecember’s High Tech Next conference will focus on how technologies like AI\, Photonics and MedTech can help us solve global challenges. We’ve come through a difficult two years\, so what did we learn? Are there new ways to collaborate and innovate\, especially after the pandemic? Did communicating online\, for example\, open up new markets and opportunities to collaborate? \nWe’ll show you new technologies and innovations being created at High Tech Campus Eindhoven. You’ll get a sneak peek into the near feature and meet more than 20 high tech companies who will display their latest innovations on AI\, Photonics\, MedTech and the Metaverse. \nWe’ll have a variety of keynote speakers\, panels and – most importantly – networking opportunities. Why? Because collaboration starts with networking. \nWe will announce the speakers soon! \nREGISTER
URL:https://startupagenda.nl/event/high-tech-next-2022-we-are-innovators/
LOCATION:High Tech Campus Eindhoven\, High Tech Campus 1\, Eindhoven\, Netherlands
ATTACH;FMTTYPE=image/png:https://startupagenda.nl/wp-content/uploads/2022/11/Screenshot-2022-11-15-at-09.31.31.png
END:VEVENT
END:VCALENDAR