BEGIN:VCALENDAR
VERSION:2.0
PRODID:-//Startup Agenda - ECPv6.15.18//NONSGML v1.0//EN
CALSCALE:GREGORIAN
METHOD:PUBLISH
X-WR-CALNAME:Startup Agenda
X-ORIGINAL-URL:https://startupagenda.nl
X-WR-CALDESC:Events for Startup Agenda
REFRESH-INTERVAL;VALUE=DURATION:PT1H
X-Robots-Tag:noindex
X-PUBLISHED-TTL:PT1H
BEGIN:VTIMEZONE
TZID:Europe/Amsterdam
BEGIN:DAYLIGHT
TZOFFSETFROM:+0100
TZOFFSETTO:+0200
TZNAME:CEST
DTSTART:20210328T010000
END:DAYLIGHT
BEGIN:STANDARD
TZOFFSETFROM:+0200
TZOFFSETTO:+0100
TZNAME:CET
DTSTART:20211031T010000
END:STANDARD
BEGIN:DAYLIGHT
TZOFFSETFROM:+0100
TZOFFSETTO:+0200
TZNAME:CEST
DTSTART:20220327T010000
END:DAYLIGHT
BEGIN:STANDARD
TZOFFSETFROM:+0200
TZOFFSETTO:+0100
TZNAME:CET
DTSTART:20221030T010000
END:STANDARD
BEGIN:DAYLIGHT
TZOFFSETFROM:+0100
TZOFFSETTO:+0200
TZNAME:CEST
DTSTART:20230326T010000
END:DAYLIGHT
BEGIN:STANDARD
TZOFFSETFROM:+0200
TZOFFSETTO:+0100
TZNAME:CET
DTSTART:20231029T010000
END:STANDARD
END:VTIMEZONE
BEGIN:VTIMEZONE
TZID:UTC
BEGIN:STANDARD
TZOFFSETFROM:+0000
TZOFFSETTO:+0000
TZNAME:UTC
DTSTART:20210101T000000
END:STANDARD
END:VTIMEZONE
BEGIN:VEVENT
DTSTART;TZID=Europe/Amsterdam:20220819T180000
DTEND;TZID=Europe/Amsterdam:20220927T210000
DTSTAMP:20260423T034017
CREATED:20220804T103650Z
LAST-MODIFIED:20220823T110718Z
UID:7505-1660932000-1664312400@startupagenda.nl
SUMMARY:Startup Course: Set - VALIDATE YOUR SOLUTION
DESCRIPTION:SET – VALIDATE YOUR SOLUTION\nPART OF THE STARTUP READINESS PROGRAM \nDid you find the first customer segment that is experiencing the same problem? Would you like to discover whether your solution is the best solution to their problem? Then this ‘SET’ module of the Startup Readiness Program is right for you! \n\n\n\n\n  \nABOUT THE PROGRAM \nDuring 5 sessions spread over 10 weeks\, you will learn to validate your solution with your earlyvangelist. The program is a fast-paced mix of theory\, practical assignments and individual coaching. The program is provided by experts in the Brabant startup ecosystem. \n\n\n\n\n  \nWHAT’S IN IT FOR ME? \n\nYou are going to find and demonstrate the problem/solution fit. Continuous validation is central to this;\nAccess to a vast startup ecosystem and a network of like-minded entrepreneurs;\nFree program valued at €7.500.\n\n\n\n  \nWHAT DO WE EXPECT FROM YOU? \n• Your startup meets the selection criteria\, which contains that you already found a first customer segment that is experiencing the same problem; \n• Presence and commitment throughout the program; \n• Active contribution during the sessions. \n\n\n\n\n  \nTHE PROGRAM \n\nTUESDAY\, SEPTEMBER 27 | 6 PM – 9 PM\n\nPROBLEM VALIDATION \nYou get to work with the earlyvangelist\, how did you validate the problem? What is your evidence base? \n\n\n\n\n\nTUESDAY\, OCTOBER 11 | 6 PM – 9 PM\n\nSOLUTION \nWhat is your solution and what are the assumptions? You will learn how to demonstrate your value to the earlyvangelist. \n\n\n\n\n\nTUESDAY\, OCTOBER 25 | 6 PM – 9 PM\n\nCUSTOMER INTERVIEWS \nHow to conduct a good interview\, what questions to ask and how to analyse the outcome. \n\n\n\n\n\nTUESDAY\, NOVEMBER 15 | 6 PM – 9 PM\n\nPROBLEM/SOLUTION FIT \nWhat does a problem/solution fit look like and what does it mean for your startup? You will learn when you have reached your problem/solution fit. \n\n\n\n\n\nTUESDAY\, NOVEMBER 29 | 6 PM – 9 PM\n\nROADMAP \nHow do you avoid premature growth? You will work with a 100-day plan and the resources required for this.
URL:https://startupagenda.nl/event/startup-course-validate-your-solution/
LOCATION:TU/e\, Building Alpha\, Het Eeuwsel 57\, Eindhoven\, 5612 AS\, Netherlands
CATEGORIES:Workshops
ATTACH;FMTTYPE=image/png:https://startupagenda.nl/wp-content/uploads/2022/08/Screenshot-2022-08-04-at-14.11.24.png
END:VEVENT
BEGIN:VEVENT
DTSTART;TZID=Europe/Amsterdam:20220819T180000
DTEND;TZID=Europe/Amsterdam:20220927T210000
DTSTAMP:20260423T034018
CREATED:20220804T103650Z
LAST-MODIFIED:20220823T110718Z
UID:7505-1660932000-1664312400@startupagenda.nl
SUMMARY:Startup Course: Set - VALIDATE YOUR SOLUTION
DESCRIPTION:SET – VALIDATE YOUR SOLUTION\nPART OF THE STARTUP READINESS PROGRAM \nDid you find the first customer segment that is experiencing the same problem? Would you like to discover whether your solution is the best solution to their problem? Then this ‘SET’ module of the Startup Readiness Program is right for you! \n\n\n\n\n  \nABOUT THE PROGRAM \nDuring 5 sessions spread over 10 weeks\, you will learn to validate your solution with your earlyvangelist. The program is a fast-paced mix of theory\, practical assignments and individual coaching. The program is provided by experts in the Brabant startup ecosystem. \n\n\n\n\n  \nWHAT’S IN IT FOR ME? \n\nYou are going to find and demonstrate the problem/solution fit. Continuous validation is central to this;\nAccess to a vast startup ecosystem and a network of like-minded entrepreneurs;\nFree program valued at €7.500.\n\n\n\n  \nWHAT DO WE EXPECT FROM YOU? \n• Your startup meets the selection criteria\, which contains that you already found a first customer segment that is experiencing the same problem; \n• Presence and commitment throughout the program; \n• Active contribution during the sessions. \n\n\n\n\n  \nTHE PROGRAM \n\nTUESDAY\, SEPTEMBER 27 | 6 PM – 9 PM\n\nPROBLEM VALIDATION \nYou get to work with the earlyvangelist\, how did you validate the problem? What is your evidence base? \n\n\n\n\n\nTUESDAY\, OCTOBER 11 | 6 PM – 9 PM\n\nSOLUTION \nWhat is your solution and what are the assumptions? You will learn how to demonstrate your value to the earlyvangelist. \n\n\n\n\n\nTUESDAY\, OCTOBER 25 | 6 PM – 9 PM\n\nCUSTOMER INTERVIEWS \nHow to conduct a good interview\, what questions to ask and how to analyse the outcome. \n\n\n\n\n\nTUESDAY\, NOVEMBER 15 | 6 PM – 9 PM\n\nPROBLEM/SOLUTION FIT \nWhat does a problem/solution fit look like and what does it mean for your startup? You will learn when you have reached your problem/solution fit. \n\n\n\n\n\nTUESDAY\, NOVEMBER 29 | 6 PM – 9 PM\n\nROADMAP \nHow do you avoid premature growth? You will work with a 100-day plan and the resources required for this.
URL:https://startupagenda.nl/event/startup-course-validate-your-solution/
LOCATION:TU/e\, Building Alpha\, Het Eeuwsel 57\, Eindhoven\, 5612 AS\, Netherlands
CATEGORIES:Workshops
ATTACH;FMTTYPE=image/png:https://startupagenda.nl/wp-content/uploads/2022/08/Screenshot-2022-08-04-at-14.11.24.png
END:VEVENT
BEGIN:VEVENT
DTSTART;VALUE=DATE:20220912
DTEND;VALUE=DATE:20220919
DTSTAMP:20260423T034018
CREATED:20220620T074801Z
LAST-MODIFIED:20220719T125854Z
UID:7403-1662940800-1663545599@startupagenda.nl
SUMMARY:Samen Tegen Voedselverspilling
DESCRIPTION:Maak klimaatimpact en doe ook mee met de Verspillingsvrije Week\nEen kwart van ons eten in Nederland wordt verspild. Al dat eten wordt verbouwd\, verwerkt\, vervoerd\, gekoeld en warm gemaakt. We stoppen er veel energie in. Energie die de aarde opwarmt. Des te belangrijker dat we zo min mogelijk eten verspillen. Bijvoorbeeld door je restjes niet te vergeten en ze op te eten. Een simpele daad voor een beter klimaat. Die boodschap zullen we tijdens de Verspillingsvrije Week met heel Nederland delen. Van 12 t/m 18 september zullen we samen met meer dan 100 partners Nederlanders motiveren om verspillingsvrij te kopen\, koken en bewaren.\n\n \nHeb je je nog niet aangemeld als partner? Doe dat dan hier. Meedoen is gratis. \n\nThema restjes\nWe weten dat bijna niemand voedsel wil verspillen. Toch houdt de één soms een paar boterhammen over en de ander ontdekt het restje pasta in de koelkast net te laat. Door creatief om te gaan met restjes\, voorkom je als consument al een hoop verspilling. Daarom geven we tijdens de Verspillingsvrije Week tips & tricks voor restjes\, bijvoorbeeld waar je ze het best kunt bewaren\, hoe je ze omtovert tot een nieuwe maaltijd en hoe je ze voorkomt. Als iedereen z’n kleine bijdrage levert\, dan komen we samen tot een groots resultaat voor ons klimaat.
URL:https://startupagenda.nl/event/samen-tegen-voedselverspilling/
CATEGORIES:AgriFood
ATTACH;FMTTYPE=image/png:https://startupagenda.nl/wp-content/uploads/2022/06/VVW_LOGO_RGB_1.png
END:VEVENT
BEGIN:VEVENT
DTSTART;TZID=Europe/Amsterdam:20220822T080000
DTEND;TZID=Europe/Amsterdam:20220826T170000
DTSTAMP:20260423T034018
CREATED:20220802T105339Z
LAST-MODIFIED:20220802T105339Z
UID:7479-1661155200-1661533200@startupagenda.nl
SUMMARY:CO-FOUND A DEEP-TECH VENTURE THIS FALL
DESCRIPTION:We’re preparing for the start of the next cohort of our deep-tech venture building program in October\, and we’re searching now for co-founders (CEOs\, CTOs and CBOs) to join teams. \nWe give co-founders a unique opportunity to build startups from the ground up\, starting with advanced technologies from world-renowned institutions and tech companies. \nWe already have three technologies up for grabs\, plus we are searching for collaborators for our first open challenge on energy storage. We are continually scouting and assessing new technologies and will update the co-founder landing page as we bring them online. \nWhat’s in it for co-founders?  \n\nThe co-founder team starts with 70% of the shares. (If the technology is very mature due to investments by the tech institute\, this could be less.)\nPre-seed investment if the startup passes the first phase successfully\nProven nine-month program\nWhen the time is right\, we support you in deal-making and investor connections.\n\nImportant dates \n\nInterview week after summer holidays: August 22nd\nFasTrackathon: October 12th\nProgram Start: October 31st\n\nRead more about the HighTechXL program\, the technologies and how to become a co-founder of a deep-tech venture. You can start by filling out the entrepreneur questionnaire\, and our team will be in touch at the end of August after the summer holidays.
URL:https://startupagenda.nl/event/co-found-a-deep-tech-venture-this-fall/
LOCATION:High Tech Campus Eindhoven\, High Tech Campus 1\, Eindhoven\, Netherlands
ATTACH;FMTTYPE=image/png:https://startupagenda.nl/wp-content/uploads/2022/08/Screenshot-2022-08-02-at-14.50.46.png
ORGANIZER;CN="HighTechXL":MAILTO:5656 AE, Eindhoven more information info@hightechxl.com
END:VEVENT
BEGIN:VEVENT
DTSTART;TZID=UTC:20220915T080000
DTEND;TZID=UTC:20220915T170000
DTSTAMP:20260423T034018
CREATED:20220822T140624Z
LAST-MODIFIED:20220822T140624Z
UID:7649-1663228800-1663261200@startupagenda.nl
SUMMARY:Money Meets Ideas Brainport
DESCRIPTION:Op 15 september organiseren wij een fysieke Money Meets Ideas bijeenkomst voor de Brainport regio. Tijdens dit event kunnen startups en scale-ups hun kapitaalbehoefte tussen de 100.000 euro en 1\,5mio presenteren aan een groep van tussen de 15 en 50 informal investors. Daarnaast heeft Money Meets Ideas een netwerk van ruim 1400 informal investors\, waarbij wij deze startups ook onder de aandacht brengen. De Brainport bijeenkomst is één van de best bezochte bijeenkomsten van Money Meets Ideas\, dus een mooie kans om risicodragend kapitaal op te halen. \nStartups die geïnteresseerd zijn om te pitchen tijdens een bijeenkomst van Money Meets Ideas kunnen hun pitchdeck sturen naar moneymeetsideas@kplusv.nl. \nAls investeerder deze bijeenkomst bijwonen? Neem dan contact op met uw lokale vermogensmanager van de Rabobank of meld u aan via de online Money Meets Ideas Portal.
URL:https://startupagenda.nl/event/money-meets-ideas-brainport/
CATEGORIES:Competitions,Network Event,Workshops
ATTACH;FMTTYPE=image/png:https://startupagenda.nl/wp-content/uploads/2022/08/Screenshot-2022-08-22-at-18.04.17.png
ORGANIZER;CN="KplusV":MAILTO:moneymeetsideas@kplusv.nl
END:VEVENT
BEGIN:VEVENT
DTSTART;TZID=Europe/Amsterdam:20220818T170000
DTEND;TZID=Europe/Amsterdam:20220818T200000
DTSTAMP:20260423T034018
CREATED:20220804T102454Z
LAST-MODIFIED:20220805T054035Z
UID:7490-1660842000-1660852800@startupagenda.nl
SUMMARY:Startup Course: Game - FIND YOUR CUSTOMER PROBLEM
DESCRIPTION:GAME – FIND YOUR CUSTOMER PROBLEM\nPART OF THE STARTUP READINESS PROGRAM \nDo you have a potentially repeatable\, scalable startup(idea) and would you like to discover who your customer is? Whether the customer problem is big enough to solve? Then this ‘GAME’ module of the Startup Readiness Program is right for you! \n\n\n\n\n  \nABOUT THE PROGRAM\nDuring 5 sessions spread over 10 weeks\, you will learn to conduct customer conversations to achieve deep customer insight. The program is a fast-paced mix of theory\, practical assignments and individual coaching. The program is provided by experts in the Brabant startup ecosystem. \n\n\n\n\n  \nWHAT’S IN IT FOR ME?\n\nYou are going to find your first customer segment that is experiencing the same problem. Continuous validation is central to this;\nAccess to a vast startup ecosystem and a network of like-minded entrepreneurs;\nFree program valued at €7.500.\n\n\n\n  \nWHAT DO WE EXPECT FROM YOU?\n• Your startup (idea) meets the selection criteria of a potentially scalable and repeatable revenue model; \n• Presence and commitment throughout the program; \n• Active contribution during the sessions. \n\n\n\n  \nTHE PROGRAM \n\n\n\nTUESDAY\, NOVEMBER 15 | 5 PM – 8 PM\n\nSTARTUP FRAMEWORK \nYou will learn how Dutch startups grow\, what you can learn from other startups and which activities you should prioritize. \n\n\n\n\n\nTUESDAY\, NOVEMBER 22 | 5 PM – 8 PM\n\n\n\n\n\nMARKET \nWho is your customer and what are the assumptions? How big is the market and what is your ambition? \n\n\n\n\n\nTUESDAY\, NOVEMBER 29 | 5 PM – 8 PM\n\nCUSTOMER INTERVIEWS \nHow to conduct a good interview\, what questions to ask and how to introduce yourself. \n\n\n\n\n\nTUESDAY\, DECEMBER 6 | 5 PM – 8 PM\n\nDECISION MAKING UNIT (DMU) \nWho is involved in the buying process and how do they influence the buying process. You will learn to identify the problems of those involved. \n\n\n\n\n\nTUESDAY\, DECEMBER 13 | 5 PM – 8 PM\n\nCUSTOMER PROBLEM VALIDATION \nWhich customer segment has the biggest problem\, how do you validate this problem? You will learn when your validation is successful.
URL:https://startupagenda.nl/event/7490/
LOCATION:TU/e\, Building Alpha\, Het Eeuwsel 57\, Eindhoven\, 5612 AS\, Netherlands
CATEGORIES:Workshops
ATTACH;FMTTYPE=image/png:https://startupagenda.nl/wp-content/uploads/2022/08/Screenshot-2022-08-04-at-14.11.24.png
END:VEVENT
END:VCALENDAR