BEGIN:VCALENDAR
VERSION:2.0
PRODID:-//Startup Agenda - ECPv6.15.18//NONSGML v1.0//EN
CALSCALE:GREGORIAN
METHOD:PUBLISH
X-WR-CALNAME:Startup Agenda
X-ORIGINAL-URL:https://startupagenda.nl
X-WR-CALDESC:Events for Startup Agenda
REFRESH-INTERVAL;VALUE=DURATION:PT1H
X-Robots-Tag:noindex
X-PUBLISHED-TTL:PT1H
BEGIN:VTIMEZONE
TZID:Europe/Brussels
BEGIN:DAYLIGHT
TZOFFSETFROM:+0100
TZOFFSETTO:+0200
TZNAME:CEST
DTSTART:20210328T010000
END:DAYLIGHT
BEGIN:STANDARD
TZOFFSETFROM:+0200
TZOFFSETTO:+0100
TZNAME:CET
DTSTART:20211031T010000
END:STANDARD
BEGIN:DAYLIGHT
TZOFFSETFROM:+0100
TZOFFSETTO:+0200
TZNAME:CEST
DTSTART:20220327T010000
END:DAYLIGHT
BEGIN:STANDARD
TZOFFSETFROM:+0200
TZOFFSETTO:+0100
TZNAME:CET
DTSTART:20221030T010000
END:STANDARD
BEGIN:DAYLIGHT
TZOFFSETFROM:+0100
TZOFFSETTO:+0200
TZNAME:CEST
DTSTART:20230326T010000
END:DAYLIGHT
BEGIN:STANDARD
TZOFFSETFROM:+0200
TZOFFSETTO:+0100
TZNAME:CET
DTSTART:20231029T010000
END:STANDARD
END:VTIMEZONE
BEGIN:VTIMEZONE
TZID:UTC
BEGIN:STANDARD
TZOFFSETFROM:+0000
TZOFFSETTO:+0000
TZNAME:UTC
DTSTART:20210101T000000
END:STANDARD
END:VTIMEZONE
BEGIN:VEVENT
DTSTART;VALUE=DATE:20220621
DTEND;VALUE=DATE:20220625
DTSTAMP:20260422T170245
CREATED:20220209T023302Z
LAST-MODIFIED:20220404T090603Z
UID:6613-1655769600-1656115199@startupagenda.nl
SUMMARY:3D Delta Week
DESCRIPTION:Internationale evenementenweek 3D-Manufacturing:  Leer\, netwerk en ontdek\n\n\n\n\n\n\n\n\nEen wereldprimeur in de evenementen- en 3D-productiesector: in juni 2022 vindt voor het eerst een grensoverschrijdend multi-event plaats in de 3D Manufacturing-wereld\, “3D Delta Week”. Drie Nederlandse en een Vlaamse organisaties hebben het plan gesmeed om een nieuw ​​concept in de 3D-productie aan de wereld voor te stellen: een week onderdompeling in de wereld van 3D-manufacturing. Het evenement in Eindhoven en Gent zal verschillende belangrijke 3D-activiteiten uit de Benelux verenigen en versterken en zal andere internationale en lokale organisatoren aanbieden om hun evenement\, workshop of conferentie in die week te organiseren om zo samen een ​​sprong voorwaarts te maken in kennis\, ervaring en netwerk voor alle deelnemers. \nEr zijn activiteiten gericht op specifieke sectoren\, op R&D en industrie\, op gebruikers en leveranciers. Daarnaast komen alle aspecten van de technologie aan bod. \nDe organisatie van het evenement ligt in handen van Brainport Development\, Flam3D\, Jakajima en Mikrocentrum. Alle informatie over het evenement is te vinden op de 3D Delta Week website 3D Delta Week website.
URL:https://startupagenda.nl/event/3d-delta-week/
CATEGORIES:Conference,Data Science & AI,Live Events,Network Event
ATTACH;FMTTYPE=image/png:https://startupagenda.nl/wp-content/uploads/2022/02/Screenshot-2022-04-04-at-13.03.20.png
END:VEVENT
BEGIN:VEVENT
DTSTART;TZID=UTC:20220623T190000
DTEND;TZID=UTC:20220623T210000
DTSTAMP:20260422T170245
CREATED:20220218T150626Z
LAST-MODIFIED:20220218T150626Z
UID:6710-1656010800-1656018000@startupagenda.nl
SUMMARY:HackerX - Eindhoven (Full-Stack)
DESCRIPTION:HackerX is an invite-only recruiting event for developers in 175+ cities globally and has a community of over 100\,000+ members. We’ve hand-picked some of the top developers in your city so you don’t have to. Meet face-to-face with qualified developers and make your next great hire. \nMEET 60+ TOP SOFTWARE DEVELOPERS \nOur events are organized in rapid speed-dating format (5 minutes each) to keep things engaging and fun. It ensures you can meet the most developers. \nWHY ATTEND? \n– Get in front of developers face-to-face and build up your candidate pipeline \n– Showcase your company’s brand and technologies to let the developer community know you’re hiring. \n– After the event\, we’ll also provide you a list of registrations (~100) so you can scout and reach out after the event. \n FAQ \nQ: What should I bring? \nA: We recommend bringing an iPad or laptop to show off your company. You’re also welcome to bring banners\, other visuals\, and swag. \nQ: Can I bring multiple people? \nA: Absolutely\, but you will need to buy an additional ticket for each person. We highly recommend having multiple people to be able to work the room. \nQ: How do you ensure quality? \nA: To ensure quality\, our events are invite-only for developers so almost everyone has a solid work history or background. \nQ: Do you collect a commission? \nA: No\, we never take a fee outside of the ticket price. \nQUOTES \n“HackerX is a great event that connects job seekers and employers seeking engineering talent. BitTorrent participated in 3 events and ended up hiring 3 engineers for key positions.” \nFARID FADAIE\, SENIOR DIRECTOR OF PRODUCT – BITTORRENT \n“HackerX has been very beneficial for TrueCar as it gives us an opportunity to meet and talk with prospective candidates. The casual environment puts the candidate at ease so they can represent themselves to the fullest. We have successfully hired several candidates!” \nCHRIS MARTIN\, MANAGER OF TALENT ACQUISITION – TRUECAR \nHackerX – Host \n  \nOrganized by HackerX  \n237 Kearny St #245 \nSan Francisco\, CA 94108 \nWebsite \nContact Us
URL:https://startupagenda.nl/event/hackerx-eindhoven-full-stack/
CATEGORIES:Event with Tickets,Live Events
ATTACH;FMTTYPE=image/png:https://startupagenda.nl/wp-content/uploads/2022/02/Screenshot-2022-02-18-at-17.03.13.png
END:VEVENT
END:VCALENDAR