BEGIN:VCALENDAR
VERSION:2.0
PRODID:-//Startup Agenda - ECPv6.15.18//NONSGML v1.0//EN
CALSCALE:GREGORIAN
METHOD:PUBLISH
X-ORIGINAL-URL:https://startupagenda.nl
X-WR-CALDESC:Events for Startup Agenda
REFRESH-INTERVAL;VALUE=DURATION:PT1H
X-Robots-Tag:noindex
X-PUBLISHED-TTL:PT1H
BEGIN:VTIMEZONE
TZID:Europe/Brussels
BEGIN:DAYLIGHT
TZOFFSETFROM:+0100
TZOFFSETTO:+0200
TZNAME:CEST
DTSTART:20210328T010000
END:DAYLIGHT
BEGIN:STANDARD
TZOFFSETFROM:+0200
TZOFFSETTO:+0100
TZNAME:CET
DTSTART:20211031T010000
END:STANDARD
BEGIN:DAYLIGHT
TZOFFSETFROM:+0100
TZOFFSETTO:+0200
TZNAME:CEST
DTSTART:20220327T010000
END:DAYLIGHT
BEGIN:STANDARD
TZOFFSETFROM:+0200
TZOFFSETTO:+0100
TZNAME:CET
DTSTART:20221030T010000
END:STANDARD
BEGIN:DAYLIGHT
TZOFFSETFROM:+0100
TZOFFSETTO:+0200
TZNAME:CEST
DTSTART:20230326T010000
END:DAYLIGHT
BEGIN:STANDARD
TZOFFSETFROM:+0200
TZOFFSETTO:+0100
TZNAME:CET
DTSTART:20231029T010000
END:STANDARD
END:VTIMEZONE
BEGIN:VTIMEZONE
TZID:UTC
BEGIN:STANDARD
TZOFFSETFROM:+0000
TZOFFSETTO:+0000
TZNAME:UTC
DTSTART:20210101T000000
END:STANDARD
END:VTIMEZONE
BEGIN:VEVENT
DTSTART;VALUE=DATE:20220607
DTEND;VALUE=DATE:20220608
DTSTAMP:20260421T160927
CREATED:20220104T090337Z
LAST-MODIFIED:20220304T031316Z
UID:6001-1654560000-1654646399@startupagenda.nl
SUMMARY:Matchmaking Finale
DESCRIPTION:
URL:https://startupagenda.nl/event/matchmaking-finale/
END:VEVENT
BEGIN:VEVENT
DTSTART;TZID=UTC:20220518T080000
DTEND;TZID=UTC:20220518T170000
DTSTAMP:20260421T160927
CREATED:20220518T080010Z
LAST-MODIFIED:20220518T080010Z
UID:7274-1652860800-1652893200@startupagenda.nl
SUMMARY:Bringing startups and governments together: EdTech Challenges
DESCRIPTION:The Netherlands needs innovative solutions for urgent social issues. We want to create these solutions together with innovative entrepreneurs like you. \nStartup in Residence\nThe Startup in Residence programme supports innovative entrepreneurs. We help you develop your solution and find your launching customer in the public sector. \n\nFollow a development path with training and mentoring\nRun a pilot with a potential client\nSell your solution to a city\, region or the government\n\n(And you will remain the owner of your solution!) \nCan your solution help universities?\nVarious higher education institutions are looking for an EdTech solution for a challenge they are facing. These challenges vary from a new cloud solution to improving the response rate of course evaluations. Would you like to work on a solution for one of these challenges together with an educational institution? Then keep on reading. \nThe EdTech working group for educational innovation within the Acceleration Plan is launching the Startup in Residence (SiR) Edtech program. For six months\, universities will work together with innovative companies on challenges within higher education\, where educational technology offers a possible solution. As a startup\, you get the opportunity to work on a solution with a university. During this incubation phase\, a mentoring and training program is followed by both parties\, focusing on specific themes that are relevant during the process. \nCurious about the different challenges? Go to challenges\, find a challenge that matches your startup and sign up! Do you have any questions or do you want to know more about the program? Send an email to edtech@versnellingsplan.nl. \n 
URL:https://startupagenda.nl/event/bringing-startups-and-governments-together-edtech-challenges/
ATTACH;FMTTYPE=image/png:https://startupagenda.nl/wp-content/uploads/2022/05/Screenshot-2022-05-18-at-11.53.34.png
END:VEVENT
END:VCALENDAR