BEGIN:VCALENDAR
VERSION:2.0
PRODID:-//Startup Agenda - ECPv6.15.18//NONSGML v1.0//EN
CALSCALE:GREGORIAN
METHOD:PUBLISH
X-ORIGINAL-URL:https://startupagenda.nl
X-WR-CALDESC:Events for Startup Agenda
REFRESH-INTERVAL;VALUE=DURATION:PT1H
X-Robots-Tag:noindex
X-PUBLISHED-TTL:PT1H
BEGIN:VTIMEZONE
TZID:UTC
BEGIN:STANDARD
TZOFFSETFROM:+0000
TZOFFSETTO:+0000
TZNAME:UTC
DTSTART:20210101T000000
END:STANDARD
END:VTIMEZONE
BEGIN:VTIMEZONE
TZID:Europe/Brussels
BEGIN:DAYLIGHT
TZOFFSETFROM:+0100
TZOFFSETTO:+0200
TZNAME:CEST
DTSTART:20210328T010000
END:DAYLIGHT
BEGIN:STANDARD
TZOFFSETFROM:+0200
TZOFFSETTO:+0100
TZNAME:CET
DTSTART:20211031T010000
END:STANDARD
BEGIN:DAYLIGHT
TZOFFSETFROM:+0100
TZOFFSETTO:+0200
TZNAME:CEST
DTSTART:20220327T010000
END:DAYLIGHT
BEGIN:STANDARD
TZOFFSETFROM:+0200
TZOFFSETTO:+0100
TZNAME:CET
DTSTART:20221030T010000
END:STANDARD
BEGIN:DAYLIGHT
TZOFFSETFROM:+0100
TZOFFSETTO:+0200
TZNAME:CEST
DTSTART:20230326T010000
END:DAYLIGHT
BEGIN:STANDARD
TZOFFSETFROM:+0200
TZOFFSETTO:+0100
TZNAME:CET
DTSTART:20231029T010000
END:STANDARD
END:VTIMEZONE
BEGIN:VTIMEZONE
TZID:Europe/Moscow
BEGIN:STANDARD
TZOFFSETFROM:+0300
TZOFFSETTO:+0300
TZNAME:MSK
DTSTART:20210101T000000
END:STANDARD
END:VTIMEZONE
BEGIN:VEVENT
DTSTART;TZID=UTC:20220518T080000
DTEND;TZID=UTC:20220518T170000
DTSTAMP:20260421T190042
CREATED:20220518T082204Z
LAST-MODIFIED:20221121T022655Z
UID:7284-1652860800-1652893200@startupagenda.nl
SUMMARY:📣  Call for AI enthusiasts! 📣: Join the AI Challenge for Greener Cities
DESCRIPTION:🤔  What could you do for sustainable cities\, if you had a fleet of trucks with cameras driving around the town? ‼️ Data scientists and AI engineers\, it’s action time !! \n🚚+ 📷 = 🌱 \nWe need the most creative data science and machine learning minds 👩🏼‍🎤  to come up with a game plan. \n  \nSo what’s the story here? \nTo squeeze the emissions of their delivery cars\, DPD has put sensors on their trucks gathering valuable data during their drives. It created an unexpected opportunity >>> giving us more insight into our cities and (hopefully) some useful solutions to make them more sustainable. \n  \nLike what? \n🤔  map vegetation in the neighborhoods \n🤔  identify bicycle-friendly areas \n🤔  flag broken roads \n  \nWe are teaming up with @Jheronimus Academy of Data Science and @DPD Netherlands for the AI for Green Cities Challenge. \n  \n✅  Annotated data from open source datasets \n✅  JADS data scientists to coach you \n✅  DPD pros to guide the application in real-life part \n✅  The newest and the latest of ML at your fingertips \n  \nDPD operates more than 8\,000 vehicles from 68 locations in Europe that’s a lot of potential eyes on the streets 👀 \n  \n+++ we’ll open source the outcomes + open source data = reproducible solutions ♻ \n  \nREAD more about this challenge and APPLY here 👉👉👉  https://fruitpunch.ai/challenges/ai-for-greener-cities \nApplications open till 12 June 2022!!!!
URL:https://startupagenda.nl/event/%f0%9f%93%a3-call-for-ai-enthusiasts-%f0%9f%93%a3-join-the-ai-challenge-for-greener-cities/
CATEGORIES:Data Science & AI,Workshops
ATTACH;FMTTYPE=image/png:https://startupagenda.nl/wp-content/uploads/2022/05/AI-for-Greener-Cities-Challenge-Announcement.png
END:VEVENT
BEGIN:VEVENT
DTSTART;TZID=Europe/Brussels:20220519T143000
DTEND;TZID=Europe/Brussels:20220519T180000
DTSTAMP:20260421T190042
CREATED:20220221T085327Z
LAST-MODIFIED:20220322T125641Z
UID:6750-1652970600-1652983200@startupagenda.nl
SUMMARY:Venture Visionaries as part of Fontys Student Startup Festival
DESCRIPTION:Venture Visionaries is an initiative that is organized by all knowledge institutions in Brabant. We invite inspiring startup entrepreneurs to take the stage and share their experiences. This edition is part of the Fontys Student Startup Festival and hosted by Fontys. \nProgramma\n\n\n14.30u – Ontvangst & Centrale aftrap door dagvoorzitter Remy Gieling\n15.00u – Venture Visionaries: Michael Musandu – founder LaLaLand\n15.40u – Korte Break / netwerken\n16.00u – Pitch Battle 6 Fontys startups\n17.00u – Korte Break / netwerken\n17.15u – Lezing Jouri Schoemaker – founder Pieter Pot\n18.00u – Prijsuitreiking\n18.15u – Meet & Greet + borrel\n\n\nLocatie: LocHal Tilburg\, Burgemeester Brokxlaan 1000\, 5041 SG Tilburg \nTijdstip: 14.30 – 19.00u
URL:https://startupagenda.nl/event/entrepreneurship-day-brabant-8/
LOCATION:LocHal\, Burgemeester Brokxlaan 1000\, Tilburg\, 5041 SG\, Netherlands
CATEGORIES:Live Events,Online Events
ATTACH;FMTTYPE=image/jpeg:https://startupagenda.nl/wp-content/uploads/2022/02/5d38d4c1-75f3-409c-8723-4bac821291cb_52323705_3345566415457248_7652458473845686272_n.jpg
ORGANIZER;CN="Fontys":MAILTO:cvo@fontys.nl
END:VEVENT
BEGIN:VEVENT
DTSTART;TZID=Europe/Moscow:20220519T150000
DTEND;TZID=Europe/Moscow:20220519T170000
DTSTAMP:20260421T190042
CREATED:20220106T101318Z
LAST-MODIFIED:20220120T065631Z
UID:6181-1652972400-1652979600@startupagenda.nl
SUMMARY:Expert Hours
DESCRIPTION:Are you already familiar with the ‘Expert Hours’? 👀 \nAsk all your IP\, Legal\, Data & AI or Accountancy questions to experts in the field! Book an online\, free 1-on-1 on www.mijn.braventure.nl\, with one of the available experts below: \n📊 EY\n🦾 JADS Playground\n🤝 Rijksdienst voor Ondernemend Nederland (RVO)\n👩🏽‍💼 VDT Advocaten \n📆 Two monthly on Thursday form 3 – 5 pm\n💻 Sign up with your www.mijn.braventure.nl account \n 
URL:https://startupagenda.nl/event/expert-hours-9/
LOCATION:Online
ATTACH;FMTTYPE=image/jpeg:https://startupagenda.nl/wp-content/uploads/2022/01/Expert-Hours-Promo-Banner.jpg
END:VEVENT
END:VCALENDAR