BEGIN:VCALENDAR
VERSION:2.0
PRODID:-//Startup Agenda - ECPv6.15.18//NONSGML v1.0//EN
CALSCALE:GREGORIAN
METHOD:PUBLISH
X-ORIGINAL-URL:https://startupagenda.nl
X-WR-CALDESC:Events for Startup Agenda
REFRESH-INTERVAL;VALUE=DURATION:PT1H
X-Robots-Tag:noindex
X-PUBLISHED-TTL:PT1H
BEGIN:VTIMEZONE
TZID:Europe/Brussels
BEGIN:DAYLIGHT
TZOFFSETFROM:+0100
TZOFFSETTO:+0200
TZNAME:CEST
DTSTART:20210328T010000
END:DAYLIGHT
BEGIN:STANDARD
TZOFFSETFROM:+0200
TZOFFSETTO:+0100
TZNAME:CET
DTSTART:20211031T010000
END:STANDARD
BEGIN:DAYLIGHT
TZOFFSETFROM:+0100
TZOFFSETTO:+0200
TZNAME:CEST
DTSTART:20220327T010000
END:DAYLIGHT
BEGIN:STANDARD
TZOFFSETFROM:+0200
TZOFFSETTO:+0100
TZNAME:CET
DTSTART:20221030T010000
END:STANDARD
BEGIN:DAYLIGHT
TZOFFSETFROM:+0100
TZOFFSETTO:+0200
TZNAME:CEST
DTSTART:20230326T010000
END:DAYLIGHT
BEGIN:STANDARD
TZOFFSETFROM:+0200
TZOFFSETTO:+0100
TZNAME:CET
DTSTART:20231029T010000
END:STANDARD
END:VTIMEZONE
BEGIN:VEVENT
DTSTART;VALUE=DATE:20220517
DTEND;VALUE=DATE:20220518
DTSTAMP:20260421T221246
CREATED:20220104T090338Z
LAST-MODIFIED:20220404T082149Z
UID:6010-1652745600-1652831999@startupagenda.nl
SUMMARY:Tilburg University Challenge: Speeddates
DESCRIPTION:An afternoon filled with brainstorming and coaching.Great opportunity to receive (online) face to face feedback.Receive more insights in the partners or teams.
URL:https://startupagenda.nl/event/tilburg-university-challenge-speeddates/
CATEGORIES:Live Events,Network Event,Workshops
ATTACH;FMTTYPE=image/png:https://startupagenda.nl/wp-content/uploads/2021/11/Screenshot-2021-11-27-at-15.00.36.png
END:VEVENT
BEGIN:VEVENT
DTSTART;VALUE=DATE:20220517
DTEND;VALUE=DATE:20220518
DTSTAMP:20260421T221246
CREATED:20220113T152350Z
LAST-MODIFIED:20220304T031316Z
UID:6264-1652745600-1652831999@startupagenda.nl
SUMMARY:High Tech Campus - Wild Break (May)
DESCRIPTION:Tuesday 17 May 2022 \n                        12:00\n                        – 13:00\n                        Food Lab (food trucks)\n                        High Tech Campus Eindhoven
URL:https://startupagenda.nl/event/high-tech-campus-wild-break-may/
ATTACH;FMTTYPE=image/jpeg:https://startupagenda.nl/wp-content/uploads/2022/01/IMG_1415-LOKhLS.tmp_.jpg
END:VEVENT
BEGIN:VEVENT
DTSTART;VALUE=DATE:20220517
DTEND;VALUE=DATE:20220518
DTSTAMP:20260421T221246
CREATED:20220125T174208Z
LAST-MODIFIED:20220404T085503Z
UID:6386-1652745600-1652831999@startupagenda.nl
SUMMARY:Energy Now Sustainable Energy Congress May 2022
DESCRIPTION:Energy Now Sustainable Energy Congres Mei 2022\n\n\n\n\nEnergy Now is een groot congres over duurzame energie in de Brainport Regio Eindhoven. De eerste vier edities vonden plaats tussen 2016 en 2019. Het congres wil een platform zijn voor studenten\, aankomende werknemers in de energiesector\, om bedrijven in een informele setting te ontmoeten\, om samen de perspectieven van de energietransitie te bespreken. \n\n\n\n\n\n\n\n\nThema\nIn 2045 zal de stedelijke wereldbevolking de 6 miljard hebben bereikt. Deze exponentiële groei van stedelingen vormt een van de grote uitdagingen van de komende eeuw. Hoe kunnen we tegemoet komen aan deze toegenomen stadsuitbreiding terwijl we de reeds bestaande infrastructuur transformeren om de uitstoot te verminderen en verdere opwarming van de aarde te voorkomen? Door nieuwe technologie en methodologieën toe te passen in onze stedelijke omgevingen\, energiesystemen en mobiliteit\, zouden we manieren kunnen ontdekken om onze steden digitaal\, gedecentraliseerd en koolstofarm te maken. Benieuwd hoe we dit mogelijk maken? Kom dan naar het Energy Now 2022 congres waar je diegenen ontmoet die vandaag oplossingen vinden\, om de problemen van morgen op te lossen!
URL:https://startupagenda.nl/event/energy-now-sustainable-energy-congress-may-2022/
LOCATION:PHILIPS Stadium\, Eindhoven
CATEGORIES:Conference,Network Event,Sustainability
ATTACH;FMTTYPE=image/png:https://startupagenda.nl/wp-content/uploads/2022/01/Screenshot-2022-04-04-at-12.51.37.png
END:VEVENT
END:VCALENDAR