BEGIN:VCALENDAR
VERSION:2.0
PRODID:-//Startup Agenda - ECPv6.15.18//NONSGML v1.0//EN
CALSCALE:GREGORIAN
METHOD:PUBLISH
X-WR-CALNAME:Startup Agenda
X-ORIGINAL-URL:https://startupagenda.nl
X-WR-CALDESC:Events for Startup Agenda
REFRESH-INTERVAL;VALUE=DURATION:PT1H
X-Robots-Tag:noindex
X-PUBLISHED-TTL:PT1H
BEGIN:VTIMEZONE
TZID:Europe/Amsterdam
BEGIN:DAYLIGHT
TZOFFSETFROM:+0100
TZOFFSETTO:+0200
TZNAME:CEST
DTSTART:20210328T010000
END:DAYLIGHT
BEGIN:STANDARD
TZOFFSETFROM:+0200
TZOFFSETTO:+0100
TZNAME:CET
DTSTART:20211031T010000
END:STANDARD
BEGIN:DAYLIGHT
TZOFFSETFROM:+0100
TZOFFSETTO:+0200
TZNAME:CEST
DTSTART:20220327T010000
END:DAYLIGHT
BEGIN:STANDARD
TZOFFSETFROM:+0200
TZOFFSETTO:+0100
TZNAME:CET
DTSTART:20221030T010000
END:STANDARD
BEGIN:DAYLIGHT
TZOFFSETFROM:+0100
TZOFFSETTO:+0200
TZNAME:CEST
DTSTART:20230326T010000
END:DAYLIGHT
BEGIN:STANDARD
TZOFFSETFROM:+0200
TZOFFSETTO:+0100
TZNAME:CET
DTSTART:20231029T010000
END:STANDARD
END:VTIMEZONE
BEGIN:VTIMEZONE
TZID:Europe/Brussels
BEGIN:DAYLIGHT
TZOFFSETFROM:+0100
TZOFFSETTO:+0200
TZNAME:CEST
DTSTART:20210328T010000
END:DAYLIGHT
BEGIN:STANDARD
TZOFFSETFROM:+0200
TZOFFSETTO:+0100
TZNAME:CET
DTSTART:20211031T010000
END:STANDARD
BEGIN:DAYLIGHT
TZOFFSETFROM:+0100
TZOFFSETTO:+0200
TZNAME:CEST
DTSTART:20220327T010000
END:DAYLIGHT
BEGIN:STANDARD
TZOFFSETFROM:+0200
TZOFFSETTO:+0100
TZNAME:CET
DTSTART:20221030T010000
END:STANDARD
BEGIN:DAYLIGHT
TZOFFSETFROM:+0100
TZOFFSETTO:+0200
TZNAME:CEST
DTSTART:20230326T010000
END:DAYLIGHT
BEGIN:STANDARD
TZOFFSETFROM:+0200
TZOFFSETTO:+0100
TZNAME:CET
DTSTART:20231029T010000
END:STANDARD
END:VTIMEZONE
BEGIN:VEVENT
DTSTART;VALUE=DATE:20220516
DTEND;VALUE=DATE:20220517
DTSTAMP:20260422T011918
CREATED:20220419T054004Z
LAST-MODIFIED:20220419T054004Z
UID:7222-1652659200-1652745599@startupagenda.nl
SUMMARY:Women in Data Science Netherlands 2022
DESCRIPTION:Women in Data Science Netherlands is an independent conference organised by Pipple\, Maastricht University\, Leiden University\, Utrecht University\, Amsterdam University\, Amsterdam Data Science\, Eindhoven University of Technology and EAISI (Eindhoven Artificial Intelligence Systems Institute). It’s to coincide with the annual Global Women in Data Science (WiDS) Conference held at Stanford University and an estimated 200+ locations worldwide. \nAll genders are invited to attend WiDS regional events\, which features outstanding women doing outstanding work in data science.“Our main goal is to inspire students\, professionals\, men and women alike with the many great stories and experiences of women in the field of data science.” \nAt Women in Data Science (WiDS) Netherlands 2022\, speakers and attendees will together discuss the meaning and development of AI for business\, society and education. Data science insights\, new approaches and use cases\, both from commercial industries as well as non-profit and science. \nWomen in Data Science Netherlands 2022 is sponsored by: Philips (main sponsor)\, ASML\, SAS\, CZ\, Pipple and High Tech Campus.
URL:https://startupagenda.nl/event/women-in-data-science-netherlands-2022/
LOCATION:High Tech Campus Eindhoven\, High Tech Campus 1\, Eindhoven\, Netherlands
CATEGORIES:Conference,Network Event
ATTACH;FMTTYPE=image/png:https://startupagenda.nl/wp-content/uploads/2022/04/Screenshot-2022-04-19-at-09.36.40.png
END:VEVENT
BEGIN:VEVENT
DTSTART;TZID=Europe/Brussels:20220516T150000
DTEND;TZID=Europe/Brussels:20220516T150000
DTSTAMP:20260422T011918
CREATED:20220104T090349Z
LAST-MODIFIED:20220304T031319Z
UID:6073-1652713200-1652713200@startupagenda.nl
SUMMARY:Investor Readiness Session (Online Workshop)
DESCRIPTION:Learn how not to talk to investors 💸! Join our Investor Readiness Session\, rated 4\,5/5 ⭐
URL:https://startupagenda.nl/event/investor-readiness-session-online-workshop-9/
ATTACH;FMTTYPE=image/png:https://startupagenda.nl/wp-content/uploads/2021/12/frontpage_IRS_Online_Events-7U5DKt.tmp_.png
END:VEVENT
END:VCALENDAR