BEGIN:VCALENDAR
VERSION:2.0
PRODID:-//Startup Agenda - ECPv6.15.20//NONSGML v1.0//EN
CALSCALE:GREGORIAN
METHOD:PUBLISH
X-ORIGINAL-URL:https://startupagenda.nl
X-WR-CALDESC:Events for Startup Agenda
REFRESH-INTERVAL;VALUE=DURATION:PT1H
X-Robots-Tag:noindex
X-PUBLISHED-TTL:PT1H
BEGIN:VTIMEZONE
TZID:Europe/Brussels
BEGIN:DAYLIGHT
TZOFFSETFROM:+0100
TZOFFSETTO:+0200
TZNAME:CEST
DTSTART:20210328T010000
END:DAYLIGHT
BEGIN:STANDARD
TZOFFSETFROM:+0200
TZOFFSETTO:+0100
TZNAME:CET
DTSTART:20211031T010000
END:STANDARD
BEGIN:DAYLIGHT
TZOFFSETFROM:+0100
TZOFFSETTO:+0200
TZNAME:CEST
DTSTART:20220327T010000
END:DAYLIGHT
BEGIN:STANDARD
TZOFFSETFROM:+0200
TZOFFSETTO:+0100
TZNAME:CET
DTSTART:20221030T010000
END:STANDARD
BEGIN:DAYLIGHT
TZOFFSETFROM:+0100
TZOFFSETTO:+0200
TZNAME:CEST
DTSTART:20230326T010000
END:DAYLIGHT
BEGIN:STANDARD
TZOFFSETFROM:+0200
TZOFFSETTO:+0100
TZNAME:CET
DTSTART:20231029T010000
END:STANDARD
END:VTIMEZONE
BEGIN:VEVENT
DTSTART;TZID=Europe/Brussels:20220511T160000
DTEND;TZID=Europe/Brussels:20220511T160000
DTSTAMP:20260425T030351
CREATED:20220104T090349Z
LAST-MODIFIED:20220304T031319Z
UID:6072-1652284800-1652284800@startupagenda.nl
SUMMARY:Round Table Session Amsterdam & Berlin - One Hour Compact Version (Online Event)
DESCRIPTION:Meet investors & startups live 💬! For investors 💸: meet new startups\, and spot trends. For startups 🚀: test your story with real investors. It’s casual: everyone is contributing. Join the Round Table Session – One Hour Compact Version.
URL:https://startupagenda.nl/event/round-table-session-amsterdam-berlin-one-hour-compact-version-online-event-5/
CATEGORIES:Online Events
ATTACH;FMTTYPE=image/jpeg:https://startupagenda.nl/wp-content/uploads/2021/12/frontpage_RTS_-_1H__1_-JCu1wQ.tmp_.jpg
END:VEVENT
END:VCALENDAR