BEGIN:VCALENDAR
VERSION:2.0
PRODID:-//Startup Agenda - ECPv6.15.18//NONSGML v1.0//EN
CALSCALE:GREGORIAN
METHOD:PUBLISH
X-ORIGINAL-URL:https://startupagenda.nl
X-WR-CALDESC:Events for Startup Agenda
REFRESH-INTERVAL;VALUE=DURATION:PT1H
X-Robots-Tag:noindex
X-PUBLISHED-TTL:PT1H
BEGIN:VTIMEZONE
TZID:Europe/Brussels
BEGIN:DAYLIGHT
TZOFFSETFROM:+0100
TZOFFSETTO:+0200
TZNAME:CEST
DTSTART:20210328T010000
END:DAYLIGHT
BEGIN:STANDARD
TZOFFSETFROM:+0200
TZOFFSETTO:+0100
TZNAME:CET
DTSTART:20211031T010000
END:STANDARD
BEGIN:DAYLIGHT
TZOFFSETFROM:+0100
TZOFFSETTO:+0200
TZNAME:CEST
DTSTART:20220327T010000
END:DAYLIGHT
BEGIN:STANDARD
TZOFFSETFROM:+0200
TZOFFSETTO:+0100
TZNAME:CET
DTSTART:20221030T010000
END:STANDARD
BEGIN:DAYLIGHT
TZOFFSETFROM:+0100
TZOFFSETTO:+0200
TZNAME:CEST
DTSTART:20230326T010000
END:DAYLIGHT
BEGIN:STANDARD
TZOFFSETFROM:+0200
TZOFFSETTO:+0100
TZNAME:CET
DTSTART:20231029T010000
END:STANDARD
END:VTIMEZONE
BEGIN:VEVENT
DTSTART;VALUE=DATE:20220508
DTEND;VALUE=DATE:20220509
DTSTAMP:20260422T091703
CREATED:20220223T171210Z
LAST-MODIFIED:20220404T084905Z
UID:6790-1651968000-1652054399@startupagenda.nl
SUMMARY:Handelsmissie automotive-industrie in de Verenigde Staten
DESCRIPTION:Bent u actief in de automotive-industrie? Wilt u weten wat uw marktkansen zijn in de Verenigde Staten op het gebied van schone en slimme voertuigen? Of bent u op zoek naar nieuwe zakenpartners? Ga dan mee met de handelsmissie ‘Automotive-industrie in de VS’ naar Detroit\, Michigan\, van 8 tot en met 12 mei 2022. \n\n\n\n\n\n\n\n\nDe staat Michigan is hét centrum van de automotive-industrie in de Verenigde Staten. De lange historie van de auto-industrie in Michigan zorgt voor een stabiele basis voor veel bedrijven en kennisinstellingen. Op dit moment vindt er een omslag plaats van de traditionele auto naar een nieuwe generatie voertuigen. Grote automerken hebben hun hoofdkantoor gevestigd in deze regio en investeren in deze omschakeling. Dit biedt kansen voor Nederlandse ondernemers die actief zijn in deze sector. \nFocus\nDeze handelsmissie richt zich op nieuwe technologieën in de automotive-industrie. De hoofdthema’s van de missie zijn: \n\nSlimme voertuigen\, zowel coöperatief als autonoom (excl. infotainment en Mobility-as-a-Service)\nSchone voertuigen\, met name gericht op aandrijftechnologie (zoals batterijen en slimme laadtechnologie) en lichtgewicht materialen.\n\nVoor wie?\nDeze missie is interessant voor: \n\nNederlandse bedrijven (mkb\, start-ups/scale-ups en corporates) die actief zijn in de automotive-industrie;\nkennisinstellingen die werken aan – of betrokken zijn bij – de ontwikkeling en toepassing van nieuwe technologieën voor de automotive-industrie.\n\nEr kunnen maximaal 20 deelnemers van 16 verschillende bedrijven mee met deze missie. Per bedrijf kunnen maximaal 2 personen deelnemen. Afhankelijk van eventuele (lokale) COVID-restricties kan het maximum aantal deelnemers wijzigen. \nProgramma opzet\nTijdens deze missie worden diverse bedrijven\, kennisinstellingen en testcentra bezocht. Deelnemers kunnen meedoen aan rondetafelgesprekken en netwerkbijeenkomsten\, zoals een receptie of handelsdiner. U krijgt ook tijd om eigen afspraken te maken. \nDe komende periode zullen wij nader invulling geven aan het programma. Hierbij houden wij rekening met specifieke wensen van de deelnemers. \nDeelname en kosten\nMeld u aan voor de missie naar Michigan. De uiterste aanmelddatum is 14 maart 2022. \nDeelname kost € 500 exclusief btw per bedrijf. De prijs is inclusief deelname aan de collectieve programmaonderdelen en collectief lokaal vervoer. De reis- en verblijfkosten zijn voor eigen rekening. \nInformatiebijeenkomst\nVoorafgaand aan de missie wordt een informatiebijeenkomst georganiseerd. Tijdens deze bijeenkomst krijgt u meer informatie over het programma\, de doelen en de beoogde resultaten van de missie. De exacte datum en locatie van deze informatiebijeenkomst zijn nog niet bekend. Wij houden u hiervan op de hoogte. \nMeer weten?\nHeeft u vragen over deze handelsmissie\, neem dan contact op met: \nMenno Schrok\, RVO\nE: menno.schrok@rvo.nl \nNeem voor inhoudelijke vragen over het programma contact op met: \nBram Hendrix\, RAI Automotive Industry NL\nE: b.hendrix@raivereniging.nl \nKlik hier om u aan te melden
URL:https://startupagenda.nl/event/handelsmissie-automotive-industrie-in-de-verenigde-staten/
CATEGORIES:Network Event
ATTACH;FMTTYPE=image/png:https://startupagenda.nl/wp-content/uploads/2022/02/Screenshot-2022-04-04-at-12.48.01.png
END:VEVENT
END:VCALENDAR