BEGIN:VCALENDAR
VERSION:2.0
PRODID:-//Startup Agenda - ECPv6.15.20//NONSGML v1.0//EN
CALSCALE:GREGORIAN
METHOD:PUBLISH
X-ORIGINAL-URL:https://startupagenda.nl
X-WR-CALDESC:Events for Startup Agenda
REFRESH-INTERVAL;VALUE=DURATION:PT1H
X-Robots-Tag:noindex
X-PUBLISHED-TTL:PT1H
BEGIN:VTIMEZONE
TZID:Europe/Paris
BEGIN:DAYLIGHT
TZOFFSETFROM:+0100
TZOFFSETTO:+0200
TZNAME:CEST
DTSTART:20210328T010000
END:DAYLIGHT
BEGIN:STANDARD
TZOFFSETFROM:+0200
TZOFFSETTO:+0100
TZNAME:CET
DTSTART:20211031T010000
END:STANDARD
BEGIN:DAYLIGHT
TZOFFSETFROM:+0100
TZOFFSETTO:+0200
TZNAME:CEST
DTSTART:20220327T010000
END:DAYLIGHT
BEGIN:STANDARD
TZOFFSETFROM:+0200
TZOFFSETTO:+0100
TZNAME:CET
DTSTART:20221030T010000
END:STANDARD
BEGIN:DAYLIGHT
TZOFFSETFROM:+0100
TZOFFSETTO:+0200
TZNAME:CEST
DTSTART:20230326T010000
END:DAYLIGHT
BEGIN:STANDARD
TZOFFSETFROM:+0200
TZOFFSETTO:+0100
TZNAME:CET
DTSTART:20231029T010000
END:STANDARD
END:VTIMEZONE
BEGIN:VTIMEZONE
TZID:Europe/Paris
BEGIN:DAYLIGHT
TZOFFSETFROM:+0100
TZOFFSETTO:+0200
TZNAME:CEST
DTSTART:20210328T010000
END:DAYLIGHT
BEGIN:STANDARD
TZOFFSETFROM:+0200
TZOFFSETTO:+0100
TZNAME:CET
DTSTART:20211031T010000
END:STANDARD
BEGIN:DAYLIGHT
TZOFFSETFROM:+0100
TZOFFSETTO:+0200
TZNAME:CEST
DTSTART:20220327T010000
END:DAYLIGHT
BEGIN:STANDARD
TZOFFSETFROM:+0200
TZOFFSETTO:+0100
TZNAME:CET
DTSTART:20221030T010000
END:STANDARD
BEGIN:DAYLIGHT
TZOFFSETFROM:+0100
TZOFFSETTO:+0200
TZNAME:CEST
DTSTART:20230326T010000
END:DAYLIGHT
BEGIN:STANDARD
TZOFFSETFROM:+0200
TZOFFSETTO:+0100
TZNAME:CET
DTSTART:20231029T010000
END:STANDARD
END:VTIMEZONE
BEGIN:VEVENT
DTSTART;TZID=Europe/Paris:20220428T100000
DTEND;TZID=Europe/Paris:20220428T110000
DTSTAMP:20260423T161619
CREATED:20220218T073031Z
LAST-MODIFIED:20220304T031318Z
UID:6689-1651140000-1651143600@startupagenda.nl
SUMMARY:AWS Startup Academy: Hiring the Amazon way
DESCRIPTION:In this session we will share tips and best practices from Amazon on how to hire quality talent.
URL:https://startupagenda.nl/event/aws-startup-academy-hiring-the-amazon-way/
ATTACH;FMTTYPE=image/png:https://startupagenda.nl/wp-content/uploads/2021/12/Screenshot-2021-12-10-at-12.46.16-8lZViP.tmp_.png
END:VEVENT
BEGIN:VEVENT
DTSTART;TZID=Europe/Paris:20220428T100000
DTEND;TZID=Europe/Paris:20220428T150000
DTSTAMP:20260423T161619
CREATED:20211218T121040Z
LAST-MODIFIED:20211218T121040Z
UID:5791-1651140000-1651158000@startupagenda.nl
SUMMARY:Amsterdam 2022 Venture Capital World Summit
DESCRIPTION:Amsterdam Venture Capital World Summit\, World Series Season of Investment Conferences.\n\n\n\n\n\nAbout this event\n\n\nVenture Capital World Summit\, World Series Seasons of Investment Conferences\nGlobal community for investors and investees\nHere to help businesses get more capital and expertise as they need to scale up\, and grow internationally with the support if required from our trusted network of investors\nOur message to international businesses and entrepreneurs is simple: attend our international events and get in touch well before. We want to help as many entrepreneurs as possible to get the investment and international opportunities via our trusted network.  When your business and your community prospers\, everyone prospers.
URL:https://startupagenda.nl/event/amsterdam-2022-venture-capital-world-summit/
ATTACH;FMTTYPE=image/png:https://startupagenda.nl/wp-content/uploads/2021/12/Screenshot-2021-12-18-at-14.07.48.png
END:VEVENT
BEGIN:VEVENT
DTSTART;TZID=Europe/Paris:20220428T150000
DTEND;TZID=Europe/Paris:20220428T170000
DTSTAMP:20260423T161619
CREATED:20220106T100934Z
LAST-MODIFIED:20220120T065438Z
UID:6177-1651158000-1651165200@startupagenda.nl
SUMMARY:Expert Hours
DESCRIPTION:Are you already familiar with the ‘Expert Hours’? 👀 \nAsk all your IP\, Legal\, Data & AI or Accountancy questions to experts in the field! Book an online\, free 1-on-1 on www.mijn.braventure.nl\, with one of the available experts below: \n📊 EY\n🦾 JADS Playground\n🤝 Rijksdienst voor Ondernemend Nederland (RVO)\n👩🏽‍💼 VDT Advocaten \n📆 Two monthly on Thursday form 3 – 5 pm\n💻 Sign up with your www.mijn.braventure.nl account \n 
URL:https://startupagenda.nl/event/expert-hours-7/
LOCATION:Online
ATTACH;FMTTYPE=image/jpeg:https://startupagenda.nl/wp-content/uploads/2022/01/Expert-Hours-Promo-Banner.jpg
END:VEVENT
END:VCALENDAR