BEGIN:VCALENDAR
VERSION:2.0
PRODID:-//Startup Agenda - ECPv6.15.18//NONSGML v1.0//EN
CALSCALE:GREGORIAN
METHOD:PUBLISH
X-WR-CALNAME:Startup Agenda
X-ORIGINAL-URL:https://startupagenda.nl
X-WR-CALDESC:Events for Startup Agenda
REFRESH-INTERVAL;VALUE=DURATION:PT1H
X-Robots-Tag:noindex
X-PUBLISHED-TTL:PT1H
BEGIN:VTIMEZONE
TZID:Europe/Amsterdam
BEGIN:DAYLIGHT
TZOFFSETFROM:+0100
TZOFFSETTO:+0200
TZNAME:CEST
DTSTART:20210328T010000
END:DAYLIGHT
BEGIN:STANDARD
TZOFFSETFROM:+0200
TZOFFSETTO:+0100
TZNAME:CET
DTSTART:20211031T010000
END:STANDARD
BEGIN:DAYLIGHT
TZOFFSETFROM:+0100
TZOFFSETTO:+0200
TZNAME:CEST
DTSTART:20220327T010000
END:DAYLIGHT
BEGIN:STANDARD
TZOFFSETFROM:+0200
TZOFFSETTO:+0100
TZNAME:CET
DTSTART:20221030T010000
END:STANDARD
BEGIN:DAYLIGHT
TZOFFSETFROM:+0100
TZOFFSETTO:+0200
TZNAME:CEST
DTSTART:20230326T010000
END:DAYLIGHT
BEGIN:STANDARD
TZOFFSETFROM:+0200
TZOFFSETTO:+0100
TZNAME:CET
DTSTART:20231029T010000
END:STANDARD
END:VTIMEZONE
BEGIN:VEVENT
DTSTART;TZID=Europe/Amsterdam:20220426T100000
DTEND;TZID=Europe/Amsterdam:20220426T130000
DTSTAMP:20260422T091539
CREATED:20220225T212635Z
LAST-MODIFIED:20220304T031318Z
UID:6820-1650967200-1650978000@startupagenda.nl
SUMMARY:AWS Startup Masterclasses: Build\, train\, and deploy a machine learning model with Amazon SageMaker
DESCRIPTION:Want to learn how Amazon SageMaker could help you speed up your ML model development and deployment? Join us for this workshop.\nThis is a hands-on workshop where you will learn how to use Amazon SageMaker while solving real-world ML challenges. In the workshop we will cover end-to-end ML workflow\, from data preparation and feature engineering\, tracking and management of the training process to deployment of the model as a REST API. The workshop will be using Python programming language and some basic Machine Learning knowledge will be expected.
URL:https://startupagenda.nl/event/aws-startup-masterclasses-build-train-and-deploy-a-machine-learning-model-with-amazon-sagemaker/
ATTACH;FMTTYPE=image/png:https://startupagenda.nl/wp-content/uploads/2021/12/Screenshot-2021-12-10-at-12.46.16-8lZViP.tmp_.png
END:VEVENT
END:VCALENDAR