BEGIN:VCALENDAR
VERSION:2.0
PRODID:-//Startup Agenda - ECPv6.15.18//NONSGML v1.0//EN
CALSCALE:GREGORIAN
METHOD:PUBLISH
X-WR-CALNAME:Startup Agenda
X-ORIGINAL-URL:https://startupagenda.nl
X-WR-CALDESC:Events for Startup Agenda
REFRESH-INTERVAL;VALUE=DURATION:PT1H
X-Robots-Tag:noindex
X-PUBLISHED-TTL:PT1H
BEGIN:VTIMEZONE
TZID:Europe/Brussels
BEGIN:DAYLIGHT
TZOFFSETFROM:+0100
TZOFFSETTO:+0200
TZNAME:CEST
DTSTART:20210328T010000
END:DAYLIGHT
BEGIN:STANDARD
TZOFFSETFROM:+0200
TZOFFSETTO:+0100
TZNAME:CET
DTSTART:20211031T010000
END:STANDARD
BEGIN:DAYLIGHT
TZOFFSETFROM:+0100
TZOFFSETTO:+0200
TZNAME:CEST
DTSTART:20220327T010000
END:DAYLIGHT
BEGIN:STANDARD
TZOFFSETFROM:+0200
TZOFFSETTO:+0100
TZNAME:CET
DTSTART:20221030T010000
END:STANDARD
BEGIN:DAYLIGHT
TZOFFSETFROM:+0100
TZOFFSETTO:+0200
TZNAME:CEST
DTSTART:20230326T010000
END:DAYLIGHT
BEGIN:STANDARD
TZOFFSETFROM:+0200
TZOFFSETTO:+0100
TZNAME:CET
DTSTART:20231029T010000
END:STANDARD
END:VTIMEZONE
BEGIN:VTIMEZONE
TZID:Europe/Amsterdam
BEGIN:DAYLIGHT
TZOFFSETFROM:+0100
TZOFFSETTO:+0200
TZNAME:CEST
DTSTART:20210328T010000
END:DAYLIGHT
BEGIN:STANDARD
TZOFFSETFROM:+0200
TZOFFSETTO:+0100
TZNAME:CET
DTSTART:20211031T010000
END:STANDARD
BEGIN:DAYLIGHT
TZOFFSETFROM:+0100
TZOFFSETTO:+0200
TZNAME:CEST
DTSTART:20220327T010000
END:DAYLIGHT
BEGIN:STANDARD
TZOFFSETFROM:+0200
TZOFFSETTO:+0100
TZNAME:CET
DTSTART:20221030T010000
END:STANDARD
BEGIN:DAYLIGHT
TZOFFSETFROM:+0100
TZOFFSETTO:+0200
TZNAME:CEST
DTSTART:20230326T010000
END:DAYLIGHT
BEGIN:STANDARD
TZOFFSETFROM:+0200
TZOFFSETTO:+0100
TZNAME:CET
DTSTART:20231029T010000
END:STANDARD
END:VTIMEZONE
BEGIN:VEVENT
DTSTART;TZID=Europe/Brussels:20220425T150000
DTEND;TZID=Europe/Brussels:20220425T150000
DTSTAMP:20260423T032247
CREATED:20220104T090349Z
LAST-MODIFIED:20220304T031319Z
UID:6067-1650898800-1650898800@startupagenda.nl
SUMMARY:Finance Academy (Online Workshop)
DESCRIPTION:Startup finance 💸 for dummies! Join our Finance Academy\, rated 4\,6/5 ⭐
URL:https://startupagenda.nl/event/finance-academy-online-workshop-4/
ATTACH;FMTTYPE=image/png:https://startupagenda.nl/wp-content/uploads/2021/12/frontpage_Finance_Academy-chsciy.tmp_.png
END:VEVENT
BEGIN:VEVENT
DTSTART;TZID=Europe/Amsterdam:20220425T183000
DTEND;TZID=Europe/Amsterdam:20220425T203000
DTSTAMP:20260423T032247
CREATED:20220414T081011Z
LAST-MODIFIED:20220414T094617Z
UID:7210-1650911400-1650918600@startupagenda.nl
SUMMARY:entrepreneurial networking event connecting students and startups in Eindhoven! 🤩
DESCRIPTION:Let’s talk business! Don’t miss out on this amazing entrepreneurial networking event connecting students and startups in Eindhoven! 🤩 \nKickoff EHV has invited several Dutch startups to TU/e innovation Space for a gamified networking event. The evening will kick off with a pitching round introducing the startups that are present\, after which you and your team will be engaged in speeddate rounds with the different startups. You even get the chance to win an amazing prize if you do well! 🚀 \nAnd as the name says\, you will get the opportunity to collect business cards from the startups! At the end of the event\, there will be a networking “borrel” during which we will announce the winner of the business card game! 💥 \nAll students in Eindhoven are welcome to participate! 🎓 \n📆 Date and time: Monday the 25th of April\, 18:30-20:45 \n📌 Location: Light Assembly 1st floor\, Matrix building @ TU/e Campus Eindhoven \nONLY 30 STUDENTS CAN PARTICIPATE! FIRST COME FIRST SERVE! 😮 \nSo be FAST\, and CLAIM your exclusive ticket for this unique networking opportunity before the 22nd of April\, 23:30! ⏰ \nIf the tickets are sold out\, please register for the reserve list\, and we will contact you as soon as a spot comes free! 📞 \n(this event counts as a TU/e MyFuture Activity with value 2)
URL:https://startupagenda.nl/event/entrepreneurial-networking-event-connecting-students-and-startups-in-eindhoven-%f0%9f%a4%a9/
LOCATION:TU/e\, Building Alpha\, Het Eeuwsel 57\, Eindhoven\, 5612 AS\, Netherlands
ATTACH;FMTTYPE=image/png:https://startupagenda.nl/wp-content/uploads/2022/04/Screenshot-2022-04-14-at-12.07.36.png
END:VEVENT
BEGIN:VEVENT
DTSTART;TZID=Europe/Brussels:20220425T190000
DTEND;TZID=Europe/Brussels:20220425T210000
DTSTAMP:20260423T032248
CREATED:20220221T085327Z
LAST-MODIFIED:20220404T084412Z
UID:6749-1650913200-1650920400@startupagenda.nl
SUMMARY:The Road Symposium\, the largest entrepreneurial symposium in the southern Netherlands is back!
DESCRIPTION:On April 25th\, the Academic Business Club will organize the 15th edition of The Road Symposium. This is the largest symposium on entrepreneurship of the Southern Netherlands\, organized by and for students. It is an evening event focused on entrepreneurship with the main goal to stimulate entrepreneurship. Sign up now for a free ticket! \nMore information\n\nWhat is the key to success of the Netherlands’ greatest entrepreneurs? Under the guidance of the chairman of the day\, top entrepreneurs will tell their story. Afterwards we will hold a panel discussion in which you can also get involved! \nThe show will be full of interaction so that you as a viewer can be right in the middle of the action from your own home. Tickets are free and the event will be streamed online from the Tilburg high-tech studio\, First Impression. So sign up here for your free ticket and get inspired!
URL:https://startupagenda.nl/event/the-road-symposium-the-largest-entrepreneurial-symposium-in-the-southern-netherlands-is-back/
CATEGORIES:Network Event,Online Events
ATTACH;FMTTYPE=image/png:https://startupagenda.nl/wp-content/uploads/2022/02/Screenshot-2022-03-22-at-12.11.20.png
END:VEVENT
END:VCALENDAR