BEGIN:VCALENDAR
VERSION:2.0
PRODID:-//Startup Agenda - ECPv6.15.18//NONSGML v1.0//EN
CALSCALE:GREGORIAN
METHOD:PUBLISH
X-WR-CALNAME:Startup Agenda
X-ORIGINAL-URL:https://startupagenda.nl
X-WR-CALDESC:Events for Startup Agenda
REFRESH-INTERVAL;VALUE=DURATION:PT1H
X-Robots-Tag:noindex
X-PUBLISHED-TTL:PT1H
BEGIN:VTIMEZONE
TZID:Europe/Amsterdam
BEGIN:DAYLIGHT
TZOFFSETFROM:+0100
TZOFFSETTO:+0200
TZNAME:CEST
DTSTART:20210328T010000
END:DAYLIGHT
BEGIN:STANDARD
TZOFFSETFROM:+0200
TZOFFSETTO:+0100
TZNAME:CET
DTSTART:20211031T010000
END:STANDARD
BEGIN:DAYLIGHT
TZOFFSETFROM:+0100
TZOFFSETTO:+0200
TZNAME:CEST
DTSTART:20220327T010000
END:DAYLIGHT
BEGIN:STANDARD
TZOFFSETFROM:+0200
TZOFFSETTO:+0100
TZNAME:CET
DTSTART:20221030T010000
END:STANDARD
BEGIN:DAYLIGHT
TZOFFSETFROM:+0100
TZOFFSETTO:+0200
TZNAME:CEST
DTSTART:20230326T010000
END:DAYLIGHT
BEGIN:STANDARD
TZOFFSETFROM:+0200
TZOFFSETTO:+0100
TZNAME:CET
DTSTART:20231029T010000
END:STANDARD
END:VTIMEZONE
BEGIN:VTIMEZONE
TZID:Europe/Brussels
BEGIN:DAYLIGHT
TZOFFSETFROM:+0100
TZOFFSETTO:+0200
TZNAME:CEST
DTSTART:20210328T010000
END:DAYLIGHT
BEGIN:STANDARD
TZOFFSETFROM:+0200
TZOFFSETTO:+0100
TZNAME:CET
DTSTART:20211031T010000
END:STANDARD
BEGIN:DAYLIGHT
TZOFFSETFROM:+0100
TZOFFSETTO:+0200
TZNAME:CEST
DTSTART:20220327T010000
END:DAYLIGHT
BEGIN:STANDARD
TZOFFSETFROM:+0200
TZOFFSETTO:+0100
TZNAME:CET
DTSTART:20221030T010000
END:STANDARD
BEGIN:DAYLIGHT
TZOFFSETFROM:+0100
TZOFFSETTO:+0200
TZNAME:CEST
DTSTART:20230326T010000
END:DAYLIGHT
BEGIN:STANDARD
TZOFFSETFROM:+0200
TZOFFSETTO:+0100
TZNAME:CET
DTSTART:20231029T010000
END:STANDARD
END:VTIMEZONE
BEGIN:VEVENT
DTSTART;TZID=Europe/Amsterdam:20220415T090000
DTEND;TZID=Europe/Amsterdam:20220415T100000
DTSTAMP:20260419T143411
CREATED:20220414T080351Z
LAST-MODIFIED:20220414T080351Z
UID:7200-1650013200-1650016800@startupagenda.nl
SUMMARY:Draper’s Silicon Fall Pitch Prize. Deadline June 21st
DESCRIPTION:We’re getting ready for another cool pitch event\, Draper’s Silicon Fall Pitch Prize. The deadline for startups is June 21st and the event takes place July 5th. \nFruitPunch AI won the “Golden Ticket” at last year’s event\, which included an all-expenses-paid trip to Silicon Valley and Draper University’s five-week Hero Training Program. \nThis ultimate Silicon Valley accelerator experience is designed to provide founders with the skills\, mindset and network to take their ventures to the next level with unprecedented speed and impact. \n“We are super grateful for the opportunity to partake in the Draper pitch event\, especially after winning the competition by a landslide\,” said FruitPunch AI CTO and co-founder Sako Arts. “We are very excited to attend the Draper University program this summer. For us\, it is the perfect opportunity to meet investors for our upcoming round of U.S.-focused investment.” \n𝗣𝗶𝘁𝗰𝗵𝗶𝗻𝗴 𝗙𝗶𝗻𝗮𝗹𝘀\nJuly 5\, 16:00-19:30\nHigh Tech Campus Eindhoven\nSubmission deadline: June 21\, 2022 \nStartups are invited to submit their pitch decks and motivation by June 21st: goldenticket@lumolabs.io.
URL:https://startupagenda.nl/event/drapers-silicon-fall-pitch-prize-deadline-june-21st/
CATEGORIES:Competitions
ATTACH;FMTTYPE=image/png:https://startupagenda.nl/wp-content/uploads/2022/04/Screenshot-2022-04-14-at-12.00.05.png
END:VEVENT
BEGIN:VEVENT
DTSTART;TZID=Europe/Brussels:20220415T150000
DTEND;TZID=Europe/Brussels:20220415T150000
DTSTAMP:20260419T143411
CREATED:20220203T065233Z
LAST-MODIFIED:20220304T031319Z
UID:6534-1650034800-1650034800@startupagenda.nl
SUMMARY:Round Table Session Amsterdam & Berlin (Online Event)
DESCRIPTION:Meet investors & startups live 💬! For investors 💸: meet new startups\, and spot trends. For startups 🚀: test your story with real investors. It’s casual: everyone is contributing. Join the Round Table Session.
URL:https://startupagenda.nl/event/round-table-session-amsterdam-berlin-online-event-12/
CATEGORIES:Online Events
ATTACH;FMTTYPE=image/png:https://startupagenda.nl/wp-content/uploads/2021/12/frontpage_RTS_Amsterdam___Berlin_Events-SoHYLx.tmp_.png
END:VEVENT
END:VCALENDAR